BEGIN:VCALENDAR
VERSION:2.0
PRODID:-//AV8MAPS.COM - ECPv6.15.20//NONSGML v1.0//EN
CALSCALE:GREGORIAN
METHOD:PUBLISH
X-WR-CALNAME:AV8MAPS.COM
X-ORIGINAL-URL:https://av8maps.com
X-WR-CALDESC:Events for AV8MAPS.COM
REFRESH-INTERVAL;VALUE=DURATION:PT1H
X-Robots-Tag:noindex
X-PUBLISHED-TTL:PT1H
BEGIN:VTIMEZONE
TZID:America/New_York
BEGIN:DAYLIGHT
TZOFFSETFROM:-0500
TZOFFSETTO:-0400
TZNAME:EDT
DTSTART:20250309T070000
END:DAYLIGHT
BEGIN:STANDARD
TZOFFSETFROM:-0400
TZOFFSETTO:-0500
TZNAME:EST
DTSTART:20251102T060000
END:STANDARD
BEGIN:DAYLIGHT
TZOFFSETFROM:-0500
TZOFFSETTO:-0400
TZNAME:EDT
DTSTART:20260308T070000
END:DAYLIGHT
BEGIN:STANDARD
TZOFFSETFROM:-0400
TZOFFSETTO:-0500
TZNAME:EST
DTSTART:20261101T060000
END:STANDARD
BEGIN:DAYLIGHT
TZOFFSETFROM:-0500
TZOFFSETTO:-0400
TZNAME:EDT
DTSTART:20270314T070000
END:DAYLIGHT
BEGIN:STANDARD
TZOFFSETFROM:-0400
TZOFFSETTO:-0500
TZNAME:EST
DTSTART:20271107T060000
END:STANDARD
BEGIN:DAYLIGHT
TZOFFSETFROM:-0500
TZOFFSETTO:-0400
TZNAME:EDT
DTSTART:20280312T070000
END:DAYLIGHT
BEGIN:STANDARD
TZOFFSETFROM:-0400
TZOFFSETTO:-0500
TZNAME:EST
DTSTART:20281105T060000
END:STANDARD
BEGIN:DAYLIGHT
TZOFFSETFROM:-0500
TZOFFSETTO:-0400
TZNAME:EDT
DTSTART:20290311T070000
END:DAYLIGHT
BEGIN:STANDARD
TZOFFSETFROM:-0400
TZOFFSETTO:-0500
TZNAME:EST
DTSTART:20291104T060000
END:STANDARD
BEGIN:DAYLIGHT
TZOFFSETFROM:-0500
TZOFFSETTO:-0400
TZNAME:EDT
DTSTART:20300310T070000
END:DAYLIGHT
BEGIN:STANDARD
TZOFFSETFROM:-0400
TZOFFSETTO:-0500
TZNAME:EST
DTSTART:20301103T060000
END:STANDARD
BEGIN:DAYLIGHT
TZOFFSETFROM:-0500
TZOFFSETTO:-0400
TZNAME:EDT
DTSTART:20310309T070000
END:DAYLIGHT
BEGIN:STANDARD
TZOFFSETFROM:-0400
TZOFFSETTO:-0500
TZNAME:EST
DTSTART:20311102T060000
END:STANDARD
END:VTIMEZONE
BEGIN:VEVENT
DTSTART;TZID=America/New_York:20261107T090000
DTEND;TZID=America/New_York:20261107T170000
DTSTAMP:20260423T223138
CREATED:20251010T190256Z
LAST-MODIFIED:20251102T183221Z
UID:10004595-1794042000-1794070800@av8maps.com
SUMMARY:Breakfast with Santa (KCTJ)
DESCRIPTION:Mark your calendars! Our airport will be hosting its first ever Toys For Tots event! There will be hot cocoa\, pancakes\, activities for the kids\, and much more! Oh\, and you can watch toys get loaded up onto The Liberty Foundation’s C-47 and have your picture taken with Santa! Spread the word\, we’ll see you at 9 am!
URL:https://av8maps.com/event/breakfast-with-santa-kctj/2026-11-07/
LOCATION:West Georgia Regional Airport\, 635 Regional Airport Rd\, Carrollton\, GA 30117
ATTACH;FMTTYPE=image/jpeg:https://av8maps.com/wp-content/uploads/2025/10/Breakfast-with-Santa-KCTJ-e1760122964724.jpg
GEO:33.6321639;-85.1553869
X-APPLE-STRUCTURED-LOCATION;VALUE=URI;X-ADDRESS=West Georgia Regional Airport 635 Regional Airport Rd Carrollton GA 30117;X-APPLE-RADIUS=500;X-TITLE=635 Regional Airport Rd\, Carrollton\, GA 30117:geo:-85.1553869,33.6321639
END:VEVENT
BEGIN:VEVENT
DTSTART;TZID=America/New_York:20271106T090000
DTEND;TZID=America/New_York:20271106T170000
DTSTAMP:20260423T223138
CREATED:20251010T190256Z
LAST-MODIFIED:20251102T183221Z
UID:10004596-1825491600-1825520400@av8maps.com
SUMMARY:Breakfast with Santa (KCTJ)
DESCRIPTION:Mark your calendars! Our airport will be hosting its first ever Toys For Tots event! There will be hot cocoa\, pancakes\, activities for the kids\, and much more! Oh\, and you can watch toys get loaded up onto The Liberty Foundation’s C-47 and have your picture taken with Santa! Spread the word\, we’ll see you at 9 am!
URL:https://av8maps.com/event/breakfast-with-santa-kctj/2027-11-06/
LOCATION:West Georgia Regional Airport\, 635 Regional Airport Rd\, Carrollton\, GA 30117
ATTACH;FMTTYPE=image/jpeg:https://av8maps.com/wp-content/uploads/2025/10/Breakfast-with-Santa-KCTJ-e1760122964724.jpg
GEO:33.6321639;-85.1553869
X-APPLE-STRUCTURED-LOCATION;VALUE=URI;X-ADDRESS=West Georgia Regional Airport 635 Regional Airport Rd Carrollton GA 30117;X-APPLE-RADIUS=500;X-TITLE=635 Regional Airport Rd\, Carrollton\, GA 30117:geo:-85.1553869,33.6321639
END:VEVENT
BEGIN:VEVENT
DTSTART;TZID=America/New_York:20281104T090000
DTEND;TZID=America/New_York:20281104T170000
DTSTAMP:20260423T223138
CREATED:20251010T190256Z
LAST-MODIFIED:20251102T183221Z
UID:10004597-1856941200-1856970000@av8maps.com
SUMMARY:Breakfast with Santa (KCTJ)
DESCRIPTION:Mark your calendars! Our airport will be hosting its first ever Toys For Tots event! There will be hot cocoa\, pancakes\, activities for the kids\, and much more! Oh\, and you can watch toys get loaded up onto The Liberty Foundation’s C-47 and have your picture taken with Santa! Spread the word\, we’ll see you at 9 am!
URL:https://av8maps.com/event/breakfast-with-santa-kctj/2028-11-04/
LOCATION:West Georgia Regional Airport\, 635 Regional Airport Rd\, Carrollton\, GA 30117
ATTACH;FMTTYPE=image/jpeg:https://av8maps.com/wp-content/uploads/2025/10/Breakfast-with-Santa-KCTJ-e1760122964724.jpg
GEO:33.6321639;-85.1553869
X-APPLE-STRUCTURED-LOCATION;VALUE=URI;X-ADDRESS=West Georgia Regional Airport 635 Regional Airport Rd Carrollton GA 30117;X-APPLE-RADIUS=500;X-TITLE=635 Regional Airport Rd\, Carrollton\, GA 30117:geo:-85.1553869,33.6321639
END:VEVENT
BEGIN:VEVENT
DTSTART;TZID=America/New_York:20291103T090000
DTEND;TZID=America/New_York:20291103T170000
DTSTAMP:20260423T223138
CREATED:20251010T190256Z
LAST-MODIFIED:20251102T183221Z
UID:10004598-1888390800-1888419600@av8maps.com
SUMMARY:Breakfast with Santa (KCTJ)
DESCRIPTION:Mark your calendars! Our airport will be hosting its first ever Toys For Tots event! There will be hot cocoa\, pancakes\, activities for the kids\, and much more! Oh\, and you can watch toys get loaded up onto The Liberty Foundation’s C-47 and have your picture taken with Santa! Spread the word\, we’ll see you at 9 am!
URL:https://av8maps.com/event/breakfast-with-santa-kctj/2029-11-03/
LOCATION:West Georgia Regional Airport\, 635 Regional Airport Rd\, Carrollton\, GA 30117
ATTACH;FMTTYPE=image/jpeg:https://av8maps.com/wp-content/uploads/2025/10/Breakfast-with-Santa-KCTJ-e1760122964724.jpg
GEO:33.6321639;-85.1553869
X-APPLE-STRUCTURED-LOCATION;VALUE=URI;X-ADDRESS=West Georgia Regional Airport 635 Regional Airport Rd Carrollton GA 30117;X-APPLE-RADIUS=500;X-TITLE=635 Regional Airport Rd\, Carrollton\, GA 30117:geo:-85.1553869,33.6321639
END:VEVENT
BEGIN:VEVENT
DTSTART;TZID=America/New_York:20301102T090000
DTEND;TZID=America/New_York:20301102T170000
DTSTAMP:20260423T223138
CREATED:20251010T190256Z
LAST-MODIFIED:20251102T183221Z
UID:10004599-1919840400-1919869200@av8maps.com
SUMMARY:Breakfast with Santa (KCTJ)
DESCRIPTION:Mark your calendars! Our airport will be hosting its first ever Toys For Tots event! There will be hot cocoa\, pancakes\, activities for the kids\, and much more! Oh\, and you can watch toys get loaded up onto The Liberty Foundation’s C-47 and have your picture taken with Santa! Spread the word\, we’ll see you at 9 am!
URL:https://av8maps.com/event/breakfast-with-santa-kctj/2030-11-02/
LOCATION:West Georgia Regional Airport\, 635 Regional Airport Rd\, Carrollton\, GA 30117
ATTACH;FMTTYPE=image/jpeg:https://av8maps.com/wp-content/uploads/2025/10/Breakfast-with-Santa-KCTJ-e1760122964724.jpg
GEO:33.6321639;-85.1553869
X-APPLE-STRUCTURED-LOCATION;VALUE=URI;X-ADDRESS=West Georgia Regional Airport 635 Regional Airport Rd Carrollton GA 30117;X-APPLE-RADIUS=500;X-TITLE=635 Regional Airport Rd\, Carrollton\, GA 30117:geo:-85.1553869,33.6321639
END:VEVENT
END:VCALENDAR