BEGIN:VCALENDAR
VERSION:2.0
PRODID:-//AV8MAPS.COM - ECPv6.15.20//NONSGML v1.0//EN
CALSCALE:GREGORIAN
METHOD:PUBLISH
X-WR-CALNAME:AV8MAPS.COM
X-ORIGINAL-URL:https://av8maps.com
X-WR-CALDESC:Events for AV8MAPS.COM
REFRESH-INTERVAL;VALUE=DURATION:PT1H
X-Robots-Tag:noindex
X-PUBLISHED-TTL:PT1H
BEGIN:VTIMEZONE
TZID:America/New_York
BEGIN:DAYLIGHT
TZOFFSETFROM:-0500
TZOFFSETTO:-0400
TZNAME:EDT
DTSTART:20250309T070000
END:DAYLIGHT
BEGIN:STANDARD
TZOFFSETFROM:-0400
TZOFFSETTO:-0500
TZNAME:EST
DTSTART:20251102T060000
END:STANDARD
BEGIN:DAYLIGHT
TZOFFSETFROM:-0500
TZOFFSETTO:-0400
TZNAME:EDT
DTSTART:20260308T070000
END:DAYLIGHT
BEGIN:STANDARD
TZOFFSETFROM:-0400
TZOFFSETTO:-0500
TZNAME:EST
DTSTART:20261101T060000
END:STANDARD
BEGIN:DAYLIGHT
TZOFFSETFROM:-0500
TZOFFSETTO:-0400
TZNAME:EDT
DTSTART:20270314T070000
END:DAYLIGHT
BEGIN:STANDARD
TZOFFSETFROM:-0400
TZOFFSETTO:-0500
TZNAME:EST
DTSTART:20271107T060000
END:STANDARD
BEGIN:DAYLIGHT
TZOFFSETFROM:-0500
TZOFFSETTO:-0400
TZNAME:EDT
DTSTART:20280312T070000
END:DAYLIGHT
BEGIN:STANDARD
TZOFFSETFROM:-0400
TZOFFSETTO:-0500
TZNAME:EST
DTSTART:20281105T060000
END:STANDARD
BEGIN:DAYLIGHT
TZOFFSETFROM:-0500
TZOFFSETTO:-0400
TZNAME:EDT
DTSTART:20290311T070000
END:DAYLIGHT
BEGIN:STANDARD
TZOFFSETFROM:-0400
TZOFFSETTO:-0500
TZNAME:EST
DTSTART:20291104T060000
END:STANDARD
BEGIN:DAYLIGHT
TZOFFSETFROM:-0500
TZOFFSETTO:-0400
TZNAME:EDT
DTSTART:20300310T070000
END:DAYLIGHT
BEGIN:STANDARD
TZOFFSETFROM:-0400
TZOFFSETTO:-0500
TZNAME:EST
DTSTART:20301103T060000
END:STANDARD
BEGIN:DAYLIGHT
TZOFFSETFROM:-0500
TZOFFSETTO:-0400
TZNAME:EDT
DTSTART:20310309T070000
END:DAYLIGHT
BEGIN:STANDARD
TZOFFSETFROM:-0400
TZOFFSETTO:-0500
TZNAME:EST
DTSTART:20311102T060000
END:STANDARD
END:VTIMEZONE
BEGIN:VEVENT
DTSTART;TZID=America/New_York:20261024T070000
DTEND;TZID=America/New_York:20261024T110000
DTSTAMP:20260423T092236
CREATED:20251010T191624Z
LAST-MODIFIED:20251102T183344Z
UID:10004600-1792825200-1792839600@av8maps.com
SUMMARY:Planes and Coffee (KOLS)
DESCRIPTION:Join us at Copper Mountain Air\, Nogales Arizona for planes & coffee!  We’re combining the thrill of aviation with the comfort of your favorite brew. Come see amazing aircraft up close\, chat with pilots\, and enjoy some delicious coffee.\n\n\nIt’s almost Halloween\, we’re encouraging everyone to come dressed in their best costumes! Let’s make this event spooktacular!
URL:https://av8maps.com/event/planes-and-coffee-kols-2/2026-10-24/
LOCATION:Nogales Intl Airport\, 11 Access Wy\,\, Nogales\, AZ\, 85621
ATTACH;FMTTYPE=image/jpeg:https://av8maps.com/wp-content/uploads/2025/10/Planes-and-Coffee-Mountain-Air-e1760123774426.jpg
GEO:31.4177278;-110.8485863
X-APPLE-STRUCTURED-LOCATION;VALUE=URI;X-ADDRESS=Nogales Intl Airport 11 Access Wy Nogales AZ 85621;X-APPLE-RADIUS=500;X-TITLE=11 Access Wy\,:geo:-110.8485863,31.4177278
END:VEVENT
BEGIN:VEVENT
DTSTART;TZID=America/New_York:20271023T070000
DTEND;TZID=America/New_York:20271023T110000
DTSTAMP:20260423T092236
CREATED:20251010T191624Z
LAST-MODIFIED:20251102T183344Z
UID:10004601-1824274800-1824289200@av8maps.com
SUMMARY:Planes and Coffee (KOLS)
DESCRIPTION:Join us at Copper Mountain Air\, Nogales Arizona for planes & coffee!  We’re combining the thrill of aviation with the comfort of your favorite brew. Come see amazing aircraft up close\, chat with pilots\, and enjoy some delicious coffee.\n\n\nIt’s almost Halloween\, we’re encouraging everyone to come dressed in their best costumes! Let’s make this event spooktacular!
URL:https://av8maps.com/event/planes-and-coffee-kols-2/2027-10-23/
LOCATION:Nogales Intl Airport\, 11 Access Wy\,\, Nogales\, AZ\, 85621
ATTACH;FMTTYPE=image/jpeg:https://av8maps.com/wp-content/uploads/2025/10/Planes-and-Coffee-Mountain-Air-e1760123774426.jpg
GEO:31.4177278;-110.8485863
X-APPLE-STRUCTURED-LOCATION;VALUE=URI;X-ADDRESS=Nogales Intl Airport 11 Access Wy Nogales AZ 85621;X-APPLE-RADIUS=500;X-TITLE=11 Access Wy\,:geo:-110.8485863,31.4177278
END:VEVENT
BEGIN:VEVENT
DTSTART;TZID=America/New_York:20281028T070000
DTEND;TZID=America/New_York:20281028T110000
DTSTAMP:20260423T092236
CREATED:20251010T191624Z
LAST-MODIFIED:20251102T183344Z
UID:10004602-1856329200-1856343600@av8maps.com
SUMMARY:Planes and Coffee (KOLS)
DESCRIPTION:Join us at Copper Mountain Air\, Nogales Arizona for planes & coffee!  We’re combining the thrill of aviation with the comfort of your favorite brew. Come see amazing aircraft up close\, chat with pilots\, and enjoy some delicious coffee.\n\n\nIt’s almost Halloween\, we’re encouraging everyone to come dressed in their best costumes! Let’s make this event spooktacular!
URL:https://av8maps.com/event/planes-and-coffee-kols-2/2028-10-28/
LOCATION:Nogales Intl Airport\, 11 Access Wy\,\, Nogales\, AZ\, 85621
ATTACH;FMTTYPE=image/jpeg:https://av8maps.com/wp-content/uploads/2025/10/Planes-and-Coffee-Mountain-Air-e1760123774426.jpg
GEO:31.4177278;-110.8485863
X-APPLE-STRUCTURED-LOCATION;VALUE=URI;X-ADDRESS=Nogales Intl Airport 11 Access Wy Nogales AZ 85621;X-APPLE-RADIUS=500;X-TITLE=11 Access Wy\,:geo:-110.8485863,31.4177278
END:VEVENT
BEGIN:VEVENT
DTSTART;TZID=America/New_York:20291027T070000
DTEND;TZID=America/New_York:20291027T110000
DTSTAMP:20260423T092236
CREATED:20251010T191624Z
LAST-MODIFIED:20251102T183344Z
UID:10004603-1887778800-1887793200@av8maps.com
SUMMARY:Planes and Coffee (KOLS)
DESCRIPTION:Join us at Copper Mountain Air\, Nogales Arizona for planes & coffee!  We’re combining the thrill of aviation with the comfort of your favorite brew. Come see amazing aircraft up close\, chat with pilots\, and enjoy some delicious coffee.\n\n\nIt’s almost Halloween\, we’re encouraging everyone to come dressed in their best costumes! Let’s make this event spooktacular!
URL:https://av8maps.com/event/planes-and-coffee-kols-2/2029-10-27/
LOCATION:Nogales Intl Airport\, 11 Access Wy\,\, Nogales\, AZ\, 85621
ATTACH;FMTTYPE=image/jpeg:https://av8maps.com/wp-content/uploads/2025/10/Planes-and-Coffee-Mountain-Air-e1760123774426.jpg
GEO:31.4177278;-110.8485863
X-APPLE-STRUCTURED-LOCATION;VALUE=URI;X-ADDRESS=Nogales Intl Airport 11 Access Wy Nogales AZ 85621;X-APPLE-RADIUS=500;X-TITLE=11 Access Wy\,:geo:-110.8485863,31.4177278
END:VEVENT
BEGIN:VEVENT
DTSTART;TZID=America/New_York:20301026T070000
DTEND;TZID=America/New_York:20301026T110000
DTSTAMP:20260423T092236
CREATED:20251010T191624Z
LAST-MODIFIED:20251102T183344Z
UID:10004604-1919228400-1919242800@av8maps.com
SUMMARY:Planes and Coffee (KOLS)
DESCRIPTION:Join us at Copper Mountain Air\, Nogales Arizona for planes & coffee!  We’re combining the thrill of aviation with the comfort of your favorite brew. Come see amazing aircraft up close\, chat with pilots\, and enjoy some delicious coffee.\n\n\nIt’s almost Halloween\, we’re encouraging everyone to come dressed in their best costumes! Let’s make this event spooktacular!
URL:https://av8maps.com/event/planes-and-coffee-kols-2/2030-10-26/
LOCATION:Nogales Intl Airport\, 11 Access Wy\,\, Nogales\, AZ\, 85621
ATTACH;FMTTYPE=image/jpeg:https://av8maps.com/wp-content/uploads/2025/10/Planes-and-Coffee-Mountain-Air-e1760123774426.jpg
GEO:31.4177278;-110.8485863
X-APPLE-STRUCTURED-LOCATION;VALUE=URI;X-ADDRESS=Nogales Intl Airport 11 Access Wy Nogales AZ 85621;X-APPLE-RADIUS=500;X-TITLE=11 Access Wy\,:geo:-110.8485863,31.4177278
END:VEVENT
END:VCALENDAR