BEGIN:VCALENDAR
VERSION:2.0
PRODID:-//AV8MAPS.COM - ECPv6.15.20//NONSGML v1.0//EN
CALSCALE:GREGORIAN
METHOD:PUBLISH
X-WR-CALNAME:AV8MAPS.COM
X-ORIGINAL-URL:https://av8maps.com
X-WR-CALDESC:Events for AV8MAPS.COM
REFRESH-INTERVAL;VALUE=DURATION:PT1H
X-Robots-Tag:noindex
X-PUBLISHED-TTL:PT1H
BEGIN:VTIMEZONE
TZID:America/New_York
BEGIN:DAYLIGHT
TZOFFSETFROM:-0500
TZOFFSETTO:-0400
TZNAME:EDT
DTSTART:20250309T070000
END:DAYLIGHT
BEGIN:STANDARD
TZOFFSETFROM:-0400
TZOFFSETTO:-0500
TZNAME:EST
DTSTART:20251102T060000
END:STANDARD
BEGIN:DAYLIGHT
TZOFFSETFROM:-0500
TZOFFSETTO:-0400
TZNAME:EDT
DTSTART:20260308T070000
END:DAYLIGHT
BEGIN:STANDARD
TZOFFSETFROM:-0400
TZOFFSETTO:-0500
TZNAME:EST
DTSTART:20261101T060000
END:STANDARD
BEGIN:DAYLIGHT
TZOFFSETFROM:-0500
TZOFFSETTO:-0400
TZNAME:EDT
DTSTART:20270314T070000
END:DAYLIGHT
BEGIN:STANDARD
TZOFFSETFROM:-0400
TZOFFSETTO:-0500
TZNAME:EST
DTSTART:20271107T060000
END:STANDARD
BEGIN:DAYLIGHT
TZOFFSETFROM:-0500
TZOFFSETTO:-0400
TZNAME:EDT
DTSTART:20280312T070000
END:DAYLIGHT
BEGIN:STANDARD
TZOFFSETFROM:-0400
TZOFFSETTO:-0500
TZNAME:EST
DTSTART:20281105T060000
END:STANDARD
BEGIN:DAYLIGHT
TZOFFSETFROM:-0500
TZOFFSETTO:-0400
TZNAME:EDT
DTSTART:20290311T070000
END:DAYLIGHT
BEGIN:STANDARD
TZOFFSETFROM:-0400
TZOFFSETTO:-0500
TZNAME:EST
DTSTART:20291104T060000
END:STANDARD
BEGIN:DAYLIGHT
TZOFFSETFROM:-0500
TZOFFSETTO:-0400
TZNAME:EDT
DTSTART:20300310T070000
END:DAYLIGHT
BEGIN:STANDARD
TZOFFSETFROM:-0400
TZOFFSETTO:-0500
TZNAME:EST
DTSTART:20301103T060000
END:STANDARD
BEGIN:DAYLIGHT
TZOFFSETFROM:-0500
TZOFFSETTO:-0400
TZNAME:EDT
DTSTART:20310309T070000
END:DAYLIGHT
BEGIN:STANDARD
TZOFFSETFROM:-0400
TZOFFSETTO:-0500
TZNAME:EST
DTSTART:20311102T060000
END:STANDARD
END:VTIMEZONE
BEGIN:VEVENT
DTSTART;TZID=America/New_York:20261017T170000
DTEND;TZID=America/New_York:20261017T210000
DTSTAMP:20260423T051526
CREATED:20251014T220942Z
LAST-MODIFIED:20251102T190042Z
UID:10004616-1792256400-1792270800@av8maps.com
SUMMARY:Annual Planes and Treats (KRAL)
DESCRIPTION:Hey RIVERSIDERS it’s about that time\nAnnual Planes & Treats in FULL EFFECT\nI started this 4 years ago with the intent to give the community a new way of having some fun and WOW how fast it’s grown. Like they always say ROME WAS NOT BUILT IN A DAY and neither will this amazing event. It truly takes a village to make something right\, so with the help of my amazing city RIVERSIDE they are helping me perfect this event so you can all enjoy \nSave the date
URL:https://av8maps.com/event/4th-annual-planes-and-treats-kral/2026-10-17/
LOCATION:Riverside Municipal Airport\, 6951 Flight Rd\, Riverside\, CA 92504
ATTACH;FMTTYPE=image/jpeg:https://av8maps.com/wp-content/uploads/2025/10/Planes-and-Treats-KRAL.jpg
GEO:33.950697;-117.4458655
X-APPLE-STRUCTURED-LOCATION;VALUE=URI;X-ADDRESS=Riverside Municipal Airport 6951 Flight Rd Riverside CA 92504;X-APPLE-RADIUS=500;X-TITLE=6951 Flight Rd\, Riverside\, CA 92504:geo:-117.4458655,33.950697
END:VEVENT
BEGIN:VEVENT
DTSTART;TZID=America/New_York:20271016T170000
DTEND;TZID=America/New_York:20271016T210000
DTSTAMP:20260423T051526
CREATED:20251014T220942Z
LAST-MODIFIED:20251102T190042Z
UID:10004617-1823706000-1823720400@av8maps.com
SUMMARY:Annual Planes and Treats (KRAL)
DESCRIPTION:Hey RIVERSIDERS it’s about that time\nAnnual Planes & Treats in FULL EFFECT\nI started this 4 years ago with the intent to give the community a new way of having some fun and WOW how fast it’s grown. Like they always say ROME WAS NOT BUILT IN A DAY and neither will this amazing event. It truly takes a village to make something right\, so with the help of my amazing city RIVERSIDE they are helping me perfect this event so you can all enjoy \nSave the date
URL:https://av8maps.com/event/4th-annual-planes-and-treats-kral/2027-10-16/
LOCATION:Riverside Municipal Airport\, 6951 Flight Rd\, Riverside\, CA 92504
ATTACH;FMTTYPE=image/jpeg:https://av8maps.com/wp-content/uploads/2025/10/Planes-and-Treats-KRAL.jpg
GEO:33.950697;-117.4458655
X-APPLE-STRUCTURED-LOCATION;VALUE=URI;X-ADDRESS=Riverside Municipal Airport 6951 Flight Rd Riverside CA 92504;X-APPLE-RADIUS=500;X-TITLE=6951 Flight Rd\, Riverside\, CA 92504:geo:-117.4458655,33.950697
END:VEVENT
BEGIN:VEVENT
DTSTART;TZID=America/New_York:20281021T170000
DTEND;TZID=America/New_York:20281021T210000
DTSTAMP:20260423T051526
CREATED:20251014T220942Z
LAST-MODIFIED:20251102T190042Z
UID:10004618-1855760400-1855774800@av8maps.com
SUMMARY:Annual Planes and Treats (KRAL)
DESCRIPTION:Hey RIVERSIDERS it’s about that time\nAnnual Planes & Treats in FULL EFFECT\nI started this 4 years ago with the intent to give the community a new way of having some fun and WOW how fast it’s grown. Like they always say ROME WAS NOT BUILT IN A DAY and neither will this amazing event. It truly takes a village to make something right\, so with the help of my amazing city RIVERSIDE they are helping me perfect this event so you can all enjoy \nSave the date
URL:https://av8maps.com/event/4th-annual-planes-and-treats-kral/2028-10-21/
LOCATION:Riverside Municipal Airport\, 6951 Flight Rd\, Riverside\, CA 92504
ATTACH;FMTTYPE=image/jpeg:https://av8maps.com/wp-content/uploads/2025/10/Planes-and-Treats-KRAL.jpg
GEO:33.950697;-117.4458655
X-APPLE-STRUCTURED-LOCATION;VALUE=URI;X-ADDRESS=Riverside Municipal Airport 6951 Flight Rd Riverside CA 92504;X-APPLE-RADIUS=500;X-TITLE=6951 Flight Rd\, Riverside\, CA 92504:geo:-117.4458655,33.950697
END:VEVENT
BEGIN:VEVENT
DTSTART;TZID=America/New_York:20291020T170000
DTEND;TZID=America/New_York:20291020T210000
DTSTAMP:20260423T051526
CREATED:20251014T220942Z
LAST-MODIFIED:20251102T190042Z
UID:10004619-1887210000-1887224400@av8maps.com
SUMMARY:Annual Planes and Treats (KRAL)
DESCRIPTION:Hey RIVERSIDERS it’s about that time\nAnnual Planes & Treats in FULL EFFECT\nI started this 4 years ago with the intent to give the community a new way of having some fun and WOW how fast it’s grown. Like they always say ROME WAS NOT BUILT IN A DAY and neither will this amazing event. It truly takes a village to make something right\, so with the help of my amazing city RIVERSIDE they are helping me perfect this event so you can all enjoy \nSave the date
URL:https://av8maps.com/event/4th-annual-planes-and-treats-kral/2029-10-20/
LOCATION:Riverside Municipal Airport\, 6951 Flight Rd\, Riverside\, CA 92504
ATTACH;FMTTYPE=image/jpeg:https://av8maps.com/wp-content/uploads/2025/10/Planes-and-Treats-KRAL.jpg
GEO:33.950697;-117.4458655
X-APPLE-STRUCTURED-LOCATION;VALUE=URI;X-ADDRESS=Riverside Municipal Airport 6951 Flight Rd Riverside CA 92504;X-APPLE-RADIUS=500;X-TITLE=6951 Flight Rd\, Riverside\, CA 92504:geo:-117.4458655,33.950697
END:VEVENT
BEGIN:VEVENT
DTSTART;TZID=America/New_York:20301019T170000
DTEND;TZID=America/New_York:20301019T210000
DTSTAMP:20260423T051526
CREATED:20251014T220942Z
LAST-MODIFIED:20251102T190042Z
UID:10004620-1918659600-1918674000@av8maps.com
SUMMARY:Annual Planes and Treats (KRAL)
DESCRIPTION:Hey RIVERSIDERS it’s about that time\nAnnual Planes & Treats in FULL EFFECT\nI started this 4 years ago with the intent to give the community a new way of having some fun and WOW how fast it’s grown. Like they always say ROME WAS NOT BUILT IN A DAY and neither will this amazing event. It truly takes a village to make something right\, so with the help of my amazing city RIVERSIDE they are helping me perfect this event so you can all enjoy \nSave the date
URL:https://av8maps.com/event/4th-annual-planes-and-treats-kral/2030-10-19/
LOCATION:Riverside Municipal Airport\, 6951 Flight Rd\, Riverside\, CA 92504
ATTACH;FMTTYPE=image/jpeg:https://av8maps.com/wp-content/uploads/2025/10/Planes-and-Treats-KRAL.jpg
GEO:33.950697;-117.4458655
X-APPLE-STRUCTURED-LOCATION;VALUE=URI;X-ADDRESS=Riverside Municipal Airport 6951 Flight Rd Riverside CA 92504;X-APPLE-RADIUS=500;X-TITLE=6951 Flight Rd\, Riverside\, CA 92504:geo:-117.4458655,33.950697
END:VEVENT
END:VCALENDAR