BEGIN:VCALENDAR
VERSION:2.0
PRODID:-//AV8MAPS.COM - ECPv6.15.20//NONSGML v1.0//EN
CALSCALE:GREGORIAN
METHOD:PUBLISH
X-WR-CALNAME:AV8MAPS.COM
X-ORIGINAL-URL:https://av8maps.com
X-WR-CALDESC:Events for AV8MAPS.COM
REFRESH-INTERVAL;VALUE=DURATION:PT1H
X-Robots-Tag:noindex
X-PUBLISHED-TTL:PT1H
BEGIN:VTIMEZONE
TZID:America/New_York
BEGIN:DAYLIGHT
TZOFFSETFROM:-0500
TZOFFSETTO:-0400
TZNAME:EDT
DTSTART:20250309T070000
END:DAYLIGHT
BEGIN:STANDARD
TZOFFSETFROM:-0400
TZOFFSETTO:-0500
TZNAME:EST
DTSTART:20251102T060000
END:STANDARD
BEGIN:DAYLIGHT
TZOFFSETFROM:-0500
TZOFFSETTO:-0400
TZNAME:EDT
DTSTART:20260308T070000
END:DAYLIGHT
BEGIN:STANDARD
TZOFFSETFROM:-0400
TZOFFSETTO:-0500
TZNAME:EST
DTSTART:20261101T060000
END:STANDARD
BEGIN:DAYLIGHT
TZOFFSETFROM:-0500
TZOFFSETTO:-0400
TZNAME:EDT
DTSTART:20270314T070000
END:DAYLIGHT
BEGIN:STANDARD
TZOFFSETFROM:-0400
TZOFFSETTO:-0500
TZNAME:EST
DTSTART:20271107T060000
END:STANDARD
BEGIN:DAYLIGHT
TZOFFSETFROM:-0500
TZOFFSETTO:-0400
TZNAME:EDT
DTSTART:20280312T070000
END:DAYLIGHT
BEGIN:STANDARD
TZOFFSETFROM:-0400
TZOFFSETTO:-0500
TZNAME:EST
DTSTART:20281105T060000
END:STANDARD
BEGIN:DAYLIGHT
TZOFFSETFROM:-0500
TZOFFSETTO:-0400
TZNAME:EDT
DTSTART:20290311T070000
END:DAYLIGHT
BEGIN:STANDARD
TZOFFSETFROM:-0400
TZOFFSETTO:-0500
TZNAME:EST
DTSTART:20291104T060000
END:STANDARD
BEGIN:DAYLIGHT
TZOFFSETFROM:-0500
TZOFFSETTO:-0400
TZNAME:EDT
DTSTART:20300310T070000
END:DAYLIGHT
BEGIN:STANDARD
TZOFFSETFROM:-0400
TZOFFSETTO:-0500
TZNAME:EST
DTSTART:20301103T060000
END:STANDARD
BEGIN:DAYLIGHT
TZOFFSETFROM:-0500
TZOFFSETTO:-0400
TZNAME:EDT
DTSTART:20310309T070000
END:DAYLIGHT
BEGIN:STANDARD
TZOFFSETFROM:-0400
TZOFFSETTO:-0500
TZNAME:EST
DTSTART:20311102T060000
END:STANDARD
END:VTIMEZONE
BEGIN:VEVENT
DTSTART;TZID=America/New_York:20261016T090000
DTEND;TZID=America/New_York:20261018T120000
DTSTAMP:20260423T050454
CREATED:20250830T160155Z
LAST-MODIFIED:20251102T190237Z
UID:10004621-1792141200-1792324800@av8maps.com
SUMMARY:Ball Airport Annual Fly In (79NC)
DESCRIPTION:Join us for Ball Airport’s annual fly in. If you’re free\, fly in or drive in. Come for the day or camp all weekend!\nFriday fly in and set up camp. Dinner will start at 6pm.\nSaturday we’ll start breakfast at 8am. We’ll have lunch starting at 11am and we’ll be cooking a pig for dinner at 4pm on Saturday.\nSunday we’ll have breakfast at 8am.\nDonations are appreciated!\nWe prefer landings on 36 and take offs on 18. 2459ftx40ft paved runway with 500’ft of grass before the start of runway 36 that you can land on that has a smooth transition to the asphalt making the total runway around 3000ft.\nAirport identifier is 79NC\nUnicom 122.8\nNo fuel on the field. Nearest airport is KLHZ 7nm south of the airport and they have fuel.\nIf you have questions feel free to contact me!
URL:https://av8maps.com/event/ball-airport-53rd-anniversary-fly-in/2026-10-16/
LOCATION:Ball Airport\, 145 Ball Airport Rd\, Louisburg\, NC 27549
ATTACH;FMTTYPE=image/jpeg:https://av8maps.com/wp-content/uploads/2025/08/Ball-Airport-53rd-Anniversary-e1760487743546.jpg
GEO:36.1354668;-78.2828909
X-APPLE-STRUCTURED-LOCATION;VALUE=URI;X-ADDRESS=Ball Airport 145 Ball Airport Rd Louisburg NC 27549;X-APPLE-RADIUS=500;X-TITLE=145 Ball Airport Rd\, Louisburg\, NC 27549:geo:-78.2828909,36.1354668
END:VEVENT
BEGIN:VEVENT
DTSTART;TZID=America/New_York:20271015T090000
DTEND;TZID=America/New_York:20271017T120000
DTSTAMP:20260423T050454
CREATED:20250830T160155Z
LAST-MODIFIED:20251102T190237Z
UID:10004622-1823590800-1823774400@av8maps.com
SUMMARY:Ball Airport Annual Fly In (79NC)
DESCRIPTION:Join us for Ball Airport’s annual fly in. If you’re free\, fly in or drive in. Come for the day or camp all weekend!\nFriday fly in and set up camp. Dinner will start at 6pm.\nSaturday we’ll start breakfast at 8am. We’ll have lunch starting at 11am and we’ll be cooking a pig for dinner at 4pm on Saturday.\nSunday we’ll have breakfast at 8am.\nDonations are appreciated!\nWe prefer landings on 36 and take offs on 18. 2459ftx40ft paved runway with 500’ft of grass before the start of runway 36 that you can land on that has a smooth transition to the asphalt making the total runway around 3000ft.\nAirport identifier is 79NC\nUnicom 122.8\nNo fuel on the field. Nearest airport is KLHZ 7nm south of the airport and they have fuel.\nIf you have questions feel free to contact me!
URL:https://av8maps.com/event/ball-airport-53rd-anniversary-fly-in/2027-10-15/
LOCATION:Ball Airport\, 145 Ball Airport Rd\, Louisburg\, NC 27549
ATTACH;FMTTYPE=image/jpeg:https://av8maps.com/wp-content/uploads/2025/08/Ball-Airport-53rd-Anniversary-e1760487743546.jpg
GEO:36.1354668;-78.2828909
X-APPLE-STRUCTURED-LOCATION;VALUE=URI;X-ADDRESS=Ball Airport 145 Ball Airport Rd Louisburg NC 27549;X-APPLE-RADIUS=500;X-TITLE=145 Ball Airport Rd\, Louisburg\, NC 27549:geo:-78.2828909,36.1354668
END:VEVENT
BEGIN:VEVENT
DTSTART;TZID=America/New_York:20281020T090000
DTEND;TZID=America/New_York:20281022T120000
DTSTAMP:20260423T050454
CREATED:20250830T160155Z
LAST-MODIFIED:20251102T190237Z
UID:10004623-1855645200-1855828800@av8maps.com
SUMMARY:Ball Airport Annual Fly In (79NC)
DESCRIPTION:Join us for Ball Airport’s annual fly in. If you’re free\, fly in or drive in. Come for the day or camp all weekend!\nFriday fly in and set up camp. Dinner will start at 6pm.\nSaturday we’ll start breakfast at 8am. We’ll have lunch starting at 11am and we’ll be cooking a pig for dinner at 4pm on Saturday.\nSunday we’ll have breakfast at 8am.\nDonations are appreciated!\nWe prefer landings on 36 and take offs on 18. 2459ftx40ft paved runway with 500’ft of grass before the start of runway 36 that you can land on that has a smooth transition to the asphalt making the total runway around 3000ft.\nAirport identifier is 79NC\nUnicom 122.8\nNo fuel on the field. Nearest airport is KLHZ 7nm south of the airport and they have fuel.\nIf you have questions feel free to contact me!
URL:https://av8maps.com/event/ball-airport-53rd-anniversary-fly-in/2028-10-20/
LOCATION:Ball Airport\, 145 Ball Airport Rd\, Louisburg\, NC 27549
ATTACH;FMTTYPE=image/jpeg:https://av8maps.com/wp-content/uploads/2025/08/Ball-Airport-53rd-Anniversary-e1760487743546.jpg
GEO:36.1354668;-78.2828909
X-APPLE-STRUCTURED-LOCATION;VALUE=URI;X-ADDRESS=Ball Airport 145 Ball Airport Rd Louisburg NC 27549;X-APPLE-RADIUS=500;X-TITLE=145 Ball Airport Rd\, Louisburg\, NC 27549:geo:-78.2828909,36.1354668
END:VEVENT
BEGIN:VEVENT
DTSTART;TZID=America/New_York:20291019T090000
DTEND;TZID=America/New_York:20291021T120000
DTSTAMP:20260423T050454
CREATED:20250830T160155Z
LAST-MODIFIED:20251102T190237Z
UID:10004624-1887094800-1887278400@av8maps.com
SUMMARY:Ball Airport Annual Fly In (79NC)
DESCRIPTION:Join us for Ball Airport’s annual fly in. If you’re free\, fly in or drive in. Come for the day or camp all weekend!\nFriday fly in and set up camp. Dinner will start at 6pm.\nSaturday we’ll start breakfast at 8am. We’ll have lunch starting at 11am and we’ll be cooking a pig for dinner at 4pm on Saturday.\nSunday we’ll have breakfast at 8am.\nDonations are appreciated!\nWe prefer landings on 36 and take offs on 18. 2459ftx40ft paved runway with 500’ft of grass before the start of runway 36 that you can land on that has a smooth transition to the asphalt making the total runway around 3000ft.\nAirport identifier is 79NC\nUnicom 122.8\nNo fuel on the field. Nearest airport is KLHZ 7nm south of the airport and they have fuel.\nIf you have questions feel free to contact me!
URL:https://av8maps.com/event/ball-airport-53rd-anniversary-fly-in/2029-10-19/
LOCATION:Ball Airport\, 145 Ball Airport Rd\, Louisburg\, NC 27549
ATTACH;FMTTYPE=image/jpeg:https://av8maps.com/wp-content/uploads/2025/08/Ball-Airport-53rd-Anniversary-e1760487743546.jpg
GEO:36.1354668;-78.2828909
X-APPLE-STRUCTURED-LOCATION;VALUE=URI;X-ADDRESS=Ball Airport 145 Ball Airport Rd Louisburg NC 27549;X-APPLE-RADIUS=500;X-TITLE=145 Ball Airport Rd\, Louisburg\, NC 27549:geo:-78.2828909,36.1354668
END:VEVENT
BEGIN:VEVENT
DTSTART;TZID=America/New_York:20301018T090000
DTEND;TZID=America/New_York:20301020T120000
DTSTAMP:20260423T050455
CREATED:20250830T160155Z
LAST-MODIFIED:20251102T190237Z
UID:10004625-1918544400-1918728000@av8maps.com
SUMMARY:Ball Airport Annual Fly In (79NC)
DESCRIPTION:Join us for Ball Airport’s annual fly in. If you’re free\, fly in or drive in. Come for the day or camp all weekend!\nFriday fly in and set up camp. Dinner will start at 6pm.\nSaturday we’ll start breakfast at 8am. We’ll have lunch starting at 11am and we’ll be cooking a pig for dinner at 4pm on Saturday.\nSunday we’ll have breakfast at 8am.\nDonations are appreciated!\nWe prefer landings on 36 and take offs on 18. 2459ftx40ft paved runway with 500’ft of grass before the start of runway 36 that you can land on that has a smooth transition to the asphalt making the total runway around 3000ft.\nAirport identifier is 79NC\nUnicom 122.8\nNo fuel on the field. Nearest airport is KLHZ 7nm south of the airport and they have fuel.\nIf you have questions feel free to contact me!
URL:https://av8maps.com/event/ball-airport-53rd-anniversary-fly-in/2030-10-18/
LOCATION:Ball Airport\, 145 Ball Airport Rd\, Louisburg\, NC 27549
ATTACH;FMTTYPE=image/jpeg:https://av8maps.com/wp-content/uploads/2025/08/Ball-Airport-53rd-Anniversary-e1760487743546.jpg
GEO:36.1354668;-78.2828909
X-APPLE-STRUCTURED-LOCATION;VALUE=URI;X-ADDRESS=Ball Airport 145 Ball Airport Rd Louisburg NC 27549;X-APPLE-RADIUS=500;X-TITLE=145 Ball Airport Rd\, Louisburg\, NC 27549:geo:-78.2828909,36.1354668
END:VEVENT
END:VCALENDAR