BEGIN:VCALENDAR
VERSION:2.0
PRODID:-//AV8MAPS.COM - ECPv6.15.20//NONSGML v1.0//EN
CALSCALE:GREGORIAN
METHOD:PUBLISH
X-WR-CALNAME:AV8MAPS.COM
X-ORIGINAL-URL:https://av8maps.com
X-WR-CALDESC:Events for AV8MAPS.COM
REFRESH-INTERVAL;VALUE=DURATION:PT1H
X-Robots-Tag:noindex
X-PUBLISHED-TTL:PT1H
BEGIN:VTIMEZONE
TZID:America/New_York
BEGIN:DAYLIGHT
TZOFFSETFROM:-0500
TZOFFSETTO:-0400
TZNAME:EDT
DTSTART:20250309T070000
END:DAYLIGHT
BEGIN:STANDARD
TZOFFSETFROM:-0400
TZOFFSETTO:-0500
TZNAME:EST
DTSTART:20251102T060000
END:STANDARD
BEGIN:DAYLIGHT
TZOFFSETFROM:-0500
TZOFFSETTO:-0400
TZNAME:EDT
DTSTART:20260308T070000
END:DAYLIGHT
BEGIN:STANDARD
TZOFFSETFROM:-0400
TZOFFSETTO:-0500
TZNAME:EST
DTSTART:20261101T060000
END:STANDARD
BEGIN:DAYLIGHT
TZOFFSETFROM:-0500
TZOFFSETTO:-0400
TZNAME:EDT
DTSTART:20270314T070000
END:DAYLIGHT
BEGIN:STANDARD
TZOFFSETFROM:-0400
TZOFFSETTO:-0500
TZNAME:EST
DTSTART:20271107T060000
END:STANDARD
BEGIN:DAYLIGHT
TZOFFSETFROM:-0500
TZOFFSETTO:-0400
TZNAME:EDT
DTSTART:20280312T070000
END:DAYLIGHT
BEGIN:STANDARD
TZOFFSETFROM:-0400
TZOFFSETTO:-0500
TZNAME:EST
DTSTART:20281105T060000
END:STANDARD
BEGIN:DAYLIGHT
TZOFFSETFROM:-0500
TZOFFSETTO:-0400
TZNAME:EDT
DTSTART:20290311T070000
END:DAYLIGHT
BEGIN:STANDARD
TZOFFSETFROM:-0400
TZOFFSETTO:-0500
TZNAME:EST
DTSTART:20291104T060000
END:STANDARD
BEGIN:DAYLIGHT
TZOFFSETFROM:-0500
TZOFFSETTO:-0400
TZNAME:EDT
DTSTART:20300310T070000
END:DAYLIGHT
BEGIN:STANDARD
TZOFFSETFROM:-0400
TZOFFSETTO:-0500
TZNAME:EST
DTSTART:20301103T060000
END:STANDARD
BEGIN:DAYLIGHT
TZOFFSETFROM:-0500
TZOFFSETTO:-0400
TZNAME:EDT
DTSTART:20310309T070000
END:DAYLIGHT
BEGIN:STANDARD
TZOFFSETFROM:-0400
TZOFFSETTO:-0500
TZNAME:EST
DTSTART:20311102T060000
END:STANDARD
END:VTIMEZONE
BEGIN:VEVENT
DTSTART;TZID=America/New_York:20261017T080000
DTEND;TZID=America/New_York:20261017T170000
DTSTAMP:20260425T200652
CREATED:20251020T215100Z
LAST-MODIFIED:20251102T191547Z
UID:10001051-1792224000-1792256400@av8maps.com
SUMMARY:Annual Fly-in and Chili Cook Off (KGEO)
DESCRIPTION:Come and join us for chili. bring a chili if you like giving away gift cards.
URL:https://av8maps.com/event/2nd-annual-fly-in-and-chili-cook-off-kgeo/2026-10-17/
LOCATION:Brown County Airport\, 8862 Airport Rd\, Georgetown\, OH 45121
ATTACH;FMTTYPE=image/jpeg:https://av8maps.com/wp-content/uploads/2025/10/Brown-County-Airport-KGEO-e1760997052569.jpg
GEO:38.8820845;-83.8827922
X-APPLE-STRUCTURED-LOCATION;VALUE=URI;X-ADDRESS=Brown County Airport 8862 Airport Rd Georgetown OH 45121;X-APPLE-RADIUS=500;X-TITLE=8862 Airport Rd\, Georgetown\, OH 45121:geo:-83.8827922,38.8820845
END:VEVENT
BEGIN:VEVENT
DTSTART;TZID=America/New_York:20271016T080000
DTEND;TZID=America/New_York:20271016T170000
DTSTAMP:20260425T200652
CREATED:20251020T215100Z
LAST-MODIFIED:20251102T191547Z
UID:10004636-1823673600-1823706000@av8maps.com
SUMMARY:Annual Fly-in and Chili Cook Off (KGEO)
DESCRIPTION:Come and join us for chili. bring a chili if you like giving away gift cards.
URL:https://av8maps.com/event/2nd-annual-fly-in-and-chili-cook-off-kgeo/2027-10-16/
LOCATION:Brown County Airport\, 8862 Airport Rd\, Georgetown\, OH 45121
ATTACH;FMTTYPE=image/jpeg:https://av8maps.com/wp-content/uploads/2025/10/Brown-County-Airport-KGEO-e1760997052569.jpg
GEO:38.8820845;-83.8827922
X-APPLE-STRUCTURED-LOCATION;VALUE=URI;X-ADDRESS=Brown County Airport 8862 Airport Rd Georgetown OH 45121;X-APPLE-RADIUS=500;X-TITLE=8862 Airport Rd\, Georgetown\, OH 45121:geo:-83.8827922,38.8820845
END:VEVENT
BEGIN:VEVENT
DTSTART;TZID=America/New_York:20281021T080000
DTEND;TZID=America/New_York:20281021T170000
DTSTAMP:20260425T200652
CREATED:20251020T215100Z
LAST-MODIFIED:20251102T191547Z
UID:10004637-1855728000-1855760400@av8maps.com
SUMMARY:Annual Fly-in and Chili Cook Off (KGEO)
DESCRIPTION:Come and join us for chili. bring a chili if you like giving away gift cards.
URL:https://av8maps.com/event/2nd-annual-fly-in-and-chili-cook-off-kgeo/2028-10-21/
LOCATION:Brown County Airport\, 8862 Airport Rd\, Georgetown\, OH 45121
ATTACH;FMTTYPE=image/jpeg:https://av8maps.com/wp-content/uploads/2025/10/Brown-County-Airport-KGEO-e1760997052569.jpg
GEO:38.8820845;-83.8827922
X-APPLE-STRUCTURED-LOCATION;VALUE=URI;X-ADDRESS=Brown County Airport 8862 Airport Rd Georgetown OH 45121;X-APPLE-RADIUS=500;X-TITLE=8862 Airport Rd\, Georgetown\, OH 45121:geo:-83.8827922,38.8820845
END:VEVENT
BEGIN:VEVENT
DTSTART;TZID=America/New_York:20291020T080000
DTEND;TZID=America/New_York:20291020T170000
DTSTAMP:20260425T200652
CREATED:20251020T215100Z
LAST-MODIFIED:20251102T191547Z
UID:10004638-1887177600-1887210000@av8maps.com
SUMMARY:Annual Fly-in and Chili Cook Off (KGEO)
DESCRIPTION:Come and join us for chili. bring a chili if you like giving away gift cards.
URL:https://av8maps.com/event/2nd-annual-fly-in-and-chili-cook-off-kgeo/2029-10-20/
LOCATION:Brown County Airport\, 8862 Airport Rd\, Georgetown\, OH 45121
ATTACH;FMTTYPE=image/jpeg:https://av8maps.com/wp-content/uploads/2025/10/Brown-County-Airport-KGEO-e1760997052569.jpg
GEO:38.8820845;-83.8827922
X-APPLE-STRUCTURED-LOCATION;VALUE=URI;X-ADDRESS=Brown County Airport 8862 Airport Rd Georgetown OH 45121;X-APPLE-RADIUS=500;X-TITLE=8862 Airport Rd\, Georgetown\, OH 45121:geo:-83.8827922,38.8820845
END:VEVENT
BEGIN:VEVENT
DTSTART;TZID=America/New_York:20301019T080000
DTEND;TZID=America/New_York:20301019T170000
DTSTAMP:20260425T200652
CREATED:20251020T215100Z
LAST-MODIFIED:20251102T191547Z
UID:10004639-1918627200-1918659600@av8maps.com
SUMMARY:Annual Fly-in and Chili Cook Off (KGEO)
DESCRIPTION:Come and join us for chili. bring a chili if you like giving away gift cards.
URL:https://av8maps.com/event/2nd-annual-fly-in-and-chili-cook-off-kgeo/2030-10-19/
LOCATION:Brown County Airport\, 8862 Airport Rd\, Georgetown\, OH 45121
ATTACH;FMTTYPE=image/jpeg:https://av8maps.com/wp-content/uploads/2025/10/Brown-County-Airport-KGEO-e1760997052569.jpg
GEO:38.8820845;-83.8827922
X-APPLE-STRUCTURED-LOCATION;VALUE=URI;X-ADDRESS=Brown County Airport 8862 Airport Rd Georgetown OH 45121;X-APPLE-RADIUS=500;X-TITLE=8862 Airport Rd\, Georgetown\, OH 45121:geo:-83.8827922,38.8820845
END:VEVENT
END:VCALENDAR