BEGIN:VCALENDAR
VERSION:2.0
PRODID:-//AV8MAPS.COM - ECPv6.15.20//NONSGML v1.0//EN
CALSCALE:GREGORIAN
METHOD:PUBLISH
X-WR-CALNAME:AV8MAPS.COM
X-ORIGINAL-URL:https://av8maps.com
X-WR-CALDESC:Events for AV8MAPS.COM
REFRESH-INTERVAL;VALUE=DURATION:PT1H
X-Robots-Tag:noindex
X-PUBLISHED-TTL:PT1H
BEGIN:VTIMEZONE
TZID:America/New_York
BEGIN:DAYLIGHT
TZOFFSETFROM:-0500
TZOFFSETTO:-0400
TZNAME:EDT
DTSTART:20250309T070000
END:DAYLIGHT
BEGIN:STANDARD
TZOFFSETFROM:-0400
TZOFFSETTO:-0500
TZNAME:EST
DTSTART:20251102T060000
END:STANDARD
BEGIN:DAYLIGHT
TZOFFSETFROM:-0500
TZOFFSETTO:-0400
TZNAME:EDT
DTSTART:20260308T070000
END:DAYLIGHT
BEGIN:STANDARD
TZOFFSETFROM:-0400
TZOFFSETTO:-0500
TZNAME:EST
DTSTART:20261101T060000
END:STANDARD
BEGIN:DAYLIGHT
TZOFFSETFROM:-0500
TZOFFSETTO:-0400
TZNAME:EDT
DTSTART:20270314T070000
END:DAYLIGHT
BEGIN:STANDARD
TZOFFSETFROM:-0400
TZOFFSETTO:-0500
TZNAME:EST
DTSTART:20271107T060000
END:STANDARD
BEGIN:DAYLIGHT
TZOFFSETFROM:-0500
TZOFFSETTO:-0400
TZNAME:EDT
DTSTART:20280312T070000
END:DAYLIGHT
BEGIN:STANDARD
TZOFFSETFROM:-0400
TZOFFSETTO:-0500
TZNAME:EST
DTSTART:20281105T060000
END:STANDARD
END:VTIMEZONE
BEGIN:VEVENT
DTSTART;TZID=America/New_York:20261031T160000
DTEND;TZID=America/New_York:20261031T180000
DTSTAMP:20260423T193332
CREATED:20251102T193337Z
LAST-MODIFIED:20251102T193338Z
UID:10004645-1793462400-1793469600@av8maps.com
SUMMARY:Airplane Style Trick or Treat (Z98)
DESCRIPTION:Come join us @ Ottawa Executive Airport still looking for more airplanes on the ramp to hand out candy.
URL:https://av8maps.com/event/airplane-style-trick-or-treat-z98-2/2026-10-31/
LOCATION:Ottawa Executive Airport\, 5923 Byron Rd\, Zeeland\, MI 49464
ATTACH;FMTTYPE=image/jpeg:https://av8maps.com/wp-content/uploads/2025/10/Airplane-Style-Trick-or-Treat-Z98-e1761002404930.jpg
GEO:42.812916;-85.9285382
X-APPLE-STRUCTURED-LOCATION;VALUE=URI;X-ADDRESS=Ottawa Executive Airport 5923 Byron Rd Zeeland MI 49464;X-APPLE-RADIUS=500;X-TITLE=5923 Byron Rd\, Zeeland\, MI 49464:geo:-85.9285382,42.812916
END:VEVENT
BEGIN:VEVENT
DTSTART;TZID=America/New_York:20271030T160000
DTEND;TZID=America/New_York:20271030T180000
DTSTAMP:20260423T193332
CREATED:20251102T193337Z
LAST-MODIFIED:20251102T193338Z
UID:10004650-1824912000-1824919200@av8maps.com
SUMMARY:Airplane Style Trick or Treat (Z98)
DESCRIPTION:Come join us @ Ottawa Executive Airport still looking for more airplanes on the ramp to hand out candy.
URL:https://av8maps.com/event/airplane-style-trick-or-treat-z98-2/2027-10-30/
LOCATION:Ottawa Executive Airport\, 5923 Byron Rd\, Zeeland\, MI 49464
ATTACH;FMTTYPE=image/jpeg:https://av8maps.com/wp-content/uploads/2025/10/Airplane-Style-Trick-or-Treat-Z98-e1761002404930.jpg
GEO:42.812916;-85.9285382
X-APPLE-STRUCTURED-LOCATION;VALUE=URI;X-ADDRESS=Ottawa Executive Airport 5923 Byron Rd Zeeland MI 49464;X-APPLE-RADIUS=500;X-TITLE=5923 Byron Rd\, Zeeland\, MI 49464:geo:-85.9285382,42.812916
END:VEVENT
END:VCALENDAR