BEGIN:VCALENDAR
VERSION:2.0
PRODID:-//AV8MAPS.COM - ECPv6.15.20//NONSGML v1.0//EN
CALSCALE:GREGORIAN
METHOD:PUBLISH
X-WR-CALNAME:AV8MAPS.COM
X-ORIGINAL-URL:https://av8maps.com
X-WR-CALDESC:Events for AV8MAPS.COM
REFRESH-INTERVAL;VALUE=DURATION:PT1H
X-Robots-Tag:noindex
X-PUBLISHED-TTL:PT1H
BEGIN:VTIMEZONE
TZID:America/New_York
BEGIN:DAYLIGHT
TZOFFSETFROM:-0500
TZOFFSETTO:-0400
TZNAME:EDT
DTSTART:20250309T070000
END:DAYLIGHT
BEGIN:STANDARD
TZOFFSETFROM:-0400
TZOFFSETTO:-0500
TZNAME:EST
DTSTART:20251102T060000
END:STANDARD
BEGIN:DAYLIGHT
TZOFFSETFROM:-0500
TZOFFSETTO:-0400
TZNAME:EDT
DTSTART:20260308T070000
END:DAYLIGHT
BEGIN:STANDARD
TZOFFSETFROM:-0400
TZOFFSETTO:-0500
TZNAME:EST
DTSTART:20261101T060000
END:STANDARD
BEGIN:DAYLIGHT
TZOFFSETFROM:-0500
TZOFFSETTO:-0400
TZNAME:EDT
DTSTART:20270314T070000
END:DAYLIGHT
BEGIN:STANDARD
TZOFFSETFROM:-0400
TZOFFSETTO:-0500
TZNAME:EST
DTSTART:20271107T060000
END:STANDARD
BEGIN:DAYLIGHT
TZOFFSETFROM:-0500
TZOFFSETTO:-0400
TZNAME:EDT
DTSTART:20280312T070000
END:DAYLIGHT
BEGIN:STANDARD
TZOFFSETFROM:-0400
TZOFFSETTO:-0500
TZNAME:EST
DTSTART:20281105T060000
END:STANDARD
BEGIN:DAYLIGHT
TZOFFSETFROM:-0500
TZOFFSETTO:-0400
TZNAME:EDT
DTSTART:20290311T070000
END:DAYLIGHT
BEGIN:STANDARD
TZOFFSETFROM:-0400
TZOFFSETTO:-0500
TZNAME:EST
DTSTART:20291104T060000
END:STANDARD
BEGIN:DAYLIGHT
TZOFFSETFROM:-0500
TZOFFSETTO:-0400
TZNAME:EDT
DTSTART:20300310T070000
END:DAYLIGHT
BEGIN:STANDARD
TZOFFSETFROM:-0400
TZOFFSETTO:-0500
TZNAME:EST
DTSTART:20301103T060000
END:STANDARD
BEGIN:DAYLIGHT
TZOFFSETFROM:-0500
TZOFFSETTO:-0400
TZNAME:EDT
DTSTART:20310309T070000
END:DAYLIGHT
BEGIN:STANDARD
TZOFFSETFROM:-0400
TZOFFSETTO:-0500
TZNAME:EST
DTSTART:20311102T060000
END:STANDARD
END:VTIMEZONE
BEGIN:VEVENT
DTSTART;TZID=America/New_York:20261024T123000
DTEND;TZID=America/New_York:20261024T153000
DTSTAMP:20260423T031431
CREATED:20251020T234553Z
LAST-MODIFIED:20251102T194531Z
UID:10004651-1792845000-1792855800@av8maps.com
SUMMARY:Greenway Airfield Annual Fly-in (VG37)
DESCRIPTION:Come early stay late. Always a fun time at this flyin.
URL:https://av8maps.com/event/greenway-airfield-annual-fly-in-vg37/2026-10-24/
LOCATION:Greenway Airfield\, 1581 Greenway Rd\, Suffolk\, VA 23438
ATTACH;FMTTYPE=image/jpeg:https://av8maps.com/wp-content/uploads/2025/10/Greenway-Airfield-VG37-e1761003909213.jpg
GEO:36.5917247;-76.6398138
X-APPLE-STRUCTURED-LOCATION;VALUE=URI;X-ADDRESS=Greenway Airfield 1581 Greenway Rd Suffolk VA 23438;X-APPLE-RADIUS=500;X-TITLE=1581 Greenway Rd\, Suffolk\, VA 23438:geo:-76.6398138,36.5917247
END:VEVENT
BEGIN:VEVENT
DTSTART;TZID=America/New_York:20271023T123000
DTEND;TZID=America/New_York:20271023T153000
DTSTAMP:20260423T031431
CREATED:20251020T234553Z
LAST-MODIFIED:20251102T194531Z
UID:10004652-1824294600-1824305400@av8maps.com
SUMMARY:Greenway Airfield Annual Fly-in (VG37)
DESCRIPTION:Come early stay late. Always a fun time at this flyin.
URL:https://av8maps.com/event/greenway-airfield-annual-fly-in-vg37/2027-10-23/
LOCATION:Greenway Airfield\, 1581 Greenway Rd\, Suffolk\, VA 23438
ATTACH;FMTTYPE=image/jpeg:https://av8maps.com/wp-content/uploads/2025/10/Greenway-Airfield-VG37-e1761003909213.jpg
GEO:36.5917247;-76.6398138
X-APPLE-STRUCTURED-LOCATION;VALUE=URI;X-ADDRESS=Greenway Airfield 1581 Greenway Rd Suffolk VA 23438;X-APPLE-RADIUS=500;X-TITLE=1581 Greenway Rd\, Suffolk\, VA 23438:geo:-76.6398138,36.5917247
END:VEVENT
BEGIN:VEVENT
DTSTART;TZID=America/New_York:20281028T123000
DTEND;TZID=America/New_York:20281028T153000
DTSTAMP:20260423T031431
CREATED:20251020T234553Z
LAST-MODIFIED:20251102T194531Z
UID:10004653-1856349000-1856359800@av8maps.com
SUMMARY:Greenway Airfield Annual Fly-in (VG37)
DESCRIPTION:Come early stay late. Always a fun time at this flyin.
URL:https://av8maps.com/event/greenway-airfield-annual-fly-in-vg37/2028-10-28/
LOCATION:Greenway Airfield\, 1581 Greenway Rd\, Suffolk\, VA 23438
ATTACH;FMTTYPE=image/jpeg:https://av8maps.com/wp-content/uploads/2025/10/Greenway-Airfield-VG37-e1761003909213.jpg
GEO:36.5917247;-76.6398138
X-APPLE-STRUCTURED-LOCATION;VALUE=URI;X-ADDRESS=Greenway Airfield 1581 Greenway Rd Suffolk VA 23438;X-APPLE-RADIUS=500;X-TITLE=1581 Greenway Rd\, Suffolk\, VA 23438:geo:-76.6398138,36.5917247
END:VEVENT
BEGIN:VEVENT
DTSTART;TZID=America/New_York:20291027T123000
DTEND;TZID=America/New_York:20291027T153000
DTSTAMP:20260423T031431
CREATED:20251020T234553Z
LAST-MODIFIED:20251102T194531Z
UID:10004654-1887798600-1887809400@av8maps.com
SUMMARY:Greenway Airfield Annual Fly-in (VG37)
DESCRIPTION:Come early stay late. Always a fun time at this flyin.
URL:https://av8maps.com/event/greenway-airfield-annual-fly-in-vg37/2029-10-27/
LOCATION:Greenway Airfield\, 1581 Greenway Rd\, Suffolk\, VA 23438
ATTACH;FMTTYPE=image/jpeg:https://av8maps.com/wp-content/uploads/2025/10/Greenway-Airfield-VG37-e1761003909213.jpg
GEO:36.5917247;-76.6398138
X-APPLE-STRUCTURED-LOCATION;VALUE=URI;X-ADDRESS=Greenway Airfield 1581 Greenway Rd Suffolk VA 23438;X-APPLE-RADIUS=500;X-TITLE=1581 Greenway Rd\, Suffolk\, VA 23438:geo:-76.6398138,36.5917247
END:VEVENT
BEGIN:VEVENT
DTSTART;TZID=America/New_York:20301026T123000
DTEND;TZID=America/New_York:20301026T153000
DTSTAMP:20260423T031431
CREATED:20251020T234553Z
LAST-MODIFIED:20251102T194531Z
UID:10004655-1919248200-1919259000@av8maps.com
SUMMARY:Greenway Airfield Annual Fly-in (VG37)
DESCRIPTION:Come early stay late. Always a fun time at this flyin.
URL:https://av8maps.com/event/greenway-airfield-annual-fly-in-vg37/2030-10-26/
LOCATION:Greenway Airfield\, 1581 Greenway Rd\, Suffolk\, VA 23438
ATTACH;FMTTYPE=image/jpeg:https://av8maps.com/wp-content/uploads/2025/10/Greenway-Airfield-VG37-e1761003909213.jpg
GEO:36.5917247;-76.6398138
X-APPLE-STRUCTURED-LOCATION;VALUE=URI;X-ADDRESS=Greenway Airfield 1581 Greenway Rd Suffolk VA 23438;X-APPLE-RADIUS=500;X-TITLE=1581 Greenway Rd\, Suffolk\, VA 23438:geo:-76.6398138,36.5917247
END:VEVENT
END:VCALENDAR