BEGIN:VCALENDAR
VERSION:2.0
PRODID:-//AV8MAPS.COM - ECPv6.15.20//NONSGML v1.0//EN
CALSCALE:GREGORIAN
METHOD:PUBLISH
X-WR-CALNAME:AV8MAPS.COM
X-ORIGINAL-URL:https://av8maps.com
X-WR-CALDESC:Events for AV8MAPS.COM
REFRESH-INTERVAL;VALUE=DURATION:PT1H
X-Robots-Tag:noindex
X-PUBLISHED-TTL:PT1H
BEGIN:VTIMEZONE
TZID:America/New_York
BEGIN:DAYLIGHT
TZOFFSETFROM:-0500
TZOFFSETTO:-0400
TZNAME:EDT
DTSTART:20250309T070000
END:DAYLIGHT
BEGIN:STANDARD
TZOFFSETFROM:-0400
TZOFFSETTO:-0500
TZNAME:EST
DTSTART:20251102T060000
END:STANDARD
BEGIN:DAYLIGHT
TZOFFSETFROM:-0500
TZOFFSETTO:-0400
TZNAME:EDT
DTSTART:20260308T070000
END:DAYLIGHT
BEGIN:STANDARD
TZOFFSETFROM:-0400
TZOFFSETTO:-0500
TZNAME:EST
DTSTART:20261101T060000
END:STANDARD
BEGIN:DAYLIGHT
TZOFFSETFROM:-0500
TZOFFSETTO:-0400
TZNAME:EDT
DTSTART:20270314T070000
END:DAYLIGHT
BEGIN:STANDARD
TZOFFSETFROM:-0400
TZOFFSETTO:-0500
TZNAME:EST
DTSTART:20271107T060000
END:STANDARD
BEGIN:DAYLIGHT
TZOFFSETFROM:-0500
TZOFFSETTO:-0400
TZNAME:EDT
DTSTART:20280312T070000
END:DAYLIGHT
BEGIN:STANDARD
TZOFFSETFROM:-0400
TZOFFSETTO:-0500
TZNAME:EST
DTSTART:20281105T060000
END:STANDARD
END:VTIMEZONE
BEGIN:VEVENT
DTSTART;TZID=America/New_York:20261031T080000
DTEND;TZID=America/New_York:20261031T120000
DTSTAMP:20260423T210904
CREATED:20251021T000011Z
LAST-MODIFIED:20251102T194754Z
UID:10004656-1793433600-1793448000@av8maps.com
SUMMARY:Annual Halloween Fly-in (KLWV)
DESCRIPTION:Fly in or drive in to this great event that will be held on Saturday from 8am – noon CST. MAPA is hosting its Annual Halloween Fly-In/Drive-In Breakfast at KLWV in the MAPA Club hanger. There will be great food (Pancakes\, Bacon\, Coffee\, and Omelet bar)! Cash prizes will be given out to the top three costumes\, and a free FAA medical for the best “Pilot” costume.
URL:https://av8maps.com/event/5th-annual-halloween-fly-in-klwv/2026-10-31/
LOCATION:Lawrenceville-Vincennes Intl Airport\, 13608 Hangar Rd\, Lawrenceville\, IL 62439
ATTACH;FMTTYPE=image/jpeg:https://av8maps.com/wp-content/uploads/2025/10/EAA-Chapter-114-e1761004748560.jpg
GEO:38.7613651;-87.6051376
X-APPLE-STRUCTURED-LOCATION;VALUE=URI;X-ADDRESS=Lawrenceville-Vincennes Intl Airport 13608 Hangar Rd Lawrenceville IL 62439;X-APPLE-RADIUS=500;X-TITLE=13608 Hangar Rd\, Lawrenceville\, IL 62439:geo:-87.6051376,38.7613651
END:VEVENT
BEGIN:VEVENT
DTSTART;TZID=America/New_York:20271030T080000
DTEND;TZID=America/New_York:20271030T120000
DTSTAMP:20260423T210904
CREATED:20251021T000011Z
LAST-MODIFIED:20251102T194754Z
UID:10004657-1824883200-1824897600@av8maps.com
SUMMARY:Annual Halloween Fly-in (KLWV)
DESCRIPTION:Fly in or drive in to this great event that will be held on Saturday from 8am – noon CST. MAPA is hosting its Annual Halloween Fly-In/Drive-In Breakfast at KLWV in the MAPA Club hanger. There will be great food (Pancakes\, Bacon\, Coffee\, and Omelet bar)! Cash prizes will be given out to the top three costumes\, and a free FAA medical for the best “Pilot” costume.
URL:https://av8maps.com/event/5th-annual-halloween-fly-in-klwv/2027-10-30/
LOCATION:Lawrenceville-Vincennes Intl Airport\, 13608 Hangar Rd\, Lawrenceville\, IL 62439
ATTACH;FMTTYPE=image/jpeg:https://av8maps.com/wp-content/uploads/2025/10/EAA-Chapter-114-e1761004748560.jpg
GEO:38.7613651;-87.6051376
X-APPLE-STRUCTURED-LOCATION;VALUE=URI;X-ADDRESS=Lawrenceville-Vincennes Intl Airport 13608 Hangar Rd Lawrenceville IL 62439;X-APPLE-RADIUS=500;X-TITLE=13608 Hangar Rd\, Lawrenceville\, IL 62439:geo:-87.6051376,38.7613651
END:VEVENT
END:VCALENDAR