BEGIN:VCALENDAR
VERSION:2.0
PRODID:-//AV8MAPS.COM - ECPv6.15.20//NONSGML v1.0//EN
CALSCALE:GREGORIAN
METHOD:PUBLISH
X-WR-CALNAME:AV8MAPS.COM
X-ORIGINAL-URL:https://av8maps.com
X-WR-CALDESC:Events for AV8MAPS.COM
REFRESH-INTERVAL;VALUE=DURATION:PT1H
X-Robots-Tag:noindex
X-PUBLISHED-TTL:PT1H
BEGIN:VTIMEZONE
TZID:America/New_York
BEGIN:DAYLIGHT
TZOFFSETFROM:-0500
TZOFFSETTO:-0400
TZNAME:EDT
DTSTART:20250309T070000
END:DAYLIGHT
BEGIN:STANDARD
TZOFFSETFROM:-0400
TZOFFSETTO:-0500
TZNAME:EST
DTSTART:20251102T060000
END:STANDARD
BEGIN:DAYLIGHT
TZOFFSETFROM:-0500
TZOFFSETTO:-0400
TZNAME:EDT
DTSTART:20260308T070000
END:DAYLIGHT
BEGIN:STANDARD
TZOFFSETFROM:-0400
TZOFFSETTO:-0500
TZNAME:EST
DTSTART:20261101T060000
END:STANDARD
BEGIN:DAYLIGHT
TZOFFSETFROM:-0500
TZOFFSETTO:-0400
TZNAME:EDT
DTSTART:20270314T070000
END:DAYLIGHT
BEGIN:STANDARD
TZOFFSETFROM:-0400
TZOFFSETTO:-0500
TZNAME:EST
DTSTART:20271107T060000
END:STANDARD
BEGIN:DAYLIGHT
TZOFFSETFROM:-0500
TZOFFSETTO:-0400
TZNAME:EDT
DTSTART:20280312T070000
END:DAYLIGHT
BEGIN:STANDARD
TZOFFSETFROM:-0400
TZOFFSETTO:-0500
TZNAME:EST
DTSTART:20281105T060000
END:STANDARD
BEGIN:DAYLIGHT
TZOFFSETFROM:-0500
TZOFFSETTO:-0400
TZNAME:EDT
DTSTART:20290311T070000
END:DAYLIGHT
BEGIN:STANDARD
TZOFFSETFROM:-0400
TZOFFSETTO:-0500
TZNAME:EST
DTSTART:20291104T060000
END:STANDARD
BEGIN:DAYLIGHT
TZOFFSETFROM:-0500
TZOFFSETTO:-0400
TZNAME:EDT
DTSTART:20300310T070000
END:DAYLIGHT
BEGIN:STANDARD
TZOFFSETFROM:-0400
TZOFFSETTO:-0500
TZNAME:EST
DTSTART:20301103T060000
END:STANDARD
BEGIN:DAYLIGHT
TZOFFSETFROM:-0500
TZOFFSETTO:-0400
TZNAME:EDT
DTSTART:20310309T070000
END:DAYLIGHT
BEGIN:STANDARD
TZOFFSETFROM:-0400
TZOFFSETTO:-0500
TZNAME:EST
DTSTART:20311102T060000
END:STANDARD
END:VTIMEZONE
BEGIN:VEVENT
DTSTART;TZID=America/New_York:20261107T080000
DTEND;TZID=America/New_York:20261107T150000
DTSTAMP:20260423T151040
CREATED:20251021T012013Z
LAST-MODIFIED:20251102T195302Z
UID:10004663-1794038400-1794063600@av8maps.com
SUMMARY:EAA Chapter 1712 Poker Run (KRAL)
DESCRIPTION:EAA Chapter 1712 is hosting a Poker Run to benefit our A/P scholarship program. Please come … fun event. See flyer for details.
URL:https://av8maps.com/event/eaa-chapter-1712-poker-run-kral/2026-11-07/
LOCATION:Riverside Municipal Airport\, 6951 Flight Rd\, Riverside\, CA 92504
ATTACH;FMTTYPE=image/jpeg:https://av8maps.com/wp-content/uploads/2025/10/EAA-Chapter-1712-Poker-Run-e1761009605753.jpg
GEO:33.950697;-117.4458655
X-APPLE-STRUCTURED-LOCATION;VALUE=URI;X-ADDRESS=Riverside Municipal Airport 6951 Flight Rd Riverside CA 92504;X-APPLE-RADIUS=500;X-TITLE=6951 Flight Rd\, Riverside\, CA 92504:geo:-117.4458655,33.950697
END:VEVENT
BEGIN:VEVENT
DTSTART;TZID=America/New_York:20271106T080000
DTEND;TZID=America/New_York:20271106T150000
DTSTAMP:20260423T151040
CREATED:20251021T012013Z
LAST-MODIFIED:20251102T195302Z
UID:10004664-1825488000-1825513200@av8maps.com
SUMMARY:EAA Chapter 1712 Poker Run (KRAL)
DESCRIPTION:EAA Chapter 1712 is hosting a Poker Run to benefit our A/P scholarship program. Please come … fun event. See flyer for details.
URL:https://av8maps.com/event/eaa-chapter-1712-poker-run-kral/2027-11-06/
LOCATION:Riverside Municipal Airport\, 6951 Flight Rd\, Riverside\, CA 92504
ATTACH;FMTTYPE=image/jpeg:https://av8maps.com/wp-content/uploads/2025/10/EAA-Chapter-1712-Poker-Run-e1761009605753.jpg
GEO:33.950697;-117.4458655
X-APPLE-STRUCTURED-LOCATION;VALUE=URI;X-ADDRESS=Riverside Municipal Airport 6951 Flight Rd Riverside CA 92504;X-APPLE-RADIUS=500;X-TITLE=6951 Flight Rd\, Riverside\, CA 92504:geo:-117.4458655,33.950697
END:VEVENT
BEGIN:VEVENT
DTSTART;TZID=America/New_York:20281104T080000
DTEND;TZID=America/New_York:20281104T150000
DTSTAMP:20260423T151040
CREATED:20251021T012013Z
LAST-MODIFIED:20251102T195302Z
UID:10004665-1856937600-1856962800@av8maps.com
SUMMARY:EAA Chapter 1712 Poker Run (KRAL)
DESCRIPTION:EAA Chapter 1712 is hosting a Poker Run to benefit our A/P scholarship program. Please come … fun event. See flyer for details.
URL:https://av8maps.com/event/eaa-chapter-1712-poker-run-kral/2028-11-04/
LOCATION:Riverside Municipal Airport\, 6951 Flight Rd\, Riverside\, CA 92504
ATTACH;FMTTYPE=image/jpeg:https://av8maps.com/wp-content/uploads/2025/10/EAA-Chapter-1712-Poker-Run-e1761009605753.jpg
GEO:33.950697;-117.4458655
X-APPLE-STRUCTURED-LOCATION;VALUE=URI;X-ADDRESS=Riverside Municipal Airport 6951 Flight Rd Riverside CA 92504;X-APPLE-RADIUS=500;X-TITLE=6951 Flight Rd\, Riverside\, CA 92504:geo:-117.4458655,33.950697
END:VEVENT
BEGIN:VEVENT
DTSTART;TZID=America/New_York:20291103T080000
DTEND;TZID=America/New_York:20291103T150000
DTSTAMP:20260423T151040
CREATED:20251021T012013Z
LAST-MODIFIED:20251102T195302Z
UID:10004666-1888387200-1888412400@av8maps.com
SUMMARY:EAA Chapter 1712 Poker Run (KRAL)
DESCRIPTION:EAA Chapter 1712 is hosting a Poker Run to benefit our A/P scholarship program. Please come … fun event. See flyer for details.
URL:https://av8maps.com/event/eaa-chapter-1712-poker-run-kral/2029-11-03/
LOCATION:Riverside Municipal Airport\, 6951 Flight Rd\, Riverside\, CA 92504
ATTACH;FMTTYPE=image/jpeg:https://av8maps.com/wp-content/uploads/2025/10/EAA-Chapter-1712-Poker-Run-e1761009605753.jpg
GEO:33.950697;-117.4458655
X-APPLE-STRUCTURED-LOCATION;VALUE=URI;X-ADDRESS=Riverside Municipal Airport 6951 Flight Rd Riverside CA 92504;X-APPLE-RADIUS=500;X-TITLE=6951 Flight Rd\, Riverside\, CA 92504:geo:-117.4458655,33.950697
END:VEVENT
BEGIN:VEVENT
DTSTART;TZID=America/New_York:20301102T080000
DTEND;TZID=America/New_York:20301102T150000
DTSTAMP:20260423T151040
CREATED:20251021T012013Z
LAST-MODIFIED:20251102T195302Z
UID:10004667-1919836800-1919862000@av8maps.com
SUMMARY:EAA Chapter 1712 Poker Run (KRAL)
DESCRIPTION:EAA Chapter 1712 is hosting a Poker Run to benefit our A/P scholarship program. Please come … fun event. See flyer for details.
URL:https://av8maps.com/event/eaa-chapter-1712-poker-run-kral/2030-11-02/
LOCATION:Riverside Municipal Airport\, 6951 Flight Rd\, Riverside\, CA 92504
ATTACH;FMTTYPE=image/jpeg:https://av8maps.com/wp-content/uploads/2025/10/EAA-Chapter-1712-Poker-Run-e1761009605753.jpg
GEO:33.950697;-117.4458655
X-APPLE-STRUCTURED-LOCATION;VALUE=URI;X-ADDRESS=Riverside Municipal Airport 6951 Flight Rd Riverside CA 92504;X-APPLE-RADIUS=500;X-TITLE=6951 Flight Rd\, Riverside\, CA 92504:geo:-117.4458655,33.950697
END:VEVENT
END:VCALENDAR