BEGIN:VCALENDAR
VERSION:2.0
PRODID:-//AV8MAPS.COM - ECPv6.15.20//NONSGML v1.0//EN
CALSCALE:GREGORIAN
METHOD:PUBLISH
X-WR-CALNAME:AV8MAPS.COM
X-ORIGINAL-URL:https://av8maps.com
X-WR-CALDESC:Events for AV8MAPS.COM
REFRESH-INTERVAL;VALUE=DURATION:PT1H
X-Robots-Tag:noindex
X-PUBLISHED-TTL:PT1H
BEGIN:VTIMEZONE
TZID:America/New_York
BEGIN:DAYLIGHT
TZOFFSETFROM:-0500
TZOFFSETTO:-0400
TZNAME:EDT
DTSTART:20250309T070000
END:DAYLIGHT
BEGIN:STANDARD
TZOFFSETFROM:-0400
TZOFFSETTO:-0500
TZNAME:EST
DTSTART:20251102T060000
END:STANDARD
BEGIN:DAYLIGHT
TZOFFSETFROM:-0500
TZOFFSETTO:-0400
TZNAME:EDT
DTSTART:20260308T070000
END:DAYLIGHT
BEGIN:STANDARD
TZOFFSETFROM:-0400
TZOFFSETTO:-0500
TZNAME:EST
DTSTART:20261101T060000
END:STANDARD
BEGIN:DAYLIGHT
TZOFFSETFROM:-0500
TZOFFSETTO:-0400
TZNAME:EDT
DTSTART:20270314T070000
END:DAYLIGHT
BEGIN:STANDARD
TZOFFSETFROM:-0400
TZOFFSETTO:-0500
TZNAME:EST
DTSTART:20271107T060000
END:STANDARD
BEGIN:DAYLIGHT
TZOFFSETFROM:-0500
TZOFFSETTO:-0400
TZNAME:EDT
DTSTART:20280312T070000
END:DAYLIGHT
BEGIN:STANDARD
TZOFFSETFROM:-0400
TZOFFSETTO:-0500
TZNAME:EST
DTSTART:20281105T060000
END:STANDARD
BEGIN:DAYLIGHT
TZOFFSETFROM:-0500
TZOFFSETTO:-0400
TZNAME:EDT
DTSTART:20290311T070000
END:DAYLIGHT
BEGIN:STANDARD
TZOFFSETFROM:-0400
TZOFFSETTO:-0500
TZNAME:EST
DTSTART:20291104T060000
END:STANDARD
BEGIN:DAYLIGHT
TZOFFSETFROM:-0500
TZOFFSETTO:-0400
TZNAME:EDT
DTSTART:20300310T070000
END:DAYLIGHT
BEGIN:STANDARD
TZOFFSETFROM:-0400
TZOFFSETTO:-0500
TZNAME:EST
DTSTART:20301103T060000
END:STANDARD
BEGIN:DAYLIGHT
TZOFFSETFROM:-0500
TZOFFSETTO:-0400
TZNAME:EDT
DTSTART:20310309T070000
END:DAYLIGHT
BEGIN:STANDARD
TZOFFSETFROM:-0400
TZOFFSETTO:-0500
TZNAME:EST
DTSTART:20311102T060000
END:STANDARD
END:VTIMEZONE
BEGIN:VEVENT
DTSTART;TZID=America/New_York:20261024T083000
DTEND;TZID=America/New_York:20261024T180000
DTSTAMP:20260423T062523
CREATED:20251024T004755Z
LAST-MODIFIED:20251102T195856Z
UID:10004669-1792830600-1792864800@av8maps.com
SUMMARY:Annual Pumpkin Drop (KSET)
DESCRIPTION:t’s that time of year again! St. Charles Flying Service will host our annual Pumpkin Drop.
URL:https://av8maps.com/event/17th-annual-pumpkin-drop-kset/2026-10-24/
LOCATION:St. Charles County Regional Airport – Smartt Field\, 6390 Grafton Ferry Rd\, Portage Des Sioux\, MO 63373
ATTACH;FMTTYPE=image/jpeg:https://av8maps.com/wp-content/uploads/2025/10/17th-Annual-Pumpkin-Drop-KSET-e1761266851600.jpg
GEO:38.9276269;-90.4343976
X-APPLE-STRUCTURED-LOCATION;VALUE=URI;X-ADDRESS=St. Charles County Regional Airport – Smartt Field 6390 Grafton Ferry Rd Portage Des Sioux MO 63373;X-APPLE-RADIUS=500;X-TITLE=6390 Grafton Ferry Rd\, Portage Des Sioux\, MO 63373:geo:-90.4343976,38.9276269
END:VEVENT
BEGIN:VEVENT
DTSTART;TZID=America/New_York:20271023T083000
DTEND;TZID=America/New_York:20271023T180000
DTSTAMP:20260423T062523
CREATED:20251024T004755Z
LAST-MODIFIED:20251102T195856Z
UID:10004670-1824280200-1824314400@av8maps.com
SUMMARY:Annual Pumpkin Drop (KSET)
DESCRIPTION:t’s that time of year again! St. Charles Flying Service will host our annual Pumpkin Drop.
URL:https://av8maps.com/event/17th-annual-pumpkin-drop-kset/2027-10-23/
LOCATION:St. Charles County Regional Airport – Smartt Field\, 6390 Grafton Ferry Rd\, Portage Des Sioux\, MO 63373
ATTACH;FMTTYPE=image/jpeg:https://av8maps.com/wp-content/uploads/2025/10/17th-Annual-Pumpkin-Drop-KSET-e1761266851600.jpg
GEO:38.9276269;-90.4343976
X-APPLE-STRUCTURED-LOCATION;VALUE=URI;X-ADDRESS=St. Charles County Regional Airport – Smartt Field 6390 Grafton Ferry Rd Portage Des Sioux MO 63373;X-APPLE-RADIUS=500;X-TITLE=6390 Grafton Ferry Rd\, Portage Des Sioux\, MO 63373:geo:-90.4343976,38.9276269
END:VEVENT
BEGIN:VEVENT
DTSTART;TZID=America/New_York:20281028T083000
DTEND;TZID=America/New_York:20281028T180000
DTSTAMP:20260423T062523
CREATED:20251024T004755Z
LAST-MODIFIED:20251102T195856Z
UID:10004671-1856334600-1856368800@av8maps.com
SUMMARY:Annual Pumpkin Drop (KSET)
DESCRIPTION:t’s that time of year again! St. Charles Flying Service will host our annual Pumpkin Drop.
URL:https://av8maps.com/event/17th-annual-pumpkin-drop-kset/2028-10-28/
LOCATION:St. Charles County Regional Airport – Smartt Field\, 6390 Grafton Ferry Rd\, Portage Des Sioux\, MO 63373
ATTACH;FMTTYPE=image/jpeg:https://av8maps.com/wp-content/uploads/2025/10/17th-Annual-Pumpkin-Drop-KSET-e1761266851600.jpg
GEO:38.9276269;-90.4343976
X-APPLE-STRUCTURED-LOCATION;VALUE=URI;X-ADDRESS=St. Charles County Regional Airport – Smartt Field 6390 Grafton Ferry Rd Portage Des Sioux MO 63373;X-APPLE-RADIUS=500;X-TITLE=6390 Grafton Ferry Rd\, Portage Des Sioux\, MO 63373:geo:-90.4343976,38.9276269
END:VEVENT
BEGIN:VEVENT
DTSTART;TZID=America/New_York:20291027T083000
DTEND;TZID=America/New_York:20291027T180000
DTSTAMP:20260423T062523
CREATED:20251024T004755Z
LAST-MODIFIED:20251102T195856Z
UID:10004672-1887784200-1887818400@av8maps.com
SUMMARY:Annual Pumpkin Drop (KSET)
DESCRIPTION:t’s that time of year again! St. Charles Flying Service will host our annual Pumpkin Drop.
URL:https://av8maps.com/event/17th-annual-pumpkin-drop-kset/2029-10-27/
LOCATION:St. Charles County Regional Airport – Smartt Field\, 6390 Grafton Ferry Rd\, Portage Des Sioux\, MO 63373
ATTACH;FMTTYPE=image/jpeg:https://av8maps.com/wp-content/uploads/2025/10/17th-Annual-Pumpkin-Drop-KSET-e1761266851600.jpg
GEO:38.9276269;-90.4343976
X-APPLE-STRUCTURED-LOCATION;VALUE=URI;X-ADDRESS=St. Charles County Regional Airport – Smartt Field 6390 Grafton Ferry Rd Portage Des Sioux MO 63373;X-APPLE-RADIUS=500;X-TITLE=6390 Grafton Ferry Rd\, Portage Des Sioux\, MO 63373:geo:-90.4343976,38.9276269
END:VEVENT
BEGIN:VEVENT
DTSTART;TZID=America/New_York:20301026T083000
DTEND;TZID=America/New_York:20301026T180000
DTSTAMP:20260423T062523
CREATED:20251024T004755Z
LAST-MODIFIED:20251102T195856Z
UID:10004673-1919233800-1919268000@av8maps.com
SUMMARY:Annual Pumpkin Drop (KSET)
DESCRIPTION:t’s that time of year again! St. Charles Flying Service will host our annual Pumpkin Drop.
URL:https://av8maps.com/event/17th-annual-pumpkin-drop-kset/2030-10-26/
LOCATION:St. Charles County Regional Airport – Smartt Field\, 6390 Grafton Ferry Rd\, Portage Des Sioux\, MO 63373
ATTACH;FMTTYPE=image/jpeg:https://av8maps.com/wp-content/uploads/2025/10/17th-Annual-Pumpkin-Drop-KSET-e1761266851600.jpg
GEO:38.9276269;-90.4343976
X-APPLE-STRUCTURED-LOCATION;VALUE=URI;X-ADDRESS=St. Charles County Regional Airport – Smartt Field 6390 Grafton Ferry Rd Portage Des Sioux MO 63373;X-APPLE-RADIUS=500;X-TITLE=6390 Grafton Ferry Rd\, Portage Des Sioux\, MO 63373:geo:-90.4343976,38.9276269
END:VEVENT
END:VCALENDAR