BEGIN:VCALENDAR
VERSION:2.0
PRODID:-//AV8MAPS.COM - ECPv6.15.20//NONSGML v1.0//EN
CALSCALE:GREGORIAN
METHOD:PUBLISH
X-WR-CALNAME:AV8MAPS.COM
X-ORIGINAL-URL:https://av8maps.com
X-WR-CALDESC:Events for AV8MAPS.COM
REFRESH-INTERVAL;VALUE=DURATION:PT1H
X-Robots-Tag:noindex
X-PUBLISHED-TTL:PT1H
BEGIN:VTIMEZONE
TZID:America/New_York
BEGIN:DAYLIGHT
TZOFFSETFROM:-0500
TZOFFSETTO:-0400
TZNAME:EDT
DTSTART:20250309T070000
END:DAYLIGHT
BEGIN:STANDARD
TZOFFSETFROM:-0400
TZOFFSETTO:-0500
TZNAME:EST
DTSTART:20251102T060000
END:STANDARD
BEGIN:DAYLIGHT
TZOFFSETFROM:-0500
TZOFFSETTO:-0400
TZNAME:EDT
DTSTART:20260308T070000
END:DAYLIGHT
BEGIN:STANDARD
TZOFFSETFROM:-0400
TZOFFSETTO:-0500
TZNAME:EST
DTSTART:20261101T060000
END:STANDARD
BEGIN:DAYLIGHT
TZOFFSETFROM:-0500
TZOFFSETTO:-0400
TZNAME:EDT
DTSTART:20270314T070000
END:DAYLIGHT
BEGIN:STANDARD
TZOFFSETFROM:-0400
TZOFFSETTO:-0500
TZNAME:EST
DTSTART:20271107T060000
END:STANDARD
BEGIN:DAYLIGHT
TZOFFSETFROM:-0500
TZOFFSETTO:-0400
TZNAME:EDT
DTSTART:20280312T070000
END:DAYLIGHT
BEGIN:STANDARD
TZOFFSETFROM:-0400
TZOFFSETTO:-0500
TZNAME:EST
DTSTART:20281105T060000
END:STANDARD
BEGIN:DAYLIGHT
TZOFFSETFROM:-0500
TZOFFSETTO:-0400
TZNAME:EDT
DTSTART:20290311T070000
END:DAYLIGHT
BEGIN:STANDARD
TZOFFSETFROM:-0400
TZOFFSETTO:-0500
TZNAME:EST
DTSTART:20291104T060000
END:STANDARD
BEGIN:DAYLIGHT
TZOFFSETFROM:-0500
TZOFFSETTO:-0400
TZNAME:EDT
DTSTART:20300310T070000
END:DAYLIGHT
BEGIN:STANDARD
TZOFFSETFROM:-0400
TZOFFSETTO:-0500
TZNAME:EST
DTSTART:20301103T060000
END:STANDARD
BEGIN:DAYLIGHT
TZOFFSETFROM:-0500
TZOFFSETTO:-0400
TZNAME:EDT
DTSTART:20310309T070000
END:DAYLIGHT
BEGIN:STANDARD
TZOFFSETFROM:-0400
TZOFFSETTO:-0500
TZNAME:EST
DTSTART:20311102T060000
END:STANDARD
END:VTIMEZONE
BEGIN:VEVENT
DTSTART;TZID=America/New_York:20261024T100000
DTEND;TZID=America/New_York:20261024T140000
DTSTAMP:20260423T075210
CREATED:20250607T005005Z
LAST-MODIFIED:20260412T183235Z
UID:10004684-1792836000-1792850400@av8maps.com
SUMMARY:Annual Fly-In & Cruise-In (KLBT)
DESCRIPTION:🚀 Exciting Announcement! 🚀\nJoin us at Lumberton Regional Airport for our Annual Fly-In & Cruise-In! ✈️🚗 \nWe’re excited to announce our Annual Fly-In & Cruise-In here at Lumberton Regional Airport!\nIf you missed it last year\, you definitely missed a great time!\nThis year we hope to make it even bigger and better!!!\nWe pride ourselves on being able to offer this event to the community free of charge\, and look forward to making this the best one yet!\nPlease share\, and make plans to attend! We look forward to seeing you all!
URL:https://av8maps.com/event/annual-fly-in-cruise-in/2026-10-24/
LOCATION:Lumberton Regional Airport\, 163 Airport Blvd\, Lumberton\, NC\, 28358
ATTACH;FMTTYPE=image/jpeg:https://av8maps.com/wp-content/uploads/2025/06/Lumberton-Regional-Fly-in-KLBT-e1776018487204.jpg
GEO:34.609888;-79.059201
X-APPLE-STRUCTURED-LOCATION;VALUE=URI;X-ADDRESS=Lumberton Regional Airport 163 Airport Blvd Lumberton NC 28358;X-APPLE-RADIUS=500;X-TITLE=163 Airport Blvd:geo:-79.059201,34.609888
END:VEVENT
BEGIN:VEVENT
DTSTART;TZID=America/New_York:20271023T100000
DTEND;TZID=America/New_York:20271023T140000
DTSTAMP:20260423T075210
CREATED:20250607T005005Z
LAST-MODIFIED:20260412T183235Z
UID:10004685-1824285600-1824300000@av8maps.com
SUMMARY:Annual Fly-In & Cruise-In (KLBT)
DESCRIPTION:🚀 Exciting Announcement! 🚀\nJoin us at Lumberton Regional Airport for our Annual Fly-In & Cruise-In! ✈️🚗 \nWe’re excited to announce our Annual Fly-In & Cruise-In here at Lumberton Regional Airport!\nIf you missed it last year\, you definitely missed a great time!\nThis year we hope to make it even bigger and better!!!\nWe pride ourselves on being able to offer this event to the community free of charge\, and look forward to making this the best one yet!\nPlease share\, and make plans to attend! We look forward to seeing you all!
URL:https://av8maps.com/event/annual-fly-in-cruise-in/2027-10-23/
LOCATION:Lumberton Regional Airport\, 163 Airport Blvd\, Lumberton\, NC\, 28358
ATTACH;FMTTYPE=image/jpeg:https://av8maps.com/wp-content/uploads/2025/06/Lumberton-Regional-Fly-in-KLBT-e1776018487204.jpg
GEO:34.609888;-79.059201
X-APPLE-STRUCTURED-LOCATION;VALUE=URI;X-ADDRESS=Lumberton Regional Airport 163 Airport Blvd Lumberton NC 28358;X-APPLE-RADIUS=500;X-TITLE=163 Airport Blvd:geo:-79.059201,34.609888
END:VEVENT
BEGIN:VEVENT
DTSTART;TZID=America/New_York:20281028T100000
DTEND;TZID=America/New_York:20281028T140000
DTSTAMP:20260423T075210
CREATED:20250607T005005Z
LAST-MODIFIED:20260412T183235Z
UID:10004686-1856340000-1856354400@av8maps.com
SUMMARY:Annual Fly-In & Cruise-In (KLBT)
DESCRIPTION:🚀 Exciting Announcement! 🚀\nJoin us at Lumberton Regional Airport for our Annual Fly-In & Cruise-In! ✈️🚗 \nWe’re excited to announce our Annual Fly-In & Cruise-In here at Lumberton Regional Airport!\nIf you missed it last year\, you definitely missed a great time!\nThis year we hope to make it even bigger and better!!!\nWe pride ourselves on being able to offer this event to the community free of charge\, and look forward to making this the best one yet!\nPlease share\, and make plans to attend! We look forward to seeing you all!
URL:https://av8maps.com/event/annual-fly-in-cruise-in/2028-10-28/
LOCATION:Lumberton Regional Airport\, 163 Airport Blvd\, Lumberton\, NC\, 28358
ATTACH;FMTTYPE=image/jpeg:https://av8maps.com/wp-content/uploads/2025/06/Lumberton-Regional-Fly-in-KLBT-e1776018487204.jpg
GEO:34.609888;-79.059201
X-APPLE-STRUCTURED-LOCATION;VALUE=URI;X-ADDRESS=Lumberton Regional Airport 163 Airport Blvd Lumberton NC 28358;X-APPLE-RADIUS=500;X-TITLE=163 Airport Blvd:geo:-79.059201,34.609888
END:VEVENT
BEGIN:VEVENT
DTSTART;TZID=America/New_York:20291027T100000
DTEND;TZID=America/New_York:20291027T140000
DTSTAMP:20260423T075210
CREATED:20250607T005005Z
LAST-MODIFIED:20260412T183235Z
UID:10004687-1887789600-1887804000@av8maps.com
SUMMARY:Annual Fly-In & Cruise-In (KLBT)
DESCRIPTION:🚀 Exciting Announcement! 🚀\nJoin us at Lumberton Regional Airport for our Annual Fly-In & Cruise-In! ✈️🚗 \nWe’re excited to announce our Annual Fly-In & Cruise-In here at Lumberton Regional Airport!\nIf you missed it last year\, you definitely missed a great time!\nThis year we hope to make it even bigger and better!!!\nWe pride ourselves on being able to offer this event to the community free of charge\, and look forward to making this the best one yet!\nPlease share\, and make plans to attend! We look forward to seeing you all!
URL:https://av8maps.com/event/annual-fly-in-cruise-in/2029-10-27/
LOCATION:Lumberton Regional Airport\, 163 Airport Blvd\, Lumberton\, NC\, 28358
ATTACH;FMTTYPE=image/jpeg:https://av8maps.com/wp-content/uploads/2025/06/Lumberton-Regional-Fly-in-KLBT-e1776018487204.jpg
GEO:34.609888;-79.059201
X-APPLE-STRUCTURED-LOCATION;VALUE=URI;X-ADDRESS=Lumberton Regional Airport 163 Airport Blvd Lumberton NC 28358;X-APPLE-RADIUS=500;X-TITLE=163 Airport Blvd:geo:-79.059201,34.609888
END:VEVENT
BEGIN:VEVENT
DTSTART;TZID=America/New_York:20301026T100000
DTEND;TZID=America/New_York:20301026T140000
DTSTAMP:20260423T075210
CREATED:20250607T005005Z
LAST-MODIFIED:20260412T183235Z
UID:10004688-1919239200-1919253600@av8maps.com
SUMMARY:Annual Fly-In & Cruise-In (KLBT)
DESCRIPTION:🚀 Exciting Announcement! 🚀\nJoin us at Lumberton Regional Airport for our Annual Fly-In & Cruise-In! ✈️🚗 \nWe’re excited to announce our Annual Fly-In & Cruise-In here at Lumberton Regional Airport!\nIf you missed it last year\, you definitely missed a great time!\nThis year we hope to make it even bigger and better!!!\nWe pride ourselves on being able to offer this event to the community free of charge\, and look forward to making this the best one yet!\nPlease share\, and make plans to attend! We look forward to seeing you all!
URL:https://av8maps.com/event/annual-fly-in-cruise-in/2030-10-26/
LOCATION:Lumberton Regional Airport\, 163 Airport Blvd\, Lumberton\, NC\, 28358
ATTACH;FMTTYPE=image/jpeg:https://av8maps.com/wp-content/uploads/2025/06/Lumberton-Regional-Fly-in-KLBT-e1776018487204.jpg
GEO:34.609888;-79.059201
X-APPLE-STRUCTURED-LOCATION;VALUE=URI;X-ADDRESS=Lumberton Regional Airport 163 Airport Blvd Lumberton NC 28358;X-APPLE-RADIUS=500;X-TITLE=163 Airport Blvd:geo:-79.059201,34.609888
END:VEVENT
END:VCALENDAR