BEGIN:VCALENDAR
VERSION:2.0
PRODID:-//AV8MAPS.COM - ECPv6.15.20//NONSGML v1.0//EN
CALSCALE:GREGORIAN
METHOD:PUBLISH
X-WR-CALNAME:AV8MAPS.COM
X-ORIGINAL-URL:https://av8maps.com
X-WR-CALDESC:Events for AV8MAPS.COM
REFRESH-INTERVAL;VALUE=DURATION:PT1H
X-Robots-Tag:noindex
X-PUBLISHED-TTL:PT1H
BEGIN:VTIMEZONE
TZID:America/New_York
BEGIN:DAYLIGHT
TZOFFSETFROM:-0500
TZOFFSETTO:-0400
TZNAME:EDT
DTSTART:20250309T070000
END:DAYLIGHT
BEGIN:STANDARD
TZOFFSETFROM:-0400
TZOFFSETTO:-0500
TZNAME:EST
DTSTART:20251102T060000
END:STANDARD
BEGIN:DAYLIGHT
TZOFFSETFROM:-0500
TZOFFSETTO:-0400
TZNAME:EDT
DTSTART:20260308T070000
END:DAYLIGHT
BEGIN:STANDARD
TZOFFSETFROM:-0400
TZOFFSETTO:-0500
TZNAME:EST
DTSTART:20261101T060000
END:STANDARD
BEGIN:DAYLIGHT
TZOFFSETFROM:-0500
TZOFFSETTO:-0400
TZNAME:EDT
DTSTART:20270314T070000
END:DAYLIGHT
BEGIN:STANDARD
TZOFFSETFROM:-0400
TZOFFSETTO:-0500
TZNAME:EST
DTSTART:20271107T060000
END:STANDARD
BEGIN:DAYLIGHT
TZOFFSETFROM:-0500
TZOFFSETTO:-0400
TZNAME:EDT
DTSTART:20280312T070000
END:DAYLIGHT
BEGIN:STANDARD
TZOFFSETFROM:-0400
TZOFFSETTO:-0500
TZNAME:EST
DTSTART:20281105T060000
END:STANDARD
BEGIN:DAYLIGHT
TZOFFSETFROM:-0500
TZOFFSETTO:-0400
TZNAME:EDT
DTSTART:20290311T070000
END:DAYLIGHT
BEGIN:STANDARD
TZOFFSETFROM:-0400
TZOFFSETTO:-0500
TZNAME:EST
DTSTART:20291104T060000
END:STANDARD
BEGIN:DAYLIGHT
TZOFFSETFROM:-0500
TZOFFSETTO:-0400
TZNAME:EDT
DTSTART:20300310T070000
END:DAYLIGHT
BEGIN:STANDARD
TZOFFSETFROM:-0400
TZOFFSETTO:-0500
TZNAME:EST
DTSTART:20301103T060000
END:STANDARD
BEGIN:DAYLIGHT
TZOFFSETFROM:-0500
TZOFFSETTO:-0400
TZNAME:EDT
DTSTART:20310309T070000
END:DAYLIGHT
BEGIN:STANDARD
TZOFFSETFROM:-0400
TZOFFSETTO:-0500
TZNAME:EST
DTSTART:20311102T060000
END:STANDARD
END:VTIMEZONE
BEGIN:VEVENT
DTSTART;TZID=America/New_York:20261024T090000
DTEND;TZID=America/New_York:20261024T120000
DTSTAMP:20260423T193331
CREATED:20251012T163242Z
LAST-MODIFIED:20251102T200901Z
UID:10004689-1792832400-1792843200@av8maps.com
SUMMARY:Hangar 1 Cafe Trunk or Treat (KHMT)
DESCRIPTION:Please join us from 9am to 12pm for some Halloween activities! Our amazing Hemet-Ryan pilots will be decorating their airplanes and passing out candy to the children. Please dress up and come have some fun at our historical Hemet Airport!
URL:https://av8maps.com/event/hangar-1-cafe-trunk-or-treat/2026-10-24/
LOCATION:Hemet Ryan Airport\, 4200 Walden Weaver Rd\, Hemet\, CA 92545
ATTACH;FMTTYPE=image/jpeg:https://av8maps.com/wp-content/uploads/2025/10/Hangar-1-Cafe-Trunk-or-Treat-e1761270084283.jpg
GEO:33.7312163;-117.017124
X-APPLE-STRUCTURED-LOCATION;VALUE=URI;X-ADDRESS=Hemet Ryan Airport 4200 Walden Weaver Rd Hemet CA 92545;X-APPLE-RADIUS=500;X-TITLE=4200 Walden Weaver Rd\, Hemet\, CA 92545:geo:-117.017124,33.7312163
END:VEVENT
BEGIN:VEVENT
DTSTART;TZID=America/New_York:20271023T090000
DTEND;TZID=America/New_York:20271023T120000
DTSTAMP:20260423T193331
CREATED:20251012T163242Z
LAST-MODIFIED:20251102T200901Z
UID:10004690-1824282000-1824292800@av8maps.com
SUMMARY:Hangar 1 Cafe Trunk or Treat (KHMT)
DESCRIPTION:Please join us from 9am to 12pm for some Halloween activities! Our amazing Hemet-Ryan pilots will be decorating their airplanes and passing out candy to the children. Please dress up and come have some fun at our historical Hemet Airport!
URL:https://av8maps.com/event/hangar-1-cafe-trunk-or-treat/2027-10-23/
LOCATION:Hemet Ryan Airport\, 4200 Walden Weaver Rd\, Hemet\, CA 92545
ATTACH;FMTTYPE=image/jpeg:https://av8maps.com/wp-content/uploads/2025/10/Hangar-1-Cafe-Trunk-or-Treat-e1761270084283.jpg
GEO:33.7312163;-117.017124
X-APPLE-STRUCTURED-LOCATION;VALUE=URI;X-ADDRESS=Hemet Ryan Airport 4200 Walden Weaver Rd Hemet CA 92545;X-APPLE-RADIUS=500;X-TITLE=4200 Walden Weaver Rd\, Hemet\, CA 92545:geo:-117.017124,33.7312163
END:VEVENT
BEGIN:VEVENT
DTSTART;TZID=America/New_York:20281028T090000
DTEND;TZID=America/New_York:20281028T120000
DTSTAMP:20260423T193331
CREATED:20251012T163242Z
LAST-MODIFIED:20251102T200901Z
UID:10004691-1856336400-1856347200@av8maps.com
SUMMARY:Hangar 1 Cafe Trunk or Treat (KHMT)
DESCRIPTION:Please join us from 9am to 12pm for some Halloween activities! Our amazing Hemet-Ryan pilots will be decorating their airplanes and passing out candy to the children. Please dress up and come have some fun at our historical Hemet Airport!
URL:https://av8maps.com/event/hangar-1-cafe-trunk-or-treat/2028-10-28/
LOCATION:Hemet Ryan Airport\, 4200 Walden Weaver Rd\, Hemet\, CA 92545
ATTACH;FMTTYPE=image/jpeg:https://av8maps.com/wp-content/uploads/2025/10/Hangar-1-Cafe-Trunk-or-Treat-e1761270084283.jpg
GEO:33.7312163;-117.017124
X-APPLE-STRUCTURED-LOCATION;VALUE=URI;X-ADDRESS=Hemet Ryan Airport 4200 Walden Weaver Rd Hemet CA 92545;X-APPLE-RADIUS=500;X-TITLE=4200 Walden Weaver Rd\, Hemet\, CA 92545:geo:-117.017124,33.7312163
END:VEVENT
BEGIN:VEVENT
DTSTART;TZID=America/New_York:20291027T090000
DTEND;TZID=America/New_York:20291027T120000
DTSTAMP:20260423T193331
CREATED:20251012T163242Z
LAST-MODIFIED:20251102T200901Z
UID:10004692-1887786000-1887796800@av8maps.com
SUMMARY:Hangar 1 Cafe Trunk or Treat (KHMT)
DESCRIPTION:Please join us from 9am to 12pm for some Halloween activities! Our amazing Hemet-Ryan pilots will be decorating their airplanes and passing out candy to the children. Please dress up and come have some fun at our historical Hemet Airport!
URL:https://av8maps.com/event/hangar-1-cafe-trunk-or-treat/2029-10-27/
LOCATION:Hemet Ryan Airport\, 4200 Walden Weaver Rd\, Hemet\, CA 92545
ATTACH;FMTTYPE=image/jpeg:https://av8maps.com/wp-content/uploads/2025/10/Hangar-1-Cafe-Trunk-or-Treat-e1761270084283.jpg
GEO:33.7312163;-117.017124
X-APPLE-STRUCTURED-LOCATION;VALUE=URI;X-ADDRESS=Hemet Ryan Airport 4200 Walden Weaver Rd Hemet CA 92545;X-APPLE-RADIUS=500;X-TITLE=4200 Walden Weaver Rd\, Hemet\, CA 92545:geo:-117.017124,33.7312163
END:VEVENT
BEGIN:VEVENT
DTSTART;TZID=America/New_York:20301026T090000
DTEND;TZID=America/New_York:20301026T120000
DTSTAMP:20260423T193331
CREATED:20251012T163242Z
LAST-MODIFIED:20251102T200901Z
UID:10004693-1919235600-1919246400@av8maps.com
SUMMARY:Hangar 1 Cafe Trunk or Treat (KHMT)
DESCRIPTION:Please join us from 9am to 12pm for some Halloween activities! Our amazing Hemet-Ryan pilots will be decorating their airplanes and passing out candy to the children. Please dress up and come have some fun at our historical Hemet Airport!
URL:https://av8maps.com/event/hangar-1-cafe-trunk-or-treat/2030-10-26/
LOCATION:Hemet Ryan Airport\, 4200 Walden Weaver Rd\, Hemet\, CA 92545
ATTACH;FMTTYPE=image/jpeg:https://av8maps.com/wp-content/uploads/2025/10/Hangar-1-Cafe-Trunk-or-Treat-e1761270084283.jpg
GEO:33.7312163;-117.017124
X-APPLE-STRUCTURED-LOCATION;VALUE=URI;X-ADDRESS=Hemet Ryan Airport 4200 Walden Weaver Rd Hemet CA 92545;X-APPLE-RADIUS=500;X-TITLE=4200 Walden Weaver Rd\, Hemet\, CA 92545:geo:-117.017124,33.7312163
END:VEVENT
END:VCALENDAR