BEGIN:VCALENDAR
VERSION:2.0
PRODID:-//AV8MAPS.COM - ECPv6.15.20//NONSGML v1.0//EN
CALSCALE:GREGORIAN
METHOD:PUBLISH
X-WR-CALNAME:AV8MAPS.COM
X-ORIGINAL-URL:https://av8maps.com
X-WR-CALDESC:Events for AV8MAPS.COM
REFRESH-INTERVAL;VALUE=DURATION:PT1H
X-Robots-Tag:noindex
X-PUBLISHED-TTL:PT1H
BEGIN:VTIMEZONE
TZID:America/New_York
BEGIN:DAYLIGHT
TZOFFSETFROM:-0500
TZOFFSETTO:-0400
TZNAME:EDT
DTSTART:20250309T070000
END:DAYLIGHT
BEGIN:STANDARD
TZOFFSETFROM:-0400
TZOFFSETTO:-0500
TZNAME:EST
DTSTART:20251102T060000
END:STANDARD
BEGIN:DAYLIGHT
TZOFFSETFROM:-0500
TZOFFSETTO:-0400
TZNAME:EDT
DTSTART:20260308T070000
END:DAYLIGHT
BEGIN:STANDARD
TZOFFSETFROM:-0400
TZOFFSETTO:-0500
TZNAME:EST
DTSTART:20261101T060000
END:STANDARD
BEGIN:DAYLIGHT
TZOFFSETFROM:-0500
TZOFFSETTO:-0400
TZNAME:EDT
DTSTART:20270314T070000
END:DAYLIGHT
BEGIN:STANDARD
TZOFFSETFROM:-0400
TZOFFSETTO:-0500
TZNAME:EST
DTSTART:20271107T060000
END:STANDARD
BEGIN:DAYLIGHT
TZOFFSETFROM:-0500
TZOFFSETTO:-0400
TZNAME:EDT
DTSTART:20280312T070000
END:DAYLIGHT
BEGIN:STANDARD
TZOFFSETFROM:-0400
TZOFFSETTO:-0500
TZNAME:EST
DTSTART:20281105T060000
END:STANDARD
BEGIN:DAYLIGHT
TZOFFSETFROM:-0500
TZOFFSETTO:-0400
TZNAME:EDT
DTSTART:20290311T070000
END:DAYLIGHT
BEGIN:STANDARD
TZOFFSETFROM:-0400
TZOFFSETTO:-0500
TZNAME:EST
DTSTART:20291104T060000
END:STANDARD
BEGIN:DAYLIGHT
TZOFFSETFROM:-0500
TZOFFSETTO:-0400
TZNAME:EDT
DTSTART:20300310T070000
END:DAYLIGHT
BEGIN:STANDARD
TZOFFSETFROM:-0400
TZOFFSETTO:-0500
TZNAME:EST
DTSTART:20301103T060000
END:STANDARD
BEGIN:DAYLIGHT
TZOFFSETFROM:-0500
TZOFFSETTO:-0400
TZNAME:EDT
DTSTART:20310309T070000
END:DAYLIGHT
BEGIN:STANDARD
TZOFFSETFROM:-0400
TZOFFSETTO:-0500
TZNAME:EST
DTSTART:20311102T060000
END:STANDARD
END:VTIMEZONE
BEGIN:VEVENT
DTSTART;TZID=America/New_York:20260606T080000
DTEND;TZID=America/New_York:20260606T140000
DTSTAMP:20260423T164823
CREATED:20250507T024804Z
LAST-MODIFIED:20251102T201513Z
UID:10004699-1780732800-1780754400@av8maps.com
SUMMARY:Dawn Patrol -Pancake Breakfast (3GM)
DESCRIPTION:Take Off with Us at Dawn Patrol!\nJoin us for an exciting Fly-In / Drive-In event—everyone is welcome\, whether you’re arriving by air or land!\nThe event is FREE\, tickets are for breakfast only.\nEnjoy a delicious breakfast for just $10\, featuring coffee\, juice\, eggs\, sausage\, and pancakes. Kids 5 and under eat for only $5. Pre-sale tickets available!\nWhat to Expect:\nA variety of aircraft on display\nThrilling skydiving demonstrations\nA silent auction with great items up for bid\nSpecial radio giveaway for attending pilots!\nDon’t miss this fun-filled morning for the whole family—see you at Dawn Patrol!
URL:https://av8maps.com/event/dawn-patrol-pancake-breakfast/2026-06-06/
LOCATION:Grand Haven Memorial\, 16446 Comstock St\, Grand Haven\, MI 49417\, MI
ATTACH;FMTTYPE=image/jpeg:https://av8maps.com/wp-content/uploads/2025/05/Grand-Haven-e1762114959371.jpg
GEO:43.0355427;-86.1975465
X-APPLE-STRUCTURED-LOCATION;VALUE=URI;X-ADDRESS=Grand Haven Memorial 16446 Comstock St Grand Haven MI 49417 MI;X-APPLE-RADIUS=500;X-TITLE=16446 Comstock St\, Grand Haven\, MI 49417:geo:-86.1975465,43.0355427
END:VEVENT
BEGIN:VEVENT
DTSTART;TZID=America/New_York:20270605T080000
DTEND;TZID=America/New_York:20270605T140000
DTSTAMP:20260423T164823
CREATED:20250507T024804Z
LAST-MODIFIED:20251102T201513Z
UID:10004700-1812182400-1812204000@av8maps.com
SUMMARY:Dawn Patrol -Pancake Breakfast (3GM)
DESCRIPTION:Take Off with Us at Dawn Patrol!\nJoin us for an exciting Fly-In / Drive-In event—everyone is welcome\, whether you’re arriving by air or land!\nThe event is FREE\, tickets are for breakfast only.\nEnjoy a delicious breakfast for just $10\, featuring coffee\, juice\, eggs\, sausage\, and pancakes. Kids 5 and under eat for only $5. Pre-sale tickets available!\nWhat to Expect:\nA variety of aircraft on display\nThrilling skydiving demonstrations\nA silent auction with great items up for bid\nSpecial radio giveaway for attending pilots!\nDon’t miss this fun-filled morning for the whole family—see you at Dawn Patrol!
URL:https://av8maps.com/event/dawn-patrol-pancake-breakfast/2027-06-05/
LOCATION:Grand Haven Memorial\, 16446 Comstock St\, Grand Haven\, MI 49417\, MI
ATTACH;FMTTYPE=image/jpeg:https://av8maps.com/wp-content/uploads/2025/05/Grand-Haven-e1762114959371.jpg
GEO:43.0355427;-86.1975465
X-APPLE-STRUCTURED-LOCATION;VALUE=URI;X-ADDRESS=Grand Haven Memorial 16446 Comstock St Grand Haven MI 49417 MI;X-APPLE-RADIUS=500;X-TITLE=16446 Comstock St\, Grand Haven\, MI 49417:geo:-86.1975465,43.0355427
END:VEVENT
BEGIN:VEVENT
DTSTART;TZID=America/New_York:20280603T080000
DTEND;TZID=America/New_York:20280603T140000
DTSTAMP:20260423T164823
CREATED:20250507T024804Z
LAST-MODIFIED:20251102T201513Z
UID:10004701-1843632000-1843653600@av8maps.com
SUMMARY:Dawn Patrol -Pancake Breakfast (3GM)
DESCRIPTION:Take Off with Us at Dawn Patrol!\nJoin us for an exciting Fly-In / Drive-In event—everyone is welcome\, whether you’re arriving by air or land!\nThe event is FREE\, tickets are for breakfast only.\nEnjoy a delicious breakfast for just $10\, featuring coffee\, juice\, eggs\, sausage\, and pancakes. Kids 5 and under eat for only $5. Pre-sale tickets available!\nWhat to Expect:\nA variety of aircraft on display\nThrilling skydiving demonstrations\nA silent auction with great items up for bid\nSpecial radio giveaway for attending pilots!\nDon’t miss this fun-filled morning for the whole family—see you at Dawn Patrol!
URL:https://av8maps.com/event/dawn-patrol-pancake-breakfast/2028-06-03/
LOCATION:Grand Haven Memorial\, 16446 Comstock St\, Grand Haven\, MI 49417\, MI
ATTACH;FMTTYPE=image/jpeg:https://av8maps.com/wp-content/uploads/2025/05/Grand-Haven-e1762114959371.jpg
GEO:43.0355427;-86.1975465
X-APPLE-STRUCTURED-LOCATION;VALUE=URI;X-ADDRESS=Grand Haven Memorial 16446 Comstock St Grand Haven MI 49417 MI;X-APPLE-RADIUS=500;X-TITLE=16446 Comstock St\, Grand Haven\, MI 49417:geo:-86.1975465,43.0355427
END:VEVENT
BEGIN:VEVENT
DTSTART;TZID=America/New_York:20290602T080000
DTEND;TZID=America/New_York:20290602T140000
DTSTAMP:20260423T164823
CREATED:20250507T024804Z
LAST-MODIFIED:20251102T201513Z
UID:10004702-1875081600-1875103200@av8maps.com
SUMMARY:Dawn Patrol -Pancake Breakfast (3GM)
DESCRIPTION:Take Off with Us at Dawn Patrol!\nJoin us for an exciting Fly-In / Drive-In event—everyone is welcome\, whether you’re arriving by air or land!\nThe event is FREE\, tickets are for breakfast only.\nEnjoy a delicious breakfast for just $10\, featuring coffee\, juice\, eggs\, sausage\, and pancakes. Kids 5 and under eat for only $5. Pre-sale tickets available!\nWhat to Expect:\nA variety of aircraft on display\nThrilling skydiving demonstrations\nA silent auction with great items up for bid\nSpecial radio giveaway for attending pilots!\nDon’t miss this fun-filled morning for the whole family—see you at Dawn Patrol!
URL:https://av8maps.com/event/dawn-patrol-pancake-breakfast/2029-06-02/
LOCATION:Grand Haven Memorial\, 16446 Comstock St\, Grand Haven\, MI 49417\, MI
ATTACH;FMTTYPE=image/jpeg:https://av8maps.com/wp-content/uploads/2025/05/Grand-Haven-e1762114959371.jpg
GEO:43.0355427;-86.1975465
X-APPLE-STRUCTURED-LOCATION;VALUE=URI;X-ADDRESS=Grand Haven Memorial 16446 Comstock St Grand Haven MI 49417 MI;X-APPLE-RADIUS=500;X-TITLE=16446 Comstock St\, Grand Haven\, MI 49417:geo:-86.1975465,43.0355427
END:VEVENT
BEGIN:VEVENT
DTSTART;TZID=America/New_York:20300601T080000
DTEND;TZID=America/New_York:20300601T140000
DTSTAMP:20260423T164823
CREATED:20250507T024804Z
LAST-MODIFIED:20251102T201513Z
UID:10004703-1906531200-1906552800@av8maps.com
SUMMARY:Dawn Patrol -Pancake Breakfast (3GM)
DESCRIPTION:Take Off with Us at Dawn Patrol!\nJoin us for an exciting Fly-In / Drive-In event—everyone is welcome\, whether you’re arriving by air or land!\nThe event is FREE\, tickets are for breakfast only.\nEnjoy a delicious breakfast for just $10\, featuring coffee\, juice\, eggs\, sausage\, and pancakes. Kids 5 and under eat for only $5. Pre-sale tickets available!\nWhat to Expect:\nA variety of aircraft on display\nThrilling skydiving demonstrations\nA silent auction with great items up for bid\nSpecial radio giveaway for attending pilots!\nDon’t miss this fun-filled morning for the whole family—see you at Dawn Patrol!
URL:https://av8maps.com/event/dawn-patrol-pancake-breakfast/2030-06-01/
LOCATION:Grand Haven Memorial\, 16446 Comstock St\, Grand Haven\, MI 49417\, MI
ATTACH;FMTTYPE=image/jpeg:https://av8maps.com/wp-content/uploads/2025/05/Grand-Haven-e1762114959371.jpg
GEO:43.0355427;-86.1975465
X-APPLE-STRUCTURED-LOCATION;VALUE=URI;X-ADDRESS=Grand Haven Memorial 16446 Comstock St Grand Haven MI 49417 MI;X-APPLE-RADIUS=500;X-TITLE=16446 Comstock St\, Grand Haven\, MI 49417:geo:-86.1975465,43.0355427
END:VEVENT
END:VCALENDAR