BEGIN:VCALENDAR
VERSION:2.0
PRODID:-//AV8MAPS.COM - ECPv6.15.20//NONSGML v1.0//EN
CALSCALE:GREGORIAN
METHOD:PUBLISH
X-WR-CALNAME:AV8MAPS.COM
X-ORIGINAL-URL:https://av8maps.com
X-WR-CALDESC:Events for AV8MAPS.COM
REFRESH-INTERVAL;VALUE=DURATION:PT1H
X-Robots-Tag:noindex
X-PUBLISHED-TTL:PT1H
BEGIN:VTIMEZONE
TZID:America/New_York
BEGIN:DAYLIGHT
TZOFFSETFROM:-0500
TZOFFSETTO:-0400
TZNAME:EDT
DTSTART:20250309T070000
END:DAYLIGHT
BEGIN:STANDARD
TZOFFSETFROM:-0400
TZOFFSETTO:-0500
TZNAME:EST
DTSTART:20251102T060000
END:STANDARD
BEGIN:DAYLIGHT
TZOFFSETFROM:-0500
TZOFFSETTO:-0400
TZNAME:EDT
DTSTART:20260308T070000
END:DAYLIGHT
BEGIN:STANDARD
TZOFFSETFROM:-0400
TZOFFSETTO:-0500
TZNAME:EST
DTSTART:20261101T060000
END:STANDARD
BEGIN:DAYLIGHT
TZOFFSETFROM:-0500
TZOFFSETTO:-0400
TZNAME:EDT
DTSTART:20270314T070000
END:DAYLIGHT
BEGIN:STANDARD
TZOFFSETFROM:-0400
TZOFFSETTO:-0500
TZNAME:EST
DTSTART:20271107T060000
END:STANDARD
END:VTIMEZONE
BEGIN:VEVENT
DTSTART;TZID=America/New_York:20260516T073000
DTEND;TZID=America/New_York:20260516T100000
DTSTAMP:20260423T062511
CREATED:20250706T201255Z
LAST-MODIFIED:20251102T202842Z
UID:10004704-1778916600-1778925600@av8maps.com
SUMMARY:Woodring Airport Fly-in Breakfast (KWDG)
DESCRIPTION:Enid OK – Woodring Regional Airport (KWDG) \nWoodring 2025 Airport Fly-In Breakfast Dates \n\nApril 26th (changed due to Easter)\nMay 17th\nJune 21st\nJuly 19th\nAugust 16th\nSeptember 20th\n\nTime: Breakfast will run from 7:30am-10:00am. $10.99 per person. \nLocation: Enid Woodring Regional Airport Terminal\, 1026 S. 66th Enid\, OK 73701
URL:https://av8maps.com/event/woodring-airport-fly-in-breakfast-kwdg/2026-05-16/
LOCATION:Enid-Woodring Airport\, 1026 S 66th St\, Enid\, OK 73701
ATTACH;FMTTYPE=image/jpeg:https://av8maps.com/wp-content/uploads/2025/07/Barnstormers-Fly-in-Enid-e1755270751373.jpg
GEO:36.3859774;-97.7868691
X-APPLE-STRUCTURED-LOCATION;VALUE=URI;X-ADDRESS=Enid-Woodring Airport 1026 S 66th St Enid OK 73701;X-APPLE-RADIUS=500;X-TITLE=1026 S 66th St\, Enid\, OK 73701:geo:-97.7868691,36.3859774
END:VEVENT
BEGIN:VEVENT
DTSTART;TZID=America/New_York:20260620T073000
DTEND;TZID=America/New_York:20260620T100000
DTSTAMP:20260423T062511
CREATED:20250706T201255Z
LAST-MODIFIED:20251102T202842Z
UID:10004705-1781940600-1781949600@av8maps.com
SUMMARY:Woodring Airport Fly-in Breakfast (KWDG)
DESCRIPTION:Enid OK – Woodring Regional Airport (KWDG) \nWoodring 2025 Airport Fly-In Breakfast Dates \n\nApril 26th (changed due to Easter)\nMay 17th\nJune 21st\nJuly 19th\nAugust 16th\nSeptember 20th\n\nTime: Breakfast will run from 7:30am-10:00am. $10.99 per person. \nLocation: Enid Woodring Regional Airport Terminal\, 1026 S. 66th Enid\, OK 73701
URL:https://av8maps.com/event/woodring-airport-fly-in-breakfast-kwdg/2026-06-20/
LOCATION:Enid-Woodring Airport\, 1026 S 66th St\, Enid\, OK 73701
ATTACH;FMTTYPE=image/jpeg:https://av8maps.com/wp-content/uploads/2025/07/Barnstormers-Fly-in-Enid-e1755270751373.jpg
GEO:36.3859774;-97.7868691
X-APPLE-STRUCTURED-LOCATION;VALUE=URI;X-ADDRESS=Enid-Woodring Airport 1026 S 66th St Enid OK 73701;X-APPLE-RADIUS=500;X-TITLE=1026 S 66th St\, Enid\, OK 73701:geo:-97.7868691,36.3859774
END:VEVENT
BEGIN:VEVENT
DTSTART;TZID=America/New_York:20260718T073000
DTEND;TZID=America/New_York:20260718T100000
DTSTAMP:20260423T062511
CREATED:20250706T201255Z
LAST-MODIFIED:20251102T202842Z
UID:10004706-1784359800-1784368800@av8maps.com
SUMMARY:Woodring Airport Fly-in Breakfast (KWDG)
DESCRIPTION:Enid OK – Woodring Regional Airport (KWDG) \nWoodring 2025 Airport Fly-In Breakfast Dates \n\nApril 26th (changed due to Easter)\nMay 17th\nJune 21st\nJuly 19th\nAugust 16th\nSeptember 20th\n\nTime: Breakfast will run from 7:30am-10:00am. $10.99 per person. \nLocation: Enid Woodring Regional Airport Terminal\, 1026 S. 66th Enid\, OK 73701
URL:https://av8maps.com/event/woodring-airport-fly-in-breakfast-kwdg/2026-07-18/
LOCATION:Enid-Woodring Airport\, 1026 S 66th St\, Enid\, OK 73701
ATTACH;FMTTYPE=image/jpeg:https://av8maps.com/wp-content/uploads/2025/07/Barnstormers-Fly-in-Enid-e1755270751373.jpg
GEO:36.3859774;-97.7868691
X-APPLE-STRUCTURED-LOCATION;VALUE=URI;X-ADDRESS=Enid-Woodring Airport 1026 S 66th St Enid OK 73701;X-APPLE-RADIUS=500;X-TITLE=1026 S 66th St\, Enid\, OK 73701:geo:-97.7868691,36.3859774
END:VEVENT
BEGIN:VEVENT
DTSTART;TZID=America/New_York:20260815T073000
DTEND;TZID=America/New_York:20260815T100000
DTSTAMP:20260423T062511
CREATED:20250706T201255Z
LAST-MODIFIED:20251102T202842Z
UID:10004707-1786779000-1786788000@av8maps.com
SUMMARY:Woodring Airport Fly-in Breakfast (KWDG)
DESCRIPTION:Enid OK – Woodring Regional Airport (KWDG) \nWoodring 2025 Airport Fly-In Breakfast Dates \n\nApril 26th (changed due to Easter)\nMay 17th\nJune 21st\nJuly 19th\nAugust 16th\nSeptember 20th\n\nTime: Breakfast will run from 7:30am-10:00am. $10.99 per person. \nLocation: Enid Woodring Regional Airport Terminal\, 1026 S. 66th Enid\, OK 73701
URL:https://av8maps.com/event/woodring-airport-fly-in-breakfast-kwdg/2026-08-15/
LOCATION:Enid-Woodring Airport\, 1026 S 66th St\, Enid\, OK 73701
ATTACH;FMTTYPE=image/jpeg:https://av8maps.com/wp-content/uploads/2025/07/Barnstormers-Fly-in-Enid-e1755270751373.jpg
GEO:36.3859774;-97.7868691
X-APPLE-STRUCTURED-LOCATION;VALUE=URI;X-ADDRESS=Enid-Woodring Airport 1026 S 66th St Enid OK 73701;X-APPLE-RADIUS=500;X-TITLE=1026 S 66th St\, Enid\, OK 73701:geo:-97.7868691,36.3859774
END:VEVENT
BEGIN:VEVENT
DTSTART;TZID=America/New_York:20260919T073000
DTEND;TZID=America/New_York:20260919T100000
DTSTAMP:20260423T062511
CREATED:20250706T201255Z
LAST-MODIFIED:20251102T202842Z
UID:10004708-1789803000-1789812000@av8maps.com
SUMMARY:Woodring Airport Fly-in Breakfast (KWDG)
DESCRIPTION:Enid OK – Woodring Regional Airport (KWDG) \nWoodring 2025 Airport Fly-In Breakfast Dates \n\nApril 26th (changed due to Easter)\nMay 17th\nJune 21st\nJuly 19th\nAugust 16th\nSeptember 20th\n\nTime: Breakfast will run from 7:30am-10:00am. $10.99 per person. \nLocation: Enid Woodring Regional Airport Terminal\, 1026 S. 66th Enid\, OK 73701
URL:https://av8maps.com/event/woodring-airport-fly-in-breakfast-kwdg/2026-09-19/
LOCATION:Enid-Woodring Airport\, 1026 S 66th St\, Enid\, OK 73701
ATTACH;FMTTYPE=image/jpeg:https://av8maps.com/wp-content/uploads/2025/07/Barnstormers-Fly-in-Enid-e1755270751373.jpg
GEO:36.3859774;-97.7868691
X-APPLE-STRUCTURED-LOCATION;VALUE=URI;X-ADDRESS=Enid-Woodring Airport 1026 S 66th St Enid OK 73701;X-APPLE-RADIUS=500;X-TITLE=1026 S 66th St\, Enid\, OK 73701:geo:-97.7868691,36.3859774
END:VEVENT
END:VCALENDAR