BEGIN:VCALENDAR
VERSION:2.0
PRODID:-//AV8MAPS.COM - ECPv6.15.20//NONSGML v1.0//EN
CALSCALE:GREGORIAN
METHOD:PUBLISH
X-WR-CALNAME:AV8MAPS.COM
X-ORIGINAL-URL:https://av8maps.com
X-WR-CALDESC:Events for AV8MAPS.COM
REFRESH-INTERVAL;VALUE=DURATION:PT1H
X-Robots-Tag:noindex
X-PUBLISHED-TTL:PT1H
BEGIN:VTIMEZONE
TZID:America/New_York
BEGIN:DAYLIGHT
TZOFFSETFROM:-0500
TZOFFSETTO:-0400
TZNAME:EDT
DTSTART:20250309T070000
END:DAYLIGHT
BEGIN:STANDARD
TZOFFSETFROM:-0400
TZOFFSETTO:-0500
TZNAME:EST
DTSTART:20251102T060000
END:STANDARD
BEGIN:DAYLIGHT
TZOFFSETFROM:-0500
TZOFFSETTO:-0400
TZNAME:EDT
DTSTART:20260308T070000
END:DAYLIGHT
BEGIN:STANDARD
TZOFFSETFROM:-0400
TZOFFSETTO:-0500
TZNAME:EST
DTSTART:20261101T060000
END:STANDARD
BEGIN:DAYLIGHT
TZOFFSETFROM:-0500
TZOFFSETTO:-0400
TZNAME:EDT
DTSTART:20270314T070000
END:DAYLIGHT
BEGIN:STANDARD
TZOFFSETFROM:-0400
TZOFFSETTO:-0500
TZNAME:EST
DTSTART:20271107T060000
END:STANDARD
BEGIN:DAYLIGHT
TZOFFSETFROM:-0500
TZOFFSETTO:-0400
TZNAME:EDT
DTSTART:20280312T070000
END:DAYLIGHT
BEGIN:STANDARD
TZOFFSETFROM:-0400
TZOFFSETTO:-0500
TZNAME:EST
DTSTART:20281105T060000
END:STANDARD
BEGIN:DAYLIGHT
TZOFFSETFROM:-0500
TZOFFSETTO:-0400
TZNAME:EDT
DTSTART:20290311T070000
END:DAYLIGHT
BEGIN:STANDARD
TZOFFSETFROM:-0400
TZOFFSETTO:-0500
TZNAME:EST
DTSTART:20291104T060000
END:STANDARD
BEGIN:DAYLIGHT
TZOFFSETFROM:-0500
TZOFFSETTO:-0400
TZNAME:EDT
DTSTART:20300310T070000
END:DAYLIGHT
BEGIN:STANDARD
TZOFFSETFROM:-0400
TZOFFSETTO:-0500
TZNAME:EST
DTSTART:20301103T060000
END:STANDARD
BEGIN:DAYLIGHT
TZOFFSETFROM:-0500
TZOFFSETTO:-0400
TZNAME:EDT
DTSTART:20310309T070000
END:DAYLIGHT
BEGIN:STANDARD
TZOFFSETFROM:-0400
TZOFFSETTO:-0500
TZNAME:EST
DTSTART:20311102T060000
END:STANDARD
END:VTIMEZONE
BEGIN:VEVENT
DTSTART;TZID=America/New_York:20261107T090000
DTEND;TZID=America/New_York:20261107T190000
DTSTAMP:20260423T062500
CREATED:20251215T130315Z
LAST-MODIFIED:20251215T130316Z
UID:10004866-1794042000-1794078000@av8maps.com
SUMMARY:Annual Wings N Wheels Fly-in/Drive-in (KMIT)
DESCRIPTION:Non FOOD VENDING SPOTS AVAILABLE…It’s Wings ‘N’ Wheels time again. I know I am excited. It’s the greatest event of the year. We have Cars\, Aircraft\, Food\, Beer\, Music and MORE. We even have a flex competition hosted by American Off-road this year All benefiting Minter Field Air Museum . As you know\, Minter Field Air Museum is a 501c Non-profit that helps preserve our local military history and more. \nCar Gate opens at 6am\nemail: vendors@minterfieldairmuseum.com
URL:https://av8maps.com/event/8th-annual-wings-n-wheels-2025-2/2026-11-07/
LOCATION:Minter Field Air Museum\, Shafter\, CA\, United States
ATTACH;FMTTYPE=image/jpeg:https://av8maps.com/wp-content/uploads/2025/11/MInter-Field-Air-Museum-KMIT-e1762480593229.jpg
GEO:35.5020654;-119.2735419
END:VEVENT
BEGIN:VEVENT
DTSTART;TZID=America/New_York:20271106T090000
DTEND;TZID=America/New_York:20271106T190000
DTSTAMP:20260423T062500
CREATED:20251215T130315Z
LAST-MODIFIED:20251215T130316Z
UID:10005783-1825491600-1825527600@av8maps.com
SUMMARY:Annual Wings N Wheels Fly-in/Drive-in (KMIT)
DESCRIPTION:Non FOOD VENDING SPOTS AVAILABLE…It’s Wings ‘N’ Wheels time again. I know I am excited. It’s the greatest event of the year. We have Cars\, Aircraft\, Food\, Beer\, Music and MORE. We even have a flex competition hosted by American Off-road this year All benefiting Minter Field Air Museum . As you know\, Minter Field Air Museum is a 501c Non-profit that helps preserve our local military history and more. \nCar Gate opens at 6am\nemail: vendors@minterfieldairmuseum.com
URL:https://av8maps.com/event/8th-annual-wings-n-wheels-2025-2/2027-11-06/
LOCATION:Minter Field Air Museum\, Shafter\, CA\, United States
ATTACH;FMTTYPE=image/jpeg:https://av8maps.com/wp-content/uploads/2025/11/MInter-Field-Air-Museum-KMIT-e1762480593229.jpg
GEO:35.5020654;-119.2735419
END:VEVENT
BEGIN:VEVENT
DTSTART;TZID=America/New_York:20281104T090000
DTEND;TZID=America/New_York:20281104T190000
DTSTAMP:20260423T062500
CREATED:20251215T130315Z
LAST-MODIFIED:20251215T130316Z
UID:10005784-1856941200-1856977200@av8maps.com
SUMMARY:Annual Wings N Wheels Fly-in/Drive-in (KMIT)
DESCRIPTION:Non FOOD VENDING SPOTS AVAILABLE…It’s Wings ‘N’ Wheels time again. I know I am excited. It’s the greatest event of the year. We have Cars\, Aircraft\, Food\, Beer\, Music and MORE. We even have a flex competition hosted by American Off-road this year All benefiting Minter Field Air Museum . As you know\, Minter Field Air Museum is a 501c Non-profit that helps preserve our local military history and more. \nCar Gate opens at 6am\nemail: vendors@minterfieldairmuseum.com
URL:https://av8maps.com/event/8th-annual-wings-n-wheels-2025-2/2028-11-04/
LOCATION:Minter Field Air Museum\, Shafter\, CA\, United States
ATTACH;FMTTYPE=image/jpeg:https://av8maps.com/wp-content/uploads/2025/11/MInter-Field-Air-Museum-KMIT-e1762480593229.jpg
GEO:35.5020654;-119.2735419
END:VEVENT
BEGIN:VEVENT
DTSTART;TZID=America/New_York:20291103T090000
DTEND;TZID=America/New_York:20291103T190000
DTSTAMP:20260423T062500
CREATED:20251215T130315Z
LAST-MODIFIED:20251215T130316Z
UID:10005785-1888390800-1888426800@av8maps.com
SUMMARY:Annual Wings N Wheels Fly-in/Drive-in (KMIT)
DESCRIPTION:Non FOOD VENDING SPOTS AVAILABLE…It’s Wings ‘N’ Wheels time again. I know I am excited. It’s the greatest event of the year. We have Cars\, Aircraft\, Food\, Beer\, Music and MORE. We even have a flex competition hosted by American Off-road this year All benefiting Minter Field Air Museum . As you know\, Minter Field Air Museum is a 501c Non-profit that helps preserve our local military history and more. \nCar Gate opens at 6am\nemail: vendors@minterfieldairmuseum.com
URL:https://av8maps.com/event/8th-annual-wings-n-wheels-2025-2/2029-11-03/
LOCATION:Minter Field Air Museum\, Shafter\, CA\, United States
ATTACH;FMTTYPE=image/jpeg:https://av8maps.com/wp-content/uploads/2025/11/MInter-Field-Air-Museum-KMIT-e1762480593229.jpg
GEO:35.5020654;-119.2735419
END:VEVENT
BEGIN:VEVENT
DTSTART;TZID=America/New_York:20301102T090000
DTEND;TZID=America/New_York:20301102T190000
DTSTAMP:20260423T062500
CREATED:20251215T130315Z
LAST-MODIFIED:20251215T130316Z
UID:10005786-1919840400-1919876400@av8maps.com
SUMMARY:Annual Wings N Wheels Fly-in/Drive-in (KMIT)
DESCRIPTION:Non FOOD VENDING SPOTS AVAILABLE…It’s Wings ‘N’ Wheels time again. I know I am excited. It’s the greatest event of the year. We have Cars\, Aircraft\, Food\, Beer\, Music and MORE. We even have a flex competition hosted by American Off-road this year All benefiting Minter Field Air Museum . As you know\, Minter Field Air Museum is a 501c Non-profit that helps preserve our local military history and more. \nCar Gate opens at 6am\nemail: vendors@minterfieldairmuseum.com
URL:https://av8maps.com/event/8th-annual-wings-n-wheels-2025-2/2030-11-02/
LOCATION:Minter Field Air Museum\, Shafter\, CA\, United States
ATTACH;FMTTYPE=image/jpeg:https://av8maps.com/wp-content/uploads/2025/11/MInter-Field-Air-Museum-KMIT-e1762480593229.jpg
GEO:35.5020654;-119.2735419
END:VEVENT
END:VCALENDAR