BEGIN:VCALENDAR
VERSION:2.0
PRODID:-//AV8MAPS.COM - ECPv6.15.20//NONSGML v1.0//EN
CALSCALE:GREGORIAN
METHOD:PUBLISH
X-WR-CALNAME:AV8MAPS.COM
X-ORIGINAL-URL:https://av8maps.com
X-WR-CALDESC:Events for AV8MAPS.COM
REFRESH-INTERVAL;VALUE=DURATION:PT1H
X-Robots-Tag:noindex
X-PUBLISHED-TTL:PT1H
BEGIN:VTIMEZONE
TZID:America/New_York
BEGIN:DAYLIGHT
TZOFFSETFROM:-0500
TZOFFSETTO:-0400
TZNAME:EDT
DTSTART:20250309T070000
END:DAYLIGHT
BEGIN:STANDARD
TZOFFSETFROM:-0400
TZOFFSETTO:-0500
TZNAME:EST
DTSTART:20251102T060000
END:STANDARD
BEGIN:DAYLIGHT
TZOFFSETFROM:-0500
TZOFFSETTO:-0400
TZNAME:EDT
DTSTART:20260308T070000
END:DAYLIGHT
BEGIN:STANDARD
TZOFFSETFROM:-0400
TZOFFSETTO:-0500
TZNAME:EST
DTSTART:20261101T060000
END:STANDARD
BEGIN:DAYLIGHT
TZOFFSETFROM:-0500
TZOFFSETTO:-0400
TZNAME:EDT
DTSTART:20270314T070000
END:DAYLIGHT
BEGIN:STANDARD
TZOFFSETFROM:-0400
TZOFFSETTO:-0500
TZNAME:EST
DTSTART:20271107T060000
END:STANDARD
END:VTIMEZONE
BEGIN:VEVENT
DTSTART;TZID=America/New_York:20260509T080000
DTEND;TZID=America/New_York:20260509T110000
DTSTAMP:20260423T164809
CREATED:20251108T173301Z
LAST-MODIFIED:20251108T173349Z
UID:10005063-1778313600-1778324400@av8maps.com
SUMMARY:2nd Saturday Pancake Fly-in (KJGG)
DESCRIPTION:Pancake Breakfast Fly-in & Drive-in on the 2nd Saturday.   8-11am.  All proceeds  go to the Williamsburg Aviation  Scholarship Program\, a non-profit giving local HS students $11\,000 scholarships towards earning their Private Pilot certificates. Williamsburg Aviation Scholarship Program
URL:https://av8maps.com/event/2nd-saturday-pancake-fly-in-kjgg/2026-05-09/
LOCATION:Waltrip Williamsburg Executive Airport\, 100 Marclay Dr\, Williamsburg\, VA\, 23185
ATTACH;FMTTYPE=image/jpeg:https://av8maps.com/wp-content/uploads/2025/11/2nd-Saturdays-Pancake-fly-in-KJGG-e1762623220769.jpg
GEO:37.241232;-76.7178545
X-APPLE-STRUCTURED-LOCATION;VALUE=URI;X-ADDRESS=Waltrip Williamsburg Executive Airport 100 Marclay Dr Williamsburg VA 23185;X-APPLE-RADIUS=500;X-TITLE=100 Marclay Dr:geo:-76.7178545,37.241232
END:VEVENT
BEGIN:VEVENT
DTSTART;TZID=America/New_York:20260613T080000
DTEND;TZID=America/New_York:20260613T110000
DTSTAMP:20260423T164809
CREATED:20251108T173301Z
LAST-MODIFIED:20251108T173349Z
UID:10005064-1781337600-1781348400@av8maps.com
SUMMARY:2nd Saturday Pancake Fly-in (KJGG)
DESCRIPTION:Pancake Breakfast Fly-in & Drive-in on the 2nd Saturday.   8-11am.  All proceeds  go to the Williamsburg Aviation  Scholarship Program\, a non-profit giving local HS students $11\,000 scholarships towards earning their Private Pilot certificates. Williamsburg Aviation Scholarship Program
URL:https://av8maps.com/event/2nd-saturday-pancake-fly-in-kjgg/2026-06-13/
LOCATION:Waltrip Williamsburg Executive Airport\, 100 Marclay Dr\, Williamsburg\, VA\, 23185
ATTACH;FMTTYPE=image/jpeg:https://av8maps.com/wp-content/uploads/2025/11/2nd-Saturdays-Pancake-fly-in-KJGG-e1762623220769.jpg
GEO:37.241232;-76.7178545
X-APPLE-STRUCTURED-LOCATION;VALUE=URI;X-ADDRESS=Waltrip Williamsburg Executive Airport 100 Marclay Dr Williamsburg VA 23185;X-APPLE-RADIUS=500;X-TITLE=100 Marclay Dr:geo:-76.7178545,37.241232
END:VEVENT
BEGIN:VEVENT
DTSTART;TZID=America/New_York:20260711T080000
DTEND;TZID=America/New_York:20260711T110000
DTSTAMP:20260423T164809
CREATED:20251108T173301Z
LAST-MODIFIED:20251108T173349Z
UID:10005065-1783756800-1783767600@av8maps.com
SUMMARY:2nd Saturday Pancake Fly-in (KJGG)
DESCRIPTION:Pancake Breakfast Fly-in & Drive-in on the 2nd Saturday.   8-11am.  All proceeds  go to the Williamsburg Aviation  Scholarship Program\, a non-profit giving local HS students $11\,000 scholarships towards earning their Private Pilot certificates. Williamsburg Aviation Scholarship Program
URL:https://av8maps.com/event/2nd-saturday-pancake-fly-in-kjgg/2026-07-11/
LOCATION:Waltrip Williamsburg Executive Airport\, 100 Marclay Dr\, Williamsburg\, VA\, 23185
ATTACH;FMTTYPE=image/jpeg:https://av8maps.com/wp-content/uploads/2025/11/2nd-Saturdays-Pancake-fly-in-KJGG-e1762623220769.jpg
GEO:37.241232;-76.7178545
X-APPLE-STRUCTURED-LOCATION;VALUE=URI;X-ADDRESS=Waltrip Williamsburg Executive Airport 100 Marclay Dr Williamsburg VA 23185;X-APPLE-RADIUS=500;X-TITLE=100 Marclay Dr:geo:-76.7178545,37.241232
END:VEVENT
BEGIN:VEVENT
DTSTART;TZID=America/New_York:20260808T080000
DTEND;TZID=America/New_York:20260808T110000
DTSTAMP:20260423T164809
CREATED:20251108T173301Z
LAST-MODIFIED:20251108T173349Z
UID:10005066-1786176000-1786186800@av8maps.com
SUMMARY:2nd Saturday Pancake Fly-in (KJGG)
DESCRIPTION:Pancake Breakfast Fly-in & Drive-in on the 2nd Saturday.   8-11am.  All proceeds  go to the Williamsburg Aviation  Scholarship Program\, a non-profit giving local HS students $11\,000 scholarships towards earning their Private Pilot certificates. Williamsburg Aviation Scholarship Program
URL:https://av8maps.com/event/2nd-saturday-pancake-fly-in-kjgg/2026-08-08/
LOCATION:Waltrip Williamsburg Executive Airport\, 100 Marclay Dr\, Williamsburg\, VA\, 23185
ATTACH;FMTTYPE=image/jpeg:https://av8maps.com/wp-content/uploads/2025/11/2nd-Saturdays-Pancake-fly-in-KJGG-e1762623220769.jpg
GEO:37.241232;-76.7178545
X-APPLE-STRUCTURED-LOCATION;VALUE=URI;X-ADDRESS=Waltrip Williamsburg Executive Airport 100 Marclay Dr Williamsburg VA 23185;X-APPLE-RADIUS=500;X-TITLE=100 Marclay Dr:geo:-76.7178545,37.241232
END:VEVENT
BEGIN:VEVENT
DTSTART;TZID=America/New_York:20260912T080000
DTEND;TZID=America/New_York:20260912T110000
DTSTAMP:20260423T164809
CREATED:20251108T173301Z
LAST-MODIFIED:20251108T173349Z
UID:10005067-1789200000-1789210800@av8maps.com
SUMMARY:2nd Saturday Pancake Fly-in (KJGG)
DESCRIPTION:Pancake Breakfast Fly-in & Drive-in on the 2nd Saturday.   8-11am.  All proceeds  go to the Williamsburg Aviation  Scholarship Program\, a non-profit giving local HS students $11\,000 scholarships towards earning their Private Pilot certificates. Williamsburg Aviation Scholarship Program
URL:https://av8maps.com/event/2nd-saturday-pancake-fly-in-kjgg/2026-09-12/
LOCATION:Waltrip Williamsburg Executive Airport\, 100 Marclay Dr\, Williamsburg\, VA\, 23185
ATTACH;FMTTYPE=image/jpeg:https://av8maps.com/wp-content/uploads/2025/11/2nd-Saturdays-Pancake-fly-in-KJGG-e1762623220769.jpg
GEO:37.241232;-76.7178545
X-APPLE-STRUCTURED-LOCATION;VALUE=URI;X-ADDRESS=Waltrip Williamsburg Executive Airport 100 Marclay Dr Williamsburg VA 23185;X-APPLE-RADIUS=500;X-TITLE=100 Marclay Dr:geo:-76.7178545,37.241232
END:VEVENT
BEGIN:VEVENT
DTSTART;TZID=America/New_York:20261010T080000
DTEND;TZID=America/New_York:20261010T110000
DTSTAMP:20260423T164809
CREATED:20251108T173301Z
LAST-MODIFIED:20251108T173349Z
UID:10005068-1791619200-1791630000@av8maps.com
SUMMARY:2nd Saturday Pancake Fly-in (KJGG)
DESCRIPTION:Pancake Breakfast Fly-in & Drive-in on the 2nd Saturday.   8-11am.  All proceeds  go to the Williamsburg Aviation  Scholarship Program\, a non-profit giving local HS students $11\,000 scholarships towards earning their Private Pilot certificates. Williamsburg Aviation Scholarship Program
URL:https://av8maps.com/event/2nd-saturday-pancake-fly-in-kjgg/2026-10-10/
LOCATION:Waltrip Williamsburg Executive Airport\, 100 Marclay Dr\, Williamsburg\, VA\, 23185
ATTACH;FMTTYPE=image/jpeg:https://av8maps.com/wp-content/uploads/2025/11/2nd-Saturdays-Pancake-fly-in-KJGG-e1762623220769.jpg
GEO:37.241232;-76.7178545
X-APPLE-STRUCTURED-LOCATION;VALUE=URI;X-ADDRESS=Waltrip Williamsburg Executive Airport 100 Marclay Dr Williamsburg VA 23185;X-APPLE-RADIUS=500;X-TITLE=100 Marclay Dr:geo:-76.7178545,37.241232
END:VEVENT
BEGIN:VEVENT
DTSTART;TZID=America/New_York:20261114T080000
DTEND;TZID=America/New_York:20261114T110000
DTSTAMP:20260423T164809
CREATED:20251108T173301Z
LAST-MODIFIED:20251108T173349Z
UID:10005069-1794643200-1794654000@av8maps.com
SUMMARY:2nd Saturday Pancake Fly-in (KJGG)
DESCRIPTION:Pancake Breakfast Fly-in & Drive-in on the 2nd Saturday.   8-11am.  All proceeds  go to the Williamsburg Aviation  Scholarship Program\, a non-profit giving local HS students $11\,000 scholarships towards earning their Private Pilot certificates. Williamsburg Aviation Scholarship Program
URL:https://av8maps.com/event/2nd-saturday-pancake-fly-in-kjgg/2026-11-14/
LOCATION:Waltrip Williamsburg Executive Airport\, 100 Marclay Dr\, Williamsburg\, VA\, 23185
ATTACH;FMTTYPE=image/jpeg:https://av8maps.com/wp-content/uploads/2025/11/2nd-Saturdays-Pancake-fly-in-KJGG-e1762623220769.jpg
GEO:37.241232;-76.7178545
X-APPLE-STRUCTURED-LOCATION;VALUE=URI;X-ADDRESS=Waltrip Williamsburg Executive Airport 100 Marclay Dr Williamsburg VA 23185;X-APPLE-RADIUS=500;X-TITLE=100 Marclay Dr:geo:-76.7178545,37.241232
END:VEVENT
END:VCALENDAR