BEGIN:VCALENDAR
VERSION:2.0
PRODID:-//AV8MAPS.COM - ECPv6.15.20//NONSGML v1.0//EN
CALSCALE:GREGORIAN
METHOD:PUBLISH
X-WR-CALNAME:AV8MAPS.COM
X-ORIGINAL-URL:https://av8maps.com
X-WR-CALDESC:Events for AV8MAPS.COM
REFRESH-INTERVAL;VALUE=DURATION:PT1H
X-Robots-Tag:noindex
X-PUBLISHED-TTL:PT1H
BEGIN:VTIMEZONE
TZID:America/New_York
BEGIN:DAYLIGHT
TZOFFSETFROM:-0500
TZOFFSETTO:-0400
TZNAME:EDT
DTSTART:20250309T070000
END:DAYLIGHT
BEGIN:STANDARD
TZOFFSETFROM:-0400
TZOFFSETTO:-0500
TZNAME:EST
DTSTART:20251102T060000
END:STANDARD
BEGIN:DAYLIGHT
TZOFFSETFROM:-0500
TZOFFSETTO:-0400
TZNAME:EDT
DTSTART:20260308T070000
END:DAYLIGHT
BEGIN:STANDARD
TZOFFSETFROM:-0400
TZOFFSETTO:-0500
TZNAME:EST
DTSTART:20261101T060000
END:STANDARD
BEGIN:DAYLIGHT
TZOFFSETFROM:-0500
TZOFFSETTO:-0400
TZNAME:EDT
DTSTART:20270314T070000
END:DAYLIGHT
BEGIN:STANDARD
TZOFFSETFROM:-0400
TZOFFSETTO:-0500
TZNAME:EST
DTSTART:20271107T060000
END:STANDARD
BEGIN:DAYLIGHT
TZOFFSETFROM:-0500
TZOFFSETTO:-0400
TZNAME:EDT
DTSTART:20280312T070000
END:DAYLIGHT
BEGIN:STANDARD
TZOFFSETFROM:-0400
TZOFFSETTO:-0500
TZNAME:EST
DTSTART:20281105T060000
END:STANDARD
BEGIN:DAYLIGHT
TZOFFSETFROM:-0500
TZOFFSETTO:-0400
TZNAME:EDT
DTSTART:20290311T070000
END:DAYLIGHT
BEGIN:STANDARD
TZOFFSETFROM:-0400
TZOFFSETTO:-0500
TZNAME:EST
DTSTART:20291104T060000
END:STANDARD
BEGIN:DAYLIGHT
TZOFFSETFROM:-0500
TZOFFSETTO:-0400
TZNAME:EDT
DTSTART:20300310T070000
END:DAYLIGHT
BEGIN:STANDARD
TZOFFSETFROM:-0400
TZOFFSETTO:-0500
TZNAME:EST
DTSTART:20301103T060000
END:STANDARD
END:VTIMEZONE
BEGIN:VEVENT
DTSTART;TZID=America/New_York:20261212T160000
DTEND;TZID=America/New_York:20261212T190000
DTSTAMP:20260423T164759
CREATED:20251108T174834Z
LAST-MODIFIED:20251108T174834Z
UID:10005071-1797091200-1797102000@av8maps.com
SUMMARY:Cleared for Cheer (L52)
DESCRIPTION:Get ready to celebrate the season at Cleared for Cheer\, a free\, family-friendly holiday event taking place at Oceano Airport on Saturday\, December 13\, 2025\, from 4 to 7 PM. Hosted by the County of San Luis Obispo Department of Airports\, the event will feature a festive lineup of activities including a holiday drone show\, live music\, snow play\, hands-on crafts\, food trucks\, and a Holiday Makers Market with local vendors. Guests are invited to bring a non-perishable food item or an unwrapped toy to support the Lucia Mar Unified School District’s Families in Transition Program and the Salvation Army\, helping local families in need during the holidays. With coastal views\, aviation fun\, and seasonal cheer\, Cleared for Cheer is the perfect way to kick off the holidays in SLO County.
URL:https://av8maps.com/event/cleared-for-cheer-l52/2026-12-12/
LOCATION:Oceano Airport\, 561 Air Park Dr\, Oceano\, California\, 93445
ATTACH;FMTTYPE=image/jpeg:https://av8maps.com/wp-content/uploads/2025/11/Cleared-for-Cheer-L52-e1762623967982.jpg
GEO:35.1037966;-120.6244869
X-APPLE-STRUCTURED-LOCATION;VALUE=URI;X-ADDRESS=Oceano Airport 561 Air Park Dr Oceano California 93445;X-APPLE-RADIUS=500;X-TITLE=561 Air Park Dr:geo:-120.6244869,35.1037966
END:VEVENT
BEGIN:VEVENT
DTSTART;TZID=America/New_York:20271211T160000
DTEND;TZID=America/New_York:20271211T190000
DTSTAMP:20260423T164759
CREATED:20251108T174834Z
LAST-MODIFIED:20251108T174834Z
UID:10005072-1828540800-1828551600@av8maps.com
SUMMARY:Cleared for Cheer (L52)
DESCRIPTION:Get ready to celebrate the season at Cleared for Cheer\, a free\, family-friendly holiday event taking place at Oceano Airport on Saturday\, December 13\, 2025\, from 4 to 7 PM. Hosted by the County of San Luis Obispo Department of Airports\, the event will feature a festive lineup of activities including a holiday drone show\, live music\, snow play\, hands-on crafts\, food trucks\, and a Holiday Makers Market with local vendors. Guests are invited to bring a non-perishable food item or an unwrapped toy to support the Lucia Mar Unified School District’s Families in Transition Program and the Salvation Army\, helping local families in need during the holidays. With coastal views\, aviation fun\, and seasonal cheer\, Cleared for Cheer is the perfect way to kick off the holidays in SLO County.
URL:https://av8maps.com/event/cleared-for-cheer-l52/2027-12-11/
LOCATION:Oceano Airport\, 561 Air Park Dr\, Oceano\, California\, 93445
ATTACH;FMTTYPE=image/jpeg:https://av8maps.com/wp-content/uploads/2025/11/Cleared-for-Cheer-L52-e1762623967982.jpg
GEO:35.1037966;-120.6244869
X-APPLE-STRUCTURED-LOCATION;VALUE=URI;X-ADDRESS=Oceano Airport 561 Air Park Dr Oceano California 93445;X-APPLE-RADIUS=500;X-TITLE=561 Air Park Dr:geo:-120.6244869,35.1037966
END:VEVENT
BEGIN:VEVENT
DTSTART;TZID=America/New_York:20281209T160000
DTEND;TZID=America/New_York:20281209T190000
DTSTAMP:20260423T164759
CREATED:20251108T174834Z
LAST-MODIFIED:20251108T174834Z
UID:10005073-1859990400-1860001200@av8maps.com
SUMMARY:Cleared for Cheer (L52)
DESCRIPTION:Get ready to celebrate the season at Cleared for Cheer\, a free\, family-friendly holiday event taking place at Oceano Airport on Saturday\, December 13\, 2025\, from 4 to 7 PM. Hosted by the County of San Luis Obispo Department of Airports\, the event will feature a festive lineup of activities including a holiday drone show\, live music\, snow play\, hands-on crafts\, food trucks\, and a Holiday Makers Market with local vendors. Guests are invited to bring a non-perishable food item or an unwrapped toy to support the Lucia Mar Unified School District’s Families in Transition Program and the Salvation Army\, helping local families in need during the holidays. With coastal views\, aviation fun\, and seasonal cheer\, Cleared for Cheer is the perfect way to kick off the holidays in SLO County.
URL:https://av8maps.com/event/cleared-for-cheer-l52/2028-12-09/
LOCATION:Oceano Airport\, 561 Air Park Dr\, Oceano\, California\, 93445
ATTACH;FMTTYPE=image/jpeg:https://av8maps.com/wp-content/uploads/2025/11/Cleared-for-Cheer-L52-e1762623967982.jpg
GEO:35.1037966;-120.6244869
X-APPLE-STRUCTURED-LOCATION;VALUE=URI;X-ADDRESS=Oceano Airport 561 Air Park Dr Oceano California 93445;X-APPLE-RADIUS=500;X-TITLE=561 Air Park Dr:geo:-120.6244869,35.1037966
END:VEVENT
BEGIN:VEVENT
DTSTART;TZID=America/New_York:20291208T160000
DTEND;TZID=America/New_York:20291208T190000
DTSTAMP:20260423T164759
CREATED:20251108T174834Z
LAST-MODIFIED:20251108T174834Z
UID:10005074-1891440000-1891450800@av8maps.com
SUMMARY:Cleared for Cheer (L52)
DESCRIPTION:Get ready to celebrate the season at Cleared for Cheer\, a free\, family-friendly holiday event taking place at Oceano Airport on Saturday\, December 13\, 2025\, from 4 to 7 PM. Hosted by the County of San Luis Obispo Department of Airports\, the event will feature a festive lineup of activities including a holiday drone show\, live music\, snow play\, hands-on crafts\, food trucks\, and a Holiday Makers Market with local vendors. Guests are invited to bring a non-perishable food item or an unwrapped toy to support the Lucia Mar Unified School District’s Families in Transition Program and the Salvation Army\, helping local families in need during the holidays. With coastal views\, aviation fun\, and seasonal cheer\, Cleared for Cheer is the perfect way to kick off the holidays in SLO County.
URL:https://av8maps.com/event/cleared-for-cheer-l52/2029-12-08/
LOCATION:Oceano Airport\, 561 Air Park Dr\, Oceano\, California\, 93445
ATTACH;FMTTYPE=image/jpeg:https://av8maps.com/wp-content/uploads/2025/11/Cleared-for-Cheer-L52-e1762623967982.jpg
GEO:35.1037966;-120.6244869
X-APPLE-STRUCTURED-LOCATION;VALUE=URI;X-ADDRESS=Oceano Airport 561 Air Park Dr Oceano California 93445;X-APPLE-RADIUS=500;X-TITLE=561 Air Park Dr:geo:-120.6244869,35.1037966
END:VEVENT
END:VCALENDAR