BEGIN:VCALENDAR
VERSION:2.0
PRODID:-//AV8MAPS.COM - ECPv6.15.20//NONSGML v1.0//EN
CALSCALE:GREGORIAN
METHOD:PUBLISH
X-WR-CALNAME:AV8MAPS.COM
X-ORIGINAL-URL:https://av8maps.com
X-WR-CALDESC:Events for AV8MAPS.COM
REFRESH-INTERVAL;VALUE=DURATION:PT1H
X-Robots-Tag:noindex
X-PUBLISHED-TTL:PT1H
BEGIN:VTIMEZONE
TZID:America/New_York
BEGIN:DAYLIGHT
TZOFFSETFROM:-0500
TZOFFSETTO:-0400
TZNAME:EDT
DTSTART:20250309T070000
END:DAYLIGHT
BEGIN:STANDARD
TZOFFSETFROM:-0400
TZOFFSETTO:-0500
TZNAME:EST
DTSTART:20251102T060000
END:STANDARD
BEGIN:DAYLIGHT
TZOFFSETFROM:-0500
TZOFFSETTO:-0400
TZNAME:EDT
DTSTART:20260308T070000
END:DAYLIGHT
BEGIN:STANDARD
TZOFFSETFROM:-0400
TZOFFSETTO:-0500
TZNAME:EST
DTSTART:20261101T060000
END:STANDARD
BEGIN:DAYLIGHT
TZOFFSETFROM:-0500
TZOFFSETTO:-0400
TZNAME:EDT
DTSTART:20270314T070000
END:DAYLIGHT
BEGIN:STANDARD
TZOFFSETFROM:-0400
TZOFFSETTO:-0500
TZNAME:EST
DTSTART:20271107T060000
END:STANDARD
BEGIN:DAYLIGHT
TZOFFSETFROM:-0500
TZOFFSETTO:-0400
TZNAME:EDT
DTSTART:20280312T070000
END:DAYLIGHT
BEGIN:STANDARD
TZOFFSETFROM:-0400
TZOFFSETTO:-0500
TZNAME:EST
DTSTART:20281105T060000
END:STANDARD
BEGIN:DAYLIGHT
TZOFFSETFROM:-0500
TZOFFSETTO:-0400
TZNAME:EDT
DTSTART:20290311T070000
END:DAYLIGHT
BEGIN:STANDARD
TZOFFSETFROM:-0400
TZOFFSETTO:-0500
TZNAME:EST
DTSTART:20291104T060000
END:STANDARD
END:VTIMEZONE
BEGIN:VEVENT
DTSTART;TZID=America/New_York:20260509T100000
DTEND;TZID=America/New_York:20260509T130000
DTSTAMP:20260423T075217
CREATED:20251108T180651Z
LAST-MODIFIED:20251108T180704Z
UID:10005081-1778320800-1778331600@av8maps.com
SUMMARY:SC Historic Aviation Foundation Monthly Open House (KCUB)
DESCRIPTION:Come on out to the airport this Saturday\, lots to see and do!!!
URL:https://av8maps.com/event/sc-historic-aviation-foundation-monthly-open-house/2026-05-09/
LOCATION:Jim Hamilton L B Owens Airport\, 1400 Jim Hamilton Blvd\, Columbia\, SC\, 29205
ATTACH;FMTTYPE=image/jpeg:https://av8maps.com/wp-content/uploads/2025/11/SC-Historic-Aviation-Foundation-KCUB-1.jpg
GEO:33.9728514;-80.9964406
X-APPLE-STRUCTURED-LOCATION;VALUE=URI;X-ADDRESS=Jim Hamilton L B Owens Airport 1400 Jim Hamilton Blvd Columbia SC 29205;X-APPLE-RADIUS=500;X-TITLE=1400 Jim Hamilton Blvd:geo:-80.9964406,33.9728514
END:VEVENT
BEGIN:VEVENT
DTSTART;TZID=America/New_York:20260613T100000
DTEND;TZID=America/New_York:20260613T130000
DTSTAMP:20260423T075217
CREATED:20251108T180651Z
LAST-MODIFIED:20251108T180704Z
UID:10005082-1781344800-1781355600@av8maps.com
SUMMARY:SC Historic Aviation Foundation Monthly Open House (KCUB)
DESCRIPTION:Come on out to the airport this Saturday\, lots to see and do!!!
URL:https://av8maps.com/event/sc-historic-aviation-foundation-monthly-open-house/2026-06-13/
LOCATION:Jim Hamilton L B Owens Airport\, 1400 Jim Hamilton Blvd\, Columbia\, SC\, 29205
ATTACH;FMTTYPE=image/jpeg:https://av8maps.com/wp-content/uploads/2025/11/SC-Historic-Aviation-Foundation-KCUB-1.jpg
GEO:33.9728514;-80.9964406
X-APPLE-STRUCTURED-LOCATION;VALUE=URI;X-ADDRESS=Jim Hamilton L B Owens Airport 1400 Jim Hamilton Blvd Columbia SC 29205;X-APPLE-RADIUS=500;X-TITLE=1400 Jim Hamilton Blvd:geo:-80.9964406,33.9728514
END:VEVENT
BEGIN:VEVENT
DTSTART;TZID=America/New_York:20260711T100000
DTEND;TZID=America/New_York:20260711T130000
DTSTAMP:20260423T075217
CREATED:20251108T180651Z
LAST-MODIFIED:20251108T180704Z
UID:10005083-1783764000-1783774800@av8maps.com
SUMMARY:SC Historic Aviation Foundation Monthly Open House (KCUB)
DESCRIPTION:Come on out to the airport this Saturday\, lots to see and do!!!
URL:https://av8maps.com/event/sc-historic-aviation-foundation-monthly-open-house/2026-07-11/
LOCATION:Jim Hamilton L B Owens Airport\, 1400 Jim Hamilton Blvd\, Columbia\, SC\, 29205
ATTACH;FMTTYPE=image/jpeg:https://av8maps.com/wp-content/uploads/2025/11/SC-Historic-Aviation-Foundation-KCUB-1.jpg
GEO:33.9728514;-80.9964406
X-APPLE-STRUCTURED-LOCATION;VALUE=URI;X-ADDRESS=Jim Hamilton L B Owens Airport 1400 Jim Hamilton Blvd Columbia SC 29205;X-APPLE-RADIUS=500;X-TITLE=1400 Jim Hamilton Blvd:geo:-80.9964406,33.9728514
END:VEVENT
BEGIN:VEVENT
DTSTART;TZID=America/New_York:20260808T100000
DTEND;TZID=America/New_York:20260808T130000
DTSTAMP:20260423T075217
CREATED:20251108T180651Z
LAST-MODIFIED:20251108T180704Z
UID:10005084-1786183200-1786194000@av8maps.com
SUMMARY:SC Historic Aviation Foundation Monthly Open House (KCUB)
DESCRIPTION:Come on out to the airport this Saturday\, lots to see and do!!!
URL:https://av8maps.com/event/sc-historic-aviation-foundation-monthly-open-house/2026-08-08/
LOCATION:Jim Hamilton L B Owens Airport\, 1400 Jim Hamilton Blvd\, Columbia\, SC\, 29205
ATTACH;FMTTYPE=image/jpeg:https://av8maps.com/wp-content/uploads/2025/11/SC-Historic-Aviation-Foundation-KCUB-1.jpg
GEO:33.9728514;-80.9964406
X-APPLE-STRUCTURED-LOCATION;VALUE=URI;X-ADDRESS=Jim Hamilton L B Owens Airport 1400 Jim Hamilton Blvd Columbia SC 29205;X-APPLE-RADIUS=500;X-TITLE=1400 Jim Hamilton Blvd:geo:-80.9964406,33.9728514
END:VEVENT
BEGIN:VEVENT
DTSTART;TZID=America/New_York:20260912T100000
DTEND;TZID=America/New_York:20260912T130000
DTSTAMP:20260423T075217
CREATED:20251108T180651Z
LAST-MODIFIED:20251108T180704Z
UID:10005085-1789207200-1789218000@av8maps.com
SUMMARY:SC Historic Aviation Foundation Monthly Open House (KCUB)
DESCRIPTION:Come on out to the airport this Saturday\, lots to see and do!!!
URL:https://av8maps.com/event/sc-historic-aviation-foundation-monthly-open-house/2026-09-12/
LOCATION:Jim Hamilton L B Owens Airport\, 1400 Jim Hamilton Blvd\, Columbia\, SC\, 29205
ATTACH;FMTTYPE=image/jpeg:https://av8maps.com/wp-content/uploads/2025/11/SC-Historic-Aviation-Foundation-KCUB-1.jpg
GEO:33.9728514;-80.9964406
X-APPLE-STRUCTURED-LOCATION;VALUE=URI;X-ADDRESS=Jim Hamilton L B Owens Airport 1400 Jim Hamilton Blvd Columbia SC 29205;X-APPLE-RADIUS=500;X-TITLE=1400 Jim Hamilton Blvd:geo:-80.9964406,33.9728514
END:VEVENT
BEGIN:VEVENT
DTSTART;TZID=America/New_York:20261010T100000
DTEND;TZID=America/New_York:20261010T130000
DTSTAMP:20260423T075217
CREATED:20251108T180651Z
LAST-MODIFIED:20251108T180704Z
UID:10005086-1791626400-1791637200@av8maps.com
SUMMARY:SC Historic Aviation Foundation Monthly Open House (KCUB)
DESCRIPTION:Come on out to the airport this Saturday\, lots to see and do!!!
URL:https://av8maps.com/event/sc-historic-aviation-foundation-monthly-open-house/2026-10-10/
LOCATION:Jim Hamilton L B Owens Airport\, 1400 Jim Hamilton Blvd\, Columbia\, SC\, 29205
ATTACH;FMTTYPE=image/jpeg:https://av8maps.com/wp-content/uploads/2025/11/SC-Historic-Aviation-Foundation-KCUB-1.jpg
GEO:33.9728514;-80.9964406
X-APPLE-STRUCTURED-LOCATION;VALUE=URI;X-ADDRESS=Jim Hamilton L B Owens Airport 1400 Jim Hamilton Blvd Columbia SC 29205;X-APPLE-RADIUS=500;X-TITLE=1400 Jim Hamilton Blvd:geo:-80.9964406,33.9728514
END:VEVENT
BEGIN:VEVENT
DTSTART;TZID=America/New_York:20261114T100000
DTEND;TZID=America/New_York:20261114T130000
DTSTAMP:20260423T075217
CREATED:20251108T180651Z
LAST-MODIFIED:20251108T180704Z
UID:10005087-1794650400-1794661200@av8maps.com
SUMMARY:SC Historic Aviation Foundation Monthly Open House (KCUB)
DESCRIPTION:Come on out to the airport this Saturday\, lots to see and do!!!
URL:https://av8maps.com/event/sc-historic-aviation-foundation-monthly-open-house/2026-11-14/
LOCATION:Jim Hamilton L B Owens Airport\, 1400 Jim Hamilton Blvd\, Columbia\, SC\, 29205
ATTACH;FMTTYPE=image/jpeg:https://av8maps.com/wp-content/uploads/2025/11/SC-Historic-Aviation-Foundation-KCUB-1.jpg
GEO:33.9728514;-80.9964406
X-APPLE-STRUCTURED-LOCATION;VALUE=URI;X-ADDRESS=Jim Hamilton L B Owens Airport 1400 Jim Hamilton Blvd Columbia SC 29205;X-APPLE-RADIUS=500;X-TITLE=1400 Jim Hamilton Blvd:geo:-80.9964406,33.9728514
END:VEVENT
BEGIN:VEVENT
DTSTART;TZID=America/New_York:20261212T100000
DTEND;TZID=America/New_York:20261212T130000
DTSTAMP:20260423T075217
CREATED:20251108T180651Z
LAST-MODIFIED:20251108T180704Z
UID:10005088-1797069600-1797080400@av8maps.com
SUMMARY:SC Historic Aviation Foundation Monthly Open House (KCUB)
DESCRIPTION:Come on out to the airport this Saturday\, lots to see and do!!!
URL:https://av8maps.com/event/sc-historic-aviation-foundation-monthly-open-house/2026-12-12/
LOCATION:Jim Hamilton L B Owens Airport\, 1400 Jim Hamilton Blvd\, Columbia\, SC\, 29205
ATTACH;FMTTYPE=image/jpeg:https://av8maps.com/wp-content/uploads/2025/11/SC-Historic-Aviation-Foundation-KCUB-1.jpg
GEO:33.9728514;-80.9964406
X-APPLE-STRUCTURED-LOCATION;VALUE=URI;X-ADDRESS=Jim Hamilton L B Owens Airport 1400 Jim Hamilton Blvd Columbia SC 29205;X-APPLE-RADIUS=500;X-TITLE=1400 Jim Hamilton Blvd:geo:-80.9964406,33.9728514
END:VEVENT
BEGIN:VEVENT
DTSTART;TZID=America/New_York:20270109T100000
DTEND;TZID=America/New_York:20270109T130000
DTSTAMP:20260423T075217
CREATED:20251108T180651Z
LAST-MODIFIED:20251108T180704Z
UID:10005089-1799488800-1799499600@av8maps.com
SUMMARY:SC Historic Aviation Foundation Monthly Open House (KCUB)
DESCRIPTION:Come on out to the airport this Saturday\, lots to see and do!!!
URL:https://av8maps.com/event/sc-historic-aviation-foundation-monthly-open-house/2027-01-09/
LOCATION:Jim Hamilton L B Owens Airport\, 1400 Jim Hamilton Blvd\, Columbia\, SC\, 29205
ATTACH;FMTTYPE=image/jpeg:https://av8maps.com/wp-content/uploads/2025/11/SC-Historic-Aviation-Foundation-KCUB-1.jpg
GEO:33.9728514;-80.9964406
X-APPLE-STRUCTURED-LOCATION;VALUE=URI;X-ADDRESS=Jim Hamilton L B Owens Airport 1400 Jim Hamilton Blvd Columbia SC 29205;X-APPLE-RADIUS=500;X-TITLE=1400 Jim Hamilton Blvd:geo:-80.9964406,33.9728514
END:VEVENT
BEGIN:VEVENT
DTSTART;TZID=America/New_York:20270213T100000
DTEND;TZID=America/New_York:20270213T130000
DTSTAMP:20260423T075217
CREATED:20251108T180651Z
LAST-MODIFIED:20251108T180704Z
UID:10005090-1802512800-1802523600@av8maps.com
SUMMARY:SC Historic Aviation Foundation Monthly Open House (KCUB)
DESCRIPTION:Come on out to the airport this Saturday\, lots to see and do!!!
URL:https://av8maps.com/event/sc-historic-aviation-foundation-monthly-open-house/2027-02-13/
LOCATION:Jim Hamilton L B Owens Airport\, 1400 Jim Hamilton Blvd\, Columbia\, SC\, 29205
ATTACH;FMTTYPE=image/jpeg:https://av8maps.com/wp-content/uploads/2025/11/SC-Historic-Aviation-Foundation-KCUB-1.jpg
GEO:33.9728514;-80.9964406
X-APPLE-STRUCTURED-LOCATION;VALUE=URI;X-ADDRESS=Jim Hamilton L B Owens Airport 1400 Jim Hamilton Blvd Columbia SC 29205;X-APPLE-RADIUS=500;X-TITLE=1400 Jim Hamilton Blvd:geo:-80.9964406,33.9728514
END:VEVENT
BEGIN:VEVENT
DTSTART;TZID=America/New_York:20270313T100000
DTEND;TZID=America/New_York:20270313T130000
DTSTAMP:20260423T075217
CREATED:20251108T180651Z
LAST-MODIFIED:20251108T180704Z
UID:10005091-1804932000-1804942800@av8maps.com
SUMMARY:SC Historic Aviation Foundation Monthly Open House (KCUB)
DESCRIPTION:Come on out to the airport this Saturday\, lots to see and do!!!
URL:https://av8maps.com/event/sc-historic-aviation-foundation-monthly-open-house/2027-03-13/
LOCATION:Jim Hamilton L B Owens Airport\, 1400 Jim Hamilton Blvd\, Columbia\, SC\, 29205
ATTACH;FMTTYPE=image/jpeg:https://av8maps.com/wp-content/uploads/2025/11/SC-Historic-Aviation-Foundation-KCUB-1.jpg
GEO:33.9728514;-80.9964406
X-APPLE-STRUCTURED-LOCATION;VALUE=URI;X-ADDRESS=Jim Hamilton L B Owens Airport 1400 Jim Hamilton Blvd Columbia SC 29205;X-APPLE-RADIUS=500;X-TITLE=1400 Jim Hamilton Blvd:geo:-80.9964406,33.9728514
END:VEVENT
BEGIN:VEVENT
DTSTART;TZID=America/New_York:20270410T100000
DTEND;TZID=America/New_York:20270410T130000
DTSTAMP:20260423T075217
CREATED:20251108T180651Z
LAST-MODIFIED:20251108T180704Z
UID:10005092-1807351200-1807362000@av8maps.com
SUMMARY:SC Historic Aviation Foundation Monthly Open House (KCUB)
DESCRIPTION:Come on out to the airport this Saturday\, lots to see and do!!!
URL:https://av8maps.com/event/sc-historic-aviation-foundation-monthly-open-house/2027-04-10/
LOCATION:Jim Hamilton L B Owens Airport\, 1400 Jim Hamilton Blvd\, Columbia\, SC\, 29205
ATTACH;FMTTYPE=image/jpeg:https://av8maps.com/wp-content/uploads/2025/11/SC-Historic-Aviation-Foundation-KCUB-1.jpg
GEO:33.9728514;-80.9964406
X-APPLE-STRUCTURED-LOCATION;VALUE=URI;X-ADDRESS=Jim Hamilton L B Owens Airport 1400 Jim Hamilton Blvd Columbia SC 29205;X-APPLE-RADIUS=500;X-TITLE=1400 Jim Hamilton Blvd:geo:-80.9964406,33.9728514
END:VEVENT
BEGIN:VEVENT
DTSTART;TZID=America/New_York:20270508T100000
DTEND;TZID=America/New_York:20270508T130000
DTSTAMP:20260423T075217
CREATED:20251108T180651Z
LAST-MODIFIED:20251108T180704Z
UID:10005093-1809770400-1809781200@av8maps.com
SUMMARY:SC Historic Aviation Foundation Monthly Open House (KCUB)
DESCRIPTION:Come on out to the airport this Saturday\, lots to see and do!!!
URL:https://av8maps.com/event/sc-historic-aviation-foundation-monthly-open-house/2027-05-08/
LOCATION:Jim Hamilton L B Owens Airport\, 1400 Jim Hamilton Blvd\, Columbia\, SC\, 29205
ATTACH;FMTTYPE=image/jpeg:https://av8maps.com/wp-content/uploads/2025/11/SC-Historic-Aviation-Foundation-KCUB-1.jpg
GEO:33.9728514;-80.9964406
X-APPLE-STRUCTURED-LOCATION;VALUE=URI;X-ADDRESS=Jim Hamilton L B Owens Airport 1400 Jim Hamilton Blvd Columbia SC 29205;X-APPLE-RADIUS=500;X-TITLE=1400 Jim Hamilton Blvd:geo:-80.9964406,33.9728514
END:VEVENT
BEGIN:VEVENT
DTSTART;TZID=America/New_York:20270612T100000
DTEND;TZID=America/New_York:20270612T130000
DTSTAMP:20260423T075217
CREATED:20251108T180651Z
LAST-MODIFIED:20251108T180704Z
UID:10005094-1812794400-1812805200@av8maps.com
SUMMARY:SC Historic Aviation Foundation Monthly Open House (KCUB)
DESCRIPTION:Come on out to the airport this Saturday\, lots to see and do!!!
URL:https://av8maps.com/event/sc-historic-aviation-foundation-monthly-open-house/2027-06-12/
LOCATION:Jim Hamilton L B Owens Airport\, 1400 Jim Hamilton Blvd\, Columbia\, SC\, 29205
ATTACH;FMTTYPE=image/jpeg:https://av8maps.com/wp-content/uploads/2025/11/SC-Historic-Aviation-Foundation-KCUB-1.jpg
GEO:33.9728514;-80.9964406
X-APPLE-STRUCTURED-LOCATION;VALUE=URI;X-ADDRESS=Jim Hamilton L B Owens Airport 1400 Jim Hamilton Blvd Columbia SC 29205;X-APPLE-RADIUS=500;X-TITLE=1400 Jim Hamilton Blvd:geo:-80.9964406,33.9728514
END:VEVENT
BEGIN:VEVENT
DTSTART;TZID=America/New_York:20270710T100000
DTEND;TZID=America/New_York:20270710T130000
DTSTAMP:20260423T075217
CREATED:20251108T180651Z
LAST-MODIFIED:20251108T180704Z
UID:10005095-1815213600-1815224400@av8maps.com
SUMMARY:SC Historic Aviation Foundation Monthly Open House (KCUB)
DESCRIPTION:Come on out to the airport this Saturday\, lots to see and do!!!
URL:https://av8maps.com/event/sc-historic-aviation-foundation-monthly-open-house/2027-07-10/
LOCATION:Jim Hamilton L B Owens Airport\, 1400 Jim Hamilton Blvd\, Columbia\, SC\, 29205
ATTACH;FMTTYPE=image/jpeg:https://av8maps.com/wp-content/uploads/2025/11/SC-Historic-Aviation-Foundation-KCUB-1.jpg
GEO:33.9728514;-80.9964406
X-APPLE-STRUCTURED-LOCATION;VALUE=URI;X-ADDRESS=Jim Hamilton L B Owens Airport 1400 Jim Hamilton Blvd Columbia SC 29205;X-APPLE-RADIUS=500;X-TITLE=1400 Jim Hamilton Blvd:geo:-80.9964406,33.9728514
END:VEVENT
BEGIN:VEVENT
DTSTART;TZID=America/New_York:20270814T100000
DTEND;TZID=America/New_York:20270814T130000
DTSTAMP:20260423T075217
CREATED:20251108T180651Z
LAST-MODIFIED:20251108T180704Z
UID:10005096-1818237600-1818248400@av8maps.com
SUMMARY:SC Historic Aviation Foundation Monthly Open House (KCUB)
DESCRIPTION:Come on out to the airport this Saturday\, lots to see and do!!!
URL:https://av8maps.com/event/sc-historic-aviation-foundation-monthly-open-house/2027-08-14/
LOCATION:Jim Hamilton L B Owens Airport\, 1400 Jim Hamilton Blvd\, Columbia\, SC\, 29205
ATTACH;FMTTYPE=image/jpeg:https://av8maps.com/wp-content/uploads/2025/11/SC-Historic-Aviation-Foundation-KCUB-1.jpg
GEO:33.9728514;-80.9964406
X-APPLE-STRUCTURED-LOCATION;VALUE=URI;X-ADDRESS=Jim Hamilton L B Owens Airport 1400 Jim Hamilton Blvd Columbia SC 29205;X-APPLE-RADIUS=500;X-TITLE=1400 Jim Hamilton Blvd:geo:-80.9964406,33.9728514
END:VEVENT
BEGIN:VEVENT
DTSTART;TZID=America/New_York:20270911T100000
DTEND;TZID=America/New_York:20270911T130000
DTSTAMP:20260423T075217
CREATED:20251108T180651Z
LAST-MODIFIED:20251108T180704Z
UID:10005097-1820656800-1820667600@av8maps.com
SUMMARY:SC Historic Aviation Foundation Monthly Open House (KCUB)
DESCRIPTION:Come on out to the airport this Saturday\, lots to see and do!!!
URL:https://av8maps.com/event/sc-historic-aviation-foundation-monthly-open-house/2027-09-11/
LOCATION:Jim Hamilton L B Owens Airport\, 1400 Jim Hamilton Blvd\, Columbia\, SC\, 29205
ATTACH;FMTTYPE=image/jpeg:https://av8maps.com/wp-content/uploads/2025/11/SC-Historic-Aviation-Foundation-KCUB-1.jpg
GEO:33.9728514;-80.9964406
X-APPLE-STRUCTURED-LOCATION;VALUE=URI;X-ADDRESS=Jim Hamilton L B Owens Airport 1400 Jim Hamilton Blvd Columbia SC 29205;X-APPLE-RADIUS=500;X-TITLE=1400 Jim Hamilton Blvd:geo:-80.9964406,33.9728514
END:VEVENT
BEGIN:VEVENT
DTSTART;TZID=America/New_York:20271009T100000
DTEND;TZID=America/New_York:20271009T130000
DTSTAMP:20260423T075217
CREATED:20251108T180651Z
LAST-MODIFIED:20251108T180704Z
UID:10005098-1823076000-1823086800@av8maps.com
SUMMARY:SC Historic Aviation Foundation Monthly Open House (KCUB)
DESCRIPTION:Come on out to the airport this Saturday\, lots to see and do!!!
URL:https://av8maps.com/event/sc-historic-aviation-foundation-monthly-open-house/2027-10-09/
LOCATION:Jim Hamilton L B Owens Airport\, 1400 Jim Hamilton Blvd\, Columbia\, SC\, 29205
ATTACH;FMTTYPE=image/jpeg:https://av8maps.com/wp-content/uploads/2025/11/SC-Historic-Aviation-Foundation-KCUB-1.jpg
GEO:33.9728514;-80.9964406
X-APPLE-STRUCTURED-LOCATION;VALUE=URI;X-ADDRESS=Jim Hamilton L B Owens Airport 1400 Jim Hamilton Blvd Columbia SC 29205;X-APPLE-RADIUS=500;X-TITLE=1400 Jim Hamilton Blvd:geo:-80.9964406,33.9728514
END:VEVENT
BEGIN:VEVENT
DTSTART;TZID=America/New_York:20271113T100000
DTEND;TZID=America/New_York:20271113T130000
DTSTAMP:20260423T075217
CREATED:20251108T180651Z
LAST-MODIFIED:20251108T180704Z
UID:10005099-1826100000-1826110800@av8maps.com
SUMMARY:SC Historic Aviation Foundation Monthly Open House (KCUB)
DESCRIPTION:Come on out to the airport this Saturday\, lots to see and do!!!
URL:https://av8maps.com/event/sc-historic-aviation-foundation-monthly-open-house/2027-11-13/
LOCATION:Jim Hamilton L B Owens Airport\, 1400 Jim Hamilton Blvd\, Columbia\, SC\, 29205
ATTACH;FMTTYPE=image/jpeg:https://av8maps.com/wp-content/uploads/2025/11/SC-Historic-Aviation-Foundation-KCUB-1.jpg
GEO:33.9728514;-80.9964406
X-APPLE-STRUCTURED-LOCATION;VALUE=URI;X-ADDRESS=Jim Hamilton L B Owens Airport 1400 Jim Hamilton Blvd Columbia SC 29205;X-APPLE-RADIUS=500;X-TITLE=1400 Jim Hamilton Blvd:geo:-80.9964406,33.9728514
END:VEVENT
BEGIN:VEVENT
DTSTART;TZID=America/New_York:20271211T100000
DTEND;TZID=America/New_York:20271211T130000
DTSTAMP:20260423T075217
CREATED:20251108T180651Z
LAST-MODIFIED:20251108T180704Z
UID:10005100-1828519200-1828530000@av8maps.com
SUMMARY:SC Historic Aviation Foundation Monthly Open House (KCUB)
DESCRIPTION:Come on out to the airport this Saturday\, lots to see and do!!!
URL:https://av8maps.com/event/sc-historic-aviation-foundation-monthly-open-house/2027-12-11/
LOCATION:Jim Hamilton L B Owens Airport\, 1400 Jim Hamilton Blvd\, Columbia\, SC\, 29205
ATTACH;FMTTYPE=image/jpeg:https://av8maps.com/wp-content/uploads/2025/11/SC-Historic-Aviation-Foundation-KCUB-1.jpg
GEO:33.9728514;-80.9964406
X-APPLE-STRUCTURED-LOCATION;VALUE=URI;X-ADDRESS=Jim Hamilton L B Owens Airport 1400 Jim Hamilton Blvd Columbia SC 29205;X-APPLE-RADIUS=500;X-TITLE=1400 Jim Hamilton Blvd:geo:-80.9964406,33.9728514
END:VEVENT
BEGIN:VEVENT
DTSTART;TZID=America/New_York:20280108T100000
DTEND;TZID=America/New_York:20280108T130000
DTSTAMP:20260423T075217
CREATED:20251108T180651Z
LAST-MODIFIED:20251108T180704Z
UID:10005101-1830938400-1830949200@av8maps.com
SUMMARY:SC Historic Aviation Foundation Monthly Open House (KCUB)
DESCRIPTION:Come on out to the airport this Saturday\, lots to see and do!!!
URL:https://av8maps.com/event/sc-historic-aviation-foundation-monthly-open-house/2028-01-08/
LOCATION:Jim Hamilton L B Owens Airport\, 1400 Jim Hamilton Blvd\, Columbia\, SC\, 29205
ATTACH;FMTTYPE=image/jpeg:https://av8maps.com/wp-content/uploads/2025/11/SC-Historic-Aviation-Foundation-KCUB-1.jpg
GEO:33.9728514;-80.9964406
X-APPLE-STRUCTURED-LOCATION;VALUE=URI;X-ADDRESS=Jim Hamilton L B Owens Airport 1400 Jim Hamilton Blvd Columbia SC 29205;X-APPLE-RADIUS=500;X-TITLE=1400 Jim Hamilton Blvd:geo:-80.9964406,33.9728514
END:VEVENT
BEGIN:VEVENT
DTSTART;TZID=America/New_York:20280212T100000
DTEND;TZID=America/New_York:20280212T130000
DTSTAMP:20260423T075217
CREATED:20251108T180651Z
LAST-MODIFIED:20251108T180704Z
UID:10005102-1833962400-1833973200@av8maps.com
SUMMARY:SC Historic Aviation Foundation Monthly Open House (KCUB)
DESCRIPTION:Come on out to the airport this Saturday\, lots to see and do!!!
URL:https://av8maps.com/event/sc-historic-aviation-foundation-monthly-open-house/2028-02-12/
LOCATION:Jim Hamilton L B Owens Airport\, 1400 Jim Hamilton Blvd\, Columbia\, SC\, 29205
ATTACH;FMTTYPE=image/jpeg:https://av8maps.com/wp-content/uploads/2025/11/SC-Historic-Aviation-Foundation-KCUB-1.jpg
GEO:33.9728514;-80.9964406
X-APPLE-STRUCTURED-LOCATION;VALUE=URI;X-ADDRESS=Jim Hamilton L B Owens Airport 1400 Jim Hamilton Blvd Columbia SC 29205;X-APPLE-RADIUS=500;X-TITLE=1400 Jim Hamilton Blvd:geo:-80.9964406,33.9728514
END:VEVENT
BEGIN:VEVENT
DTSTART;TZID=America/New_York:20280311T100000
DTEND;TZID=America/New_York:20280311T130000
DTSTAMP:20260423T075217
CREATED:20251108T180651Z
LAST-MODIFIED:20251108T180704Z
UID:10005103-1836381600-1836392400@av8maps.com
SUMMARY:SC Historic Aviation Foundation Monthly Open House (KCUB)
DESCRIPTION:Come on out to the airport this Saturday\, lots to see and do!!!
URL:https://av8maps.com/event/sc-historic-aviation-foundation-monthly-open-house/2028-03-11/
LOCATION:Jim Hamilton L B Owens Airport\, 1400 Jim Hamilton Blvd\, Columbia\, SC\, 29205
ATTACH;FMTTYPE=image/jpeg:https://av8maps.com/wp-content/uploads/2025/11/SC-Historic-Aviation-Foundation-KCUB-1.jpg
GEO:33.9728514;-80.9964406
X-APPLE-STRUCTURED-LOCATION;VALUE=URI;X-ADDRESS=Jim Hamilton L B Owens Airport 1400 Jim Hamilton Blvd Columbia SC 29205;X-APPLE-RADIUS=500;X-TITLE=1400 Jim Hamilton Blvd:geo:-80.9964406,33.9728514
END:VEVENT
BEGIN:VEVENT
DTSTART;TZID=America/New_York:20280408T100000
DTEND;TZID=America/New_York:20280408T130000
DTSTAMP:20260423T075217
CREATED:20251108T180651Z
LAST-MODIFIED:20251108T180704Z
UID:10005104-1838800800-1838811600@av8maps.com
SUMMARY:SC Historic Aviation Foundation Monthly Open House (KCUB)
DESCRIPTION:Come on out to the airport this Saturday\, lots to see and do!!!
URL:https://av8maps.com/event/sc-historic-aviation-foundation-monthly-open-house/2028-04-08/
LOCATION:Jim Hamilton L B Owens Airport\, 1400 Jim Hamilton Blvd\, Columbia\, SC\, 29205
ATTACH;FMTTYPE=image/jpeg:https://av8maps.com/wp-content/uploads/2025/11/SC-Historic-Aviation-Foundation-KCUB-1.jpg
GEO:33.9728514;-80.9964406
X-APPLE-STRUCTURED-LOCATION;VALUE=URI;X-ADDRESS=Jim Hamilton L B Owens Airport 1400 Jim Hamilton Blvd Columbia SC 29205;X-APPLE-RADIUS=500;X-TITLE=1400 Jim Hamilton Blvd:geo:-80.9964406,33.9728514
END:VEVENT
BEGIN:VEVENT
DTSTART;TZID=America/New_York:20280513T100000
DTEND;TZID=America/New_York:20280513T130000
DTSTAMP:20260423T075217
CREATED:20251108T180651Z
LAST-MODIFIED:20251108T180704Z
UID:10005105-1841824800-1841835600@av8maps.com
SUMMARY:SC Historic Aviation Foundation Monthly Open House (KCUB)
DESCRIPTION:Come on out to the airport this Saturday\, lots to see and do!!!
URL:https://av8maps.com/event/sc-historic-aviation-foundation-monthly-open-house/2028-05-13/
LOCATION:Jim Hamilton L B Owens Airport\, 1400 Jim Hamilton Blvd\, Columbia\, SC\, 29205
ATTACH;FMTTYPE=image/jpeg:https://av8maps.com/wp-content/uploads/2025/11/SC-Historic-Aviation-Foundation-KCUB-1.jpg
GEO:33.9728514;-80.9964406
X-APPLE-STRUCTURED-LOCATION;VALUE=URI;X-ADDRESS=Jim Hamilton L B Owens Airport 1400 Jim Hamilton Blvd Columbia SC 29205;X-APPLE-RADIUS=500;X-TITLE=1400 Jim Hamilton Blvd:geo:-80.9964406,33.9728514
END:VEVENT
BEGIN:VEVENT
DTSTART;TZID=America/New_York:20280610T100000
DTEND;TZID=America/New_York:20280610T130000
DTSTAMP:20260423T075217
CREATED:20251108T180651Z
LAST-MODIFIED:20251108T180704Z
UID:10005106-1844244000-1844254800@av8maps.com
SUMMARY:SC Historic Aviation Foundation Monthly Open House (KCUB)
DESCRIPTION:Come on out to the airport this Saturday\, lots to see and do!!!
URL:https://av8maps.com/event/sc-historic-aviation-foundation-monthly-open-house/2028-06-10/
LOCATION:Jim Hamilton L B Owens Airport\, 1400 Jim Hamilton Blvd\, Columbia\, SC\, 29205
ATTACH;FMTTYPE=image/jpeg:https://av8maps.com/wp-content/uploads/2025/11/SC-Historic-Aviation-Foundation-KCUB-1.jpg
GEO:33.9728514;-80.9964406
X-APPLE-STRUCTURED-LOCATION;VALUE=URI;X-ADDRESS=Jim Hamilton L B Owens Airport 1400 Jim Hamilton Blvd Columbia SC 29205;X-APPLE-RADIUS=500;X-TITLE=1400 Jim Hamilton Blvd:geo:-80.9964406,33.9728514
END:VEVENT
BEGIN:VEVENT
DTSTART;TZID=America/New_York:20280708T100000
DTEND;TZID=America/New_York:20280708T130000
DTSTAMP:20260423T075217
CREATED:20251108T180651Z
LAST-MODIFIED:20251108T180704Z
UID:10005107-1846663200-1846674000@av8maps.com
SUMMARY:SC Historic Aviation Foundation Monthly Open House (KCUB)
DESCRIPTION:Come on out to the airport this Saturday\, lots to see and do!!!
URL:https://av8maps.com/event/sc-historic-aviation-foundation-monthly-open-house/2028-07-08/
LOCATION:Jim Hamilton L B Owens Airport\, 1400 Jim Hamilton Blvd\, Columbia\, SC\, 29205
ATTACH;FMTTYPE=image/jpeg:https://av8maps.com/wp-content/uploads/2025/11/SC-Historic-Aviation-Foundation-KCUB-1.jpg
GEO:33.9728514;-80.9964406
X-APPLE-STRUCTURED-LOCATION;VALUE=URI;X-ADDRESS=Jim Hamilton L B Owens Airport 1400 Jim Hamilton Blvd Columbia SC 29205;X-APPLE-RADIUS=500;X-TITLE=1400 Jim Hamilton Blvd:geo:-80.9964406,33.9728514
END:VEVENT
BEGIN:VEVENT
DTSTART;TZID=America/New_York:20280812T100000
DTEND;TZID=America/New_York:20280812T130000
DTSTAMP:20260423T075218
CREATED:20251108T180651Z
LAST-MODIFIED:20251108T180704Z
UID:10005108-1849687200-1849698000@av8maps.com
SUMMARY:SC Historic Aviation Foundation Monthly Open House (KCUB)
DESCRIPTION:Come on out to the airport this Saturday\, lots to see and do!!!
URL:https://av8maps.com/event/sc-historic-aviation-foundation-monthly-open-house/2028-08-12/
LOCATION:Jim Hamilton L B Owens Airport\, 1400 Jim Hamilton Blvd\, Columbia\, SC\, 29205
ATTACH;FMTTYPE=image/jpeg:https://av8maps.com/wp-content/uploads/2025/11/SC-Historic-Aviation-Foundation-KCUB-1.jpg
GEO:33.9728514;-80.9964406
X-APPLE-STRUCTURED-LOCATION;VALUE=URI;X-ADDRESS=Jim Hamilton L B Owens Airport 1400 Jim Hamilton Blvd Columbia SC 29205;X-APPLE-RADIUS=500;X-TITLE=1400 Jim Hamilton Blvd:geo:-80.9964406,33.9728514
END:VEVENT
BEGIN:VEVENT
DTSTART;TZID=America/New_York:20280909T100000
DTEND;TZID=America/New_York:20280909T130000
DTSTAMP:20260423T075218
CREATED:20251108T180651Z
LAST-MODIFIED:20251108T180704Z
UID:10005109-1852106400-1852117200@av8maps.com
SUMMARY:SC Historic Aviation Foundation Monthly Open House (KCUB)
DESCRIPTION:Come on out to the airport this Saturday\, lots to see and do!!!
URL:https://av8maps.com/event/sc-historic-aviation-foundation-monthly-open-house/2028-09-09/
LOCATION:Jim Hamilton L B Owens Airport\, 1400 Jim Hamilton Blvd\, Columbia\, SC\, 29205
ATTACH;FMTTYPE=image/jpeg:https://av8maps.com/wp-content/uploads/2025/11/SC-Historic-Aviation-Foundation-KCUB-1.jpg
GEO:33.9728514;-80.9964406
X-APPLE-STRUCTURED-LOCATION;VALUE=URI;X-ADDRESS=Jim Hamilton L B Owens Airport 1400 Jim Hamilton Blvd Columbia SC 29205;X-APPLE-RADIUS=500;X-TITLE=1400 Jim Hamilton Blvd:geo:-80.9964406,33.9728514
END:VEVENT
BEGIN:VEVENT
DTSTART;TZID=America/New_York:20281014T100000
DTEND;TZID=America/New_York:20281014T130000
DTSTAMP:20260423T075218
CREATED:20251108T180651Z
LAST-MODIFIED:20251108T180704Z
UID:10005110-1855130400-1855141200@av8maps.com
SUMMARY:SC Historic Aviation Foundation Monthly Open House (KCUB)
DESCRIPTION:Come on out to the airport this Saturday\, lots to see and do!!!
URL:https://av8maps.com/event/sc-historic-aviation-foundation-monthly-open-house/2028-10-14/
LOCATION:Jim Hamilton L B Owens Airport\, 1400 Jim Hamilton Blvd\, Columbia\, SC\, 29205
ATTACH;FMTTYPE=image/jpeg:https://av8maps.com/wp-content/uploads/2025/11/SC-Historic-Aviation-Foundation-KCUB-1.jpg
GEO:33.9728514;-80.9964406
X-APPLE-STRUCTURED-LOCATION;VALUE=URI;X-ADDRESS=Jim Hamilton L B Owens Airport 1400 Jim Hamilton Blvd Columbia SC 29205;X-APPLE-RADIUS=500;X-TITLE=1400 Jim Hamilton Blvd:geo:-80.9964406,33.9728514
END:VEVENT
END:VCALENDAR