BEGIN:VCALENDAR
VERSION:2.0
PRODID:-//AV8MAPS.COM - ECPv6.15.20//NONSGML v1.0//EN
CALSCALE:GREGORIAN
METHOD:PUBLISH
X-WR-CALNAME:AV8MAPS.COM
X-ORIGINAL-URL:https://av8maps.com
X-WR-CALDESC:Events for AV8MAPS.COM
REFRESH-INTERVAL;VALUE=DURATION:PT1H
X-Robots-Tag:noindex
X-PUBLISHED-TTL:PT1H
BEGIN:VTIMEZONE
TZID:America/New_York
BEGIN:DAYLIGHT
TZOFFSETFROM:-0500
TZOFFSETTO:-0400
TZNAME:EDT
DTSTART:20250309T070000
END:DAYLIGHT
BEGIN:STANDARD
TZOFFSETFROM:-0400
TZOFFSETTO:-0500
TZNAME:EST
DTSTART:20251102T060000
END:STANDARD
BEGIN:DAYLIGHT
TZOFFSETFROM:-0500
TZOFFSETTO:-0400
TZNAME:EDT
DTSTART:20260308T070000
END:DAYLIGHT
BEGIN:STANDARD
TZOFFSETFROM:-0400
TZOFFSETTO:-0500
TZNAME:EST
DTSTART:20261101T060000
END:STANDARD
BEGIN:DAYLIGHT
TZOFFSETFROM:-0500
TZOFFSETTO:-0400
TZNAME:EDT
DTSTART:20270314T070000
END:DAYLIGHT
BEGIN:STANDARD
TZOFFSETFROM:-0400
TZOFFSETTO:-0500
TZNAME:EST
DTSTART:20271107T060000
END:STANDARD
BEGIN:DAYLIGHT
TZOFFSETFROM:-0500
TZOFFSETTO:-0400
TZNAME:EDT
DTSTART:20280312T070000
END:DAYLIGHT
BEGIN:STANDARD
TZOFFSETFROM:-0400
TZOFFSETTO:-0500
TZNAME:EST
DTSTART:20281105T060000
END:STANDARD
BEGIN:DAYLIGHT
TZOFFSETFROM:-0500
TZOFFSETTO:-0400
TZNAME:EDT
DTSTART:20290311T070000
END:DAYLIGHT
BEGIN:STANDARD
TZOFFSETFROM:-0400
TZOFFSETTO:-0500
TZNAME:EST
DTSTART:20291104T060000
END:STANDARD
BEGIN:DAYLIGHT
TZOFFSETFROM:-0500
TZOFFSETTO:-0400
TZNAME:EDT
DTSTART:20300310T070000
END:DAYLIGHT
BEGIN:STANDARD
TZOFFSETFROM:-0400
TZOFFSETTO:-0500
TZNAME:EST
DTSTART:20301103T060000
END:STANDARD
BEGIN:DAYLIGHT
TZOFFSETFROM:-0500
TZOFFSETTO:-0400
TZNAME:EDT
DTSTART:20310309T070000
END:DAYLIGHT
BEGIN:STANDARD
TZOFFSETFROM:-0400
TZOFFSETTO:-0500
TZNAME:EST
DTSTART:20311102T060000
END:STANDARD
END:VTIMEZONE
BEGIN:VEVENT
DTSTART;TZID=America/New_York:20260809T153000
DTEND;TZID=America/New_York:20260809T173000
DTSTAMP:20260422T220813
CREATED:20250525T183409Z
LAST-MODIFIED:20251117T124709Z
UID:10005433-1786289400-1786296600@av8maps.com
SUMMARY:Burger Fly-in (3CM)
DESCRIPTION:Burger Fly-In
URL:https://av8maps.com/event/burger-fly-in-3cm/2026-08-09/
LOCATION:James Clements Airport\, 614 S River Rd\, Bay City\, MI 48708
ATTACH;FMTTYPE=image/jpeg:https://av8maps.com/wp-content/uploads/2025/05/3CM-Burger-Fly-in-e1748198026853.jpg
GEO:43.5431841;-83.8917959
X-APPLE-STRUCTURED-LOCATION;VALUE=URI;X-ADDRESS=James Clements Airport 614 S River Rd Bay City MI 48708;X-APPLE-RADIUS=500;X-TITLE=614 S River Rd\, Bay City\, MI 48708:geo:-83.8917959,43.5431841
END:VEVENT
BEGIN:VEVENT
DTSTART;TZID=America/New_York:20270808T153000
DTEND;TZID=America/New_York:20270808T173000
DTSTAMP:20260422T220813
CREATED:20250525T183409Z
LAST-MODIFIED:20251117T124709Z
UID:10005434-1817739000-1817746200@av8maps.com
SUMMARY:Burger Fly-in (3CM)
DESCRIPTION:Burger Fly-In
URL:https://av8maps.com/event/burger-fly-in-3cm/2027-08-08/
LOCATION:James Clements Airport\, 614 S River Rd\, Bay City\, MI 48708
ATTACH;FMTTYPE=image/jpeg:https://av8maps.com/wp-content/uploads/2025/05/3CM-Burger-Fly-in-e1748198026853.jpg
GEO:43.5431841;-83.8917959
X-APPLE-STRUCTURED-LOCATION;VALUE=URI;X-ADDRESS=James Clements Airport 614 S River Rd Bay City MI 48708;X-APPLE-RADIUS=500;X-TITLE=614 S River Rd\, Bay City\, MI 48708:geo:-83.8917959,43.5431841
END:VEVENT
BEGIN:VEVENT
DTSTART;TZID=America/New_York:20280813T153000
DTEND;TZID=America/New_York:20280813T173000
DTSTAMP:20260422T220813
CREATED:20250525T183409Z
LAST-MODIFIED:20251117T124709Z
UID:10005435-1849793400-1849800600@av8maps.com
SUMMARY:Burger Fly-in (3CM)
DESCRIPTION:Burger Fly-In
URL:https://av8maps.com/event/burger-fly-in-3cm/2028-08-13/
LOCATION:James Clements Airport\, 614 S River Rd\, Bay City\, MI 48708
ATTACH;FMTTYPE=image/jpeg:https://av8maps.com/wp-content/uploads/2025/05/3CM-Burger-Fly-in-e1748198026853.jpg
GEO:43.5431841;-83.8917959
X-APPLE-STRUCTURED-LOCATION;VALUE=URI;X-ADDRESS=James Clements Airport 614 S River Rd Bay City MI 48708;X-APPLE-RADIUS=500;X-TITLE=614 S River Rd\, Bay City\, MI 48708:geo:-83.8917959,43.5431841
END:VEVENT
BEGIN:VEVENT
DTSTART;TZID=America/New_York:20290812T153000
DTEND;TZID=America/New_York:20290812T173000
DTSTAMP:20260422T220813
CREATED:20250525T183409Z
LAST-MODIFIED:20251117T124709Z
UID:10005436-1881243000-1881250200@av8maps.com
SUMMARY:Burger Fly-in (3CM)
DESCRIPTION:Burger Fly-In
URL:https://av8maps.com/event/burger-fly-in-3cm/2029-08-12/
LOCATION:James Clements Airport\, 614 S River Rd\, Bay City\, MI 48708
ATTACH;FMTTYPE=image/jpeg:https://av8maps.com/wp-content/uploads/2025/05/3CM-Burger-Fly-in-e1748198026853.jpg
GEO:43.5431841;-83.8917959
X-APPLE-STRUCTURED-LOCATION;VALUE=URI;X-ADDRESS=James Clements Airport 614 S River Rd Bay City MI 48708;X-APPLE-RADIUS=500;X-TITLE=614 S River Rd\, Bay City\, MI 48708:geo:-83.8917959,43.5431841
END:VEVENT
BEGIN:VEVENT
DTSTART;TZID=America/New_York:20300811T153000
DTEND;TZID=America/New_York:20300811T173000
DTSTAMP:20260422T220813
CREATED:20250525T183409Z
LAST-MODIFIED:20251117T124709Z
UID:10005437-1912692600-1912699800@av8maps.com
SUMMARY:Burger Fly-in (3CM)
DESCRIPTION:Burger Fly-In
URL:https://av8maps.com/event/burger-fly-in-3cm/2030-08-11/
LOCATION:James Clements Airport\, 614 S River Rd\, Bay City\, MI 48708
ATTACH;FMTTYPE=image/jpeg:https://av8maps.com/wp-content/uploads/2025/05/3CM-Burger-Fly-in-e1748198026853.jpg
GEO:43.5431841;-83.8917959
X-APPLE-STRUCTURED-LOCATION;VALUE=URI;X-ADDRESS=James Clements Airport 614 S River Rd Bay City MI 48708;X-APPLE-RADIUS=500;X-TITLE=614 S River Rd\, Bay City\, MI 48708:geo:-83.8917959,43.5431841
END:VEVENT
END:VCALENDAR