BEGIN:VCALENDAR
VERSION:2.0
PRODID:-//AV8MAPS.COM - ECPv6.15.20//NONSGML v1.0//EN
CALSCALE:GREGORIAN
METHOD:PUBLISH
X-WR-CALNAME:AV8MAPS.COM
X-ORIGINAL-URL:https://av8maps.com
X-WR-CALDESC:Events for AV8MAPS.COM
REFRESH-INTERVAL;VALUE=DURATION:PT1H
X-Robots-Tag:noindex
X-PUBLISHED-TTL:PT1H
BEGIN:VTIMEZONE
TZID:America/New_York
BEGIN:DAYLIGHT
TZOFFSETFROM:-0500
TZOFFSETTO:-0400
TZNAME:EDT
DTSTART:20250309T070000
END:DAYLIGHT
BEGIN:STANDARD
TZOFFSETFROM:-0400
TZOFFSETTO:-0500
TZNAME:EST
DTSTART:20251102T060000
END:STANDARD
BEGIN:DAYLIGHT
TZOFFSETFROM:-0500
TZOFFSETTO:-0400
TZNAME:EDT
DTSTART:20260308T070000
END:DAYLIGHT
BEGIN:STANDARD
TZOFFSETFROM:-0400
TZOFFSETTO:-0500
TZNAME:EST
DTSTART:20261101T060000
END:STANDARD
BEGIN:DAYLIGHT
TZOFFSETFROM:-0500
TZOFFSETTO:-0400
TZNAME:EDT
DTSTART:20270314T070000
END:DAYLIGHT
BEGIN:STANDARD
TZOFFSETFROM:-0400
TZOFFSETTO:-0500
TZNAME:EST
DTSTART:20271107T060000
END:STANDARD
BEGIN:DAYLIGHT
TZOFFSETFROM:-0500
TZOFFSETTO:-0400
TZNAME:EDT
DTSTART:20280312T070000
END:DAYLIGHT
BEGIN:STANDARD
TZOFFSETFROM:-0400
TZOFFSETTO:-0500
TZNAME:EST
DTSTART:20281105T060000
END:STANDARD
BEGIN:DAYLIGHT
TZOFFSETFROM:-0500
TZOFFSETTO:-0400
TZNAME:EDT
DTSTART:20290311T070000
END:DAYLIGHT
BEGIN:STANDARD
TZOFFSETFROM:-0400
TZOFFSETTO:-0500
TZNAME:EST
DTSTART:20291104T060000
END:STANDARD
BEGIN:DAYLIGHT
TZOFFSETFROM:-0500
TZOFFSETTO:-0400
TZNAME:EDT
DTSTART:20300310T070000
END:DAYLIGHT
BEGIN:STANDARD
TZOFFSETFROM:-0400
TZOFFSETTO:-0500
TZNAME:EST
DTSTART:20301103T060000
END:STANDARD
BEGIN:DAYLIGHT
TZOFFSETFROM:-0500
TZOFFSETTO:-0400
TZNAME:EDT
DTSTART:20310309T070000
END:DAYLIGHT
BEGIN:STANDARD
TZOFFSETFROM:-0400
TZOFFSETTO:-0500
TZNAME:EST
DTSTART:20311102T060000
END:STANDARD
END:VTIMEZONE
BEGIN:VEVENT
DTSTART;TZID=America/New_York:20261114T170000
DTEND;TZID=America/New_York:20261114T190000
DTSTAMP:20260423T135039
CREATED:20251119T224542Z
LAST-MODIFIED:20251119T224543Z
UID:10005450-1794675600-1794682800@av8maps.com
SUMMARY:Fall Festival @ Texas Flight (KDWH)
DESCRIPTION:Join us for family fun\, games\, and fall treats!\n5:00 P.M – 7:00 P.M.\n Texas Flight\n20803 Stuebner Airline #29 Spring\, TX 77379\n Bouncy House > Hot Chocolate > Games for the kids > Food
URL:https://av8maps.com/event/fall-festival-texas-flight-kdwh-2/2026-11-14/
LOCATION:David Wayne Memorial Airport\, 20803 Stuebner Airline Hangar #29 Spring\, TX 77379
ATTACH;FMTTYPE=image/jpeg:https://av8maps.com/wp-content/uploads/2025/10/Fall-Festival-KDWH-e1761003278116.jpg
GEO:30.0314279;-95.5302337
X-APPLE-STRUCTURED-LOCATION;VALUE=URI;X-ADDRESS=David Wayne Memorial Airport 20803 Stuebner Airline Hangar #29 Spring TX 77379;X-APPLE-RADIUS=500;X-TITLE=20803 Stuebner Airline Hangar #29 Spring\, TX 77379:geo:-95.5302337,30.0314279
END:VEVENT
BEGIN:VEVENT
DTSTART;TZID=America/New_York:20271113T170000
DTEND;TZID=America/New_York:20271113T190000
DTSTAMP:20260423T135039
CREATED:20251119T224542Z
LAST-MODIFIED:20251119T224543Z
UID:10005455-1826125200-1826132400@av8maps.com
SUMMARY:Fall Festival @ Texas Flight (KDWH)
DESCRIPTION:Join us for family fun\, games\, and fall treats!\n5:00 P.M – 7:00 P.M.\n Texas Flight\n20803 Stuebner Airline #29 Spring\, TX 77379\n Bouncy House > Hot Chocolate > Games for the kids > Food
URL:https://av8maps.com/event/fall-festival-texas-flight-kdwh-2/2027-11-13/
LOCATION:David Wayne Memorial Airport\, 20803 Stuebner Airline Hangar #29 Spring\, TX 77379
ATTACH;FMTTYPE=image/jpeg:https://av8maps.com/wp-content/uploads/2025/10/Fall-Festival-KDWH-e1761003278116.jpg
GEO:30.0314279;-95.5302337
X-APPLE-STRUCTURED-LOCATION;VALUE=URI;X-ADDRESS=David Wayne Memorial Airport 20803 Stuebner Airline Hangar #29 Spring TX 77379;X-APPLE-RADIUS=500;X-TITLE=20803 Stuebner Airline Hangar #29 Spring\, TX 77379:geo:-95.5302337,30.0314279
END:VEVENT
BEGIN:VEVENT
DTSTART;TZID=America/New_York:20281111T170000
DTEND;TZID=America/New_York:20281111T190000
DTSTAMP:20260423T135039
CREATED:20251119T224542Z
LAST-MODIFIED:20251119T224543Z
UID:10005456-1857574800-1857582000@av8maps.com
SUMMARY:Fall Festival @ Texas Flight (KDWH)
DESCRIPTION:Join us for family fun\, games\, and fall treats!\n5:00 P.M – 7:00 P.M.\n Texas Flight\n20803 Stuebner Airline #29 Spring\, TX 77379\n Bouncy House > Hot Chocolate > Games for the kids > Food
URL:https://av8maps.com/event/fall-festival-texas-flight-kdwh-2/2028-11-11/
LOCATION:David Wayne Memorial Airport\, 20803 Stuebner Airline Hangar #29 Spring\, TX 77379
ATTACH;FMTTYPE=image/jpeg:https://av8maps.com/wp-content/uploads/2025/10/Fall-Festival-KDWH-e1761003278116.jpg
GEO:30.0314279;-95.5302337
X-APPLE-STRUCTURED-LOCATION;VALUE=URI;X-ADDRESS=David Wayne Memorial Airport 20803 Stuebner Airline Hangar #29 Spring TX 77379;X-APPLE-RADIUS=500;X-TITLE=20803 Stuebner Airline Hangar #29 Spring\, TX 77379:geo:-95.5302337,30.0314279
END:VEVENT
BEGIN:VEVENT
DTSTART;TZID=America/New_York:20291110T170000
DTEND;TZID=America/New_York:20291110T190000
DTSTAMP:20260423T135039
CREATED:20251119T224542Z
LAST-MODIFIED:20251119T224543Z
UID:10005457-1889024400-1889031600@av8maps.com
SUMMARY:Fall Festival @ Texas Flight (KDWH)
DESCRIPTION:Join us for family fun\, games\, and fall treats!\n5:00 P.M – 7:00 P.M.\n Texas Flight\n20803 Stuebner Airline #29 Spring\, TX 77379\n Bouncy House > Hot Chocolate > Games for the kids > Food
URL:https://av8maps.com/event/fall-festival-texas-flight-kdwh-2/2029-11-10/
LOCATION:David Wayne Memorial Airport\, 20803 Stuebner Airline Hangar #29 Spring\, TX 77379
ATTACH;FMTTYPE=image/jpeg:https://av8maps.com/wp-content/uploads/2025/10/Fall-Festival-KDWH-e1761003278116.jpg
GEO:30.0314279;-95.5302337
X-APPLE-STRUCTURED-LOCATION;VALUE=URI;X-ADDRESS=David Wayne Memorial Airport 20803 Stuebner Airline Hangar #29 Spring TX 77379;X-APPLE-RADIUS=500;X-TITLE=20803 Stuebner Airline Hangar #29 Spring\, TX 77379:geo:-95.5302337,30.0314279
END:VEVENT
BEGIN:VEVENT
DTSTART;TZID=America/New_York:20301109T170000
DTEND;TZID=America/New_York:20301109T190000
DTSTAMP:20260423T135039
CREATED:20251119T224542Z
LAST-MODIFIED:20251119T224543Z
UID:10005458-1920474000-1920481200@av8maps.com
SUMMARY:Fall Festival @ Texas Flight (KDWH)
DESCRIPTION:Join us for family fun\, games\, and fall treats!\n5:00 P.M – 7:00 P.M.\n Texas Flight\n20803 Stuebner Airline #29 Spring\, TX 77379\n Bouncy House > Hot Chocolate > Games for the kids > Food
URL:https://av8maps.com/event/fall-festival-texas-flight-kdwh-2/2030-11-09/
LOCATION:David Wayne Memorial Airport\, 20803 Stuebner Airline Hangar #29 Spring\, TX 77379
ATTACH;FMTTYPE=image/jpeg:https://av8maps.com/wp-content/uploads/2025/10/Fall-Festival-KDWH-e1761003278116.jpg
GEO:30.0314279;-95.5302337
X-APPLE-STRUCTURED-LOCATION;VALUE=URI;X-ADDRESS=David Wayne Memorial Airport 20803 Stuebner Airline Hangar #29 Spring TX 77379;X-APPLE-RADIUS=500;X-TITLE=20803 Stuebner Airline Hangar #29 Spring\, TX 77379:geo:-95.5302337,30.0314279
END:VEVENT
END:VCALENDAR