BEGIN:VCALENDAR
VERSION:2.0
PRODID:-//AV8MAPS.COM - ECPv6.15.20//NONSGML v1.0//EN
CALSCALE:GREGORIAN
METHOD:PUBLISH
X-WR-CALNAME:AV8MAPS.COM
X-ORIGINAL-URL:https://av8maps.com
X-WR-CALDESC:Events for AV8MAPS.COM
REFRESH-INTERVAL;VALUE=DURATION:PT1H
X-Robots-Tag:noindex
X-PUBLISHED-TTL:PT1H
BEGIN:VTIMEZONE
TZID:America/New_York
BEGIN:DAYLIGHT
TZOFFSETFROM:-0500
TZOFFSETTO:-0400
TZNAME:EDT
DTSTART:20250309T070000
END:DAYLIGHT
BEGIN:STANDARD
TZOFFSETFROM:-0400
TZOFFSETTO:-0500
TZNAME:EST
DTSTART:20251102T060000
END:STANDARD
BEGIN:DAYLIGHT
TZOFFSETFROM:-0500
TZOFFSETTO:-0400
TZNAME:EDT
DTSTART:20260308T070000
END:DAYLIGHT
BEGIN:STANDARD
TZOFFSETFROM:-0400
TZOFFSETTO:-0500
TZNAME:EST
DTSTART:20261101T060000
END:STANDARD
BEGIN:DAYLIGHT
TZOFFSETFROM:-0500
TZOFFSETTO:-0400
TZNAME:EDT
DTSTART:20270314T070000
END:DAYLIGHT
BEGIN:STANDARD
TZOFFSETFROM:-0400
TZOFFSETTO:-0500
TZNAME:EST
DTSTART:20271107T060000
END:STANDARD
BEGIN:DAYLIGHT
TZOFFSETFROM:-0500
TZOFFSETTO:-0400
TZNAME:EDT
DTSTART:20280312T070000
END:DAYLIGHT
BEGIN:STANDARD
TZOFFSETFROM:-0400
TZOFFSETTO:-0500
TZNAME:EST
DTSTART:20281105T060000
END:STANDARD
BEGIN:DAYLIGHT
TZOFFSETFROM:-0500
TZOFFSETTO:-0400
TZNAME:EDT
DTSTART:20290311T070000
END:DAYLIGHT
BEGIN:STANDARD
TZOFFSETFROM:-0400
TZOFFSETTO:-0500
TZNAME:EST
DTSTART:20291104T060000
END:STANDARD
BEGIN:DAYLIGHT
TZOFFSETFROM:-0500
TZOFFSETTO:-0400
TZNAME:EDT
DTSTART:20300310T070000
END:DAYLIGHT
BEGIN:STANDARD
TZOFFSETFROM:-0400
TZOFFSETTO:-0500
TZNAME:EST
DTSTART:20301103T060000
END:STANDARD
BEGIN:DAYLIGHT
TZOFFSETFROM:-0500
TZOFFSETTO:-0400
TZNAME:EDT
DTSTART:20310309T070000
END:DAYLIGHT
BEGIN:STANDARD
TZOFFSETFROM:-0400
TZOFFSETTO:-0500
TZNAME:EST
DTSTART:20311102T060000
END:STANDARD
END:VTIMEZONE
BEGIN:VEVENT
DTSTART;TZID=America/New_York:20261121T110000
DTEND;TZID=America/New_York:20261121T130000
DTSTAMP:20260423T164752
CREATED:20251215T131702Z
LAST-MODIFIED:20251215T131817Z
UID:10005465-1795258800-1795266000@av8maps.com
SUMMARY:Annual Pilots with Presents Fly-in and Antique Car Show (KLCQ)
DESCRIPTION:Pilots With Presents Fly In and Car Display\, 11AM to 1PMThe Annual Pilots with Presents Fly In and Car Display is an event to help Toys For Tots meet their goal of making Christmas a joyous time for all local children. It is a joint effort by The Marine Corps Reserve Toys for Tots\, Experimental Aircraft Association Chapter 977\, Suwannee River Region Antique Automobile Club of America\, and the Lake City Gateway Airport.The event will take place at the Lake City Gateway airport terminal located at 3524 US 90\, between 11AM and 1PM. Featured will be an antique and custom car display and aircraft flying in to drop off toys. All adults bringing a new unwrapped toy valued $10 or more will be entitled to a free hot dog lunch and unique collectable Challenge Coin (while supplies last). Kids under age 12 eat free.Sant Claus will be in attendance listening to kids last minute wishes for Christmas and handing out toys too. Join in on the fun and help make Christmas special for all local kids.
URL:https://av8maps.com/event/annual-pilots-with-presents-fly-in-and-antique-car-show-klcq-2/2026-11-21/
LOCATION:Lake City Gateway Airport\, 3524 US-90\, Lake City\, FL\, 32055
ATTACH;FMTTYPE=image/jpeg:https://av8maps.com/wp-content/uploads/2025/11/Annual-Pilots-with-presents-Fly-in-KLCQ-e1763593723879.jpg
GEO:30.1868315;-82.580983
X-APPLE-STRUCTURED-LOCATION;VALUE=URI;X-ADDRESS=Lake City Gateway Airport 3524 US-90 Lake City FL 32055;X-APPLE-RADIUS=500;X-TITLE=3524 US-90:geo:-82.580983,30.1868315
END:VEVENT
BEGIN:VEVENT
DTSTART;TZID=America/New_York:20271120T110000
DTEND;TZID=America/New_York:20271120T130000
DTSTAMP:20260423T164752
CREATED:20251215T131702Z
LAST-MODIFIED:20251215T131817Z
UID:10005795-1826708400-1826715600@av8maps.com
SUMMARY:Annual Pilots with Presents Fly-in and Antique Car Show (KLCQ)
DESCRIPTION:Pilots With Presents Fly In and Car Display\, 11AM to 1PMThe Annual Pilots with Presents Fly In and Car Display is an event to help Toys For Tots meet their goal of making Christmas a joyous time for all local children. It is a joint effort by The Marine Corps Reserve Toys for Tots\, Experimental Aircraft Association Chapter 977\, Suwannee River Region Antique Automobile Club of America\, and the Lake City Gateway Airport.The event will take place at the Lake City Gateway airport terminal located at 3524 US 90\, between 11AM and 1PM. Featured will be an antique and custom car display and aircraft flying in to drop off toys. All adults bringing a new unwrapped toy valued $10 or more will be entitled to a free hot dog lunch and unique collectable Challenge Coin (while supplies last). Kids under age 12 eat free.Sant Claus will be in attendance listening to kids last minute wishes for Christmas and handing out toys too. Join in on the fun and help make Christmas special for all local kids.
URL:https://av8maps.com/event/annual-pilots-with-presents-fly-in-and-antique-car-show-klcq-2/2027-11-20/
LOCATION:Lake City Gateway Airport\, 3524 US-90\, Lake City\, FL\, 32055
ATTACH;FMTTYPE=image/jpeg:https://av8maps.com/wp-content/uploads/2025/11/Annual-Pilots-with-presents-Fly-in-KLCQ-e1763593723879.jpg
GEO:30.1868315;-82.580983
X-APPLE-STRUCTURED-LOCATION;VALUE=URI;X-ADDRESS=Lake City Gateway Airport 3524 US-90 Lake City FL 32055;X-APPLE-RADIUS=500;X-TITLE=3524 US-90:geo:-82.580983,30.1868315
END:VEVENT
BEGIN:VEVENT
DTSTART;TZID=America/New_York:20281118T110000
DTEND;TZID=America/New_York:20281118T130000
DTSTAMP:20260423T164752
CREATED:20251215T131702Z
LAST-MODIFIED:20251215T131817Z
UID:10005796-1858158000-1858165200@av8maps.com
SUMMARY:Annual Pilots with Presents Fly-in and Antique Car Show (KLCQ)
DESCRIPTION:Pilots With Presents Fly In and Car Display\, 11AM to 1PMThe Annual Pilots with Presents Fly In and Car Display is an event to help Toys For Tots meet their goal of making Christmas a joyous time for all local children. It is a joint effort by The Marine Corps Reserve Toys for Tots\, Experimental Aircraft Association Chapter 977\, Suwannee River Region Antique Automobile Club of America\, and the Lake City Gateway Airport.The event will take place at the Lake City Gateway airport terminal located at 3524 US 90\, between 11AM and 1PM. Featured will be an antique and custom car display and aircraft flying in to drop off toys. All adults bringing a new unwrapped toy valued $10 or more will be entitled to a free hot dog lunch and unique collectable Challenge Coin (while supplies last). Kids under age 12 eat free.Sant Claus will be in attendance listening to kids last minute wishes for Christmas and handing out toys too. Join in on the fun and help make Christmas special for all local kids.
URL:https://av8maps.com/event/annual-pilots-with-presents-fly-in-and-antique-car-show-klcq-2/2028-11-18/
LOCATION:Lake City Gateway Airport\, 3524 US-90\, Lake City\, FL\, 32055
ATTACH;FMTTYPE=image/jpeg:https://av8maps.com/wp-content/uploads/2025/11/Annual-Pilots-with-presents-Fly-in-KLCQ-e1763593723879.jpg
GEO:30.1868315;-82.580983
X-APPLE-STRUCTURED-LOCATION;VALUE=URI;X-ADDRESS=Lake City Gateway Airport 3524 US-90 Lake City FL 32055;X-APPLE-RADIUS=500;X-TITLE=3524 US-90:geo:-82.580983,30.1868315
END:VEVENT
BEGIN:VEVENT
DTSTART;TZID=America/New_York:20291117T110000
DTEND;TZID=America/New_York:20291117T130000
DTSTAMP:20260423T164752
CREATED:20251215T131702Z
LAST-MODIFIED:20251215T131817Z
UID:10005797-1889607600-1889614800@av8maps.com
SUMMARY:Annual Pilots with Presents Fly-in and Antique Car Show (KLCQ)
DESCRIPTION:Pilots With Presents Fly In and Car Display\, 11AM to 1PMThe Annual Pilots with Presents Fly In and Car Display is an event to help Toys For Tots meet their goal of making Christmas a joyous time for all local children. It is a joint effort by The Marine Corps Reserve Toys for Tots\, Experimental Aircraft Association Chapter 977\, Suwannee River Region Antique Automobile Club of America\, and the Lake City Gateway Airport.The event will take place at the Lake City Gateway airport terminal located at 3524 US 90\, between 11AM and 1PM. Featured will be an antique and custom car display and aircraft flying in to drop off toys. All adults bringing a new unwrapped toy valued $10 or more will be entitled to a free hot dog lunch and unique collectable Challenge Coin (while supplies last). Kids under age 12 eat free.Sant Claus will be in attendance listening to kids last minute wishes for Christmas and handing out toys too. Join in on the fun and help make Christmas special for all local kids.
URL:https://av8maps.com/event/annual-pilots-with-presents-fly-in-and-antique-car-show-klcq-2/2029-11-17/
LOCATION:Lake City Gateway Airport\, 3524 US-90\, Lake City\, FL\, 32055
ATTACH;FMTTYPE=image/jpeg:https://av8maps.com/wp-content/uploads/2025/11/Annual-Pilots-with-presents-Fly-in-KLCQ-e1763593723879.jpg
GEO:30.1868315;-82.580983
X-APPLE-STRUCTURED-LOCATION;VALUE=URI;X-ADDRESS=Lake City Gateway Airport 3524 US-90 Lake City FL 32055;X-APPLE-RADIUS=500;X-TITLE=3524 US-90:geo:-82.580983,30.1868315
END:VEVENT
BEGIN:VEVENT
DTSTART;TZID=America/New_York:20301116T110000
DTEND;TZID=America/New_York:20301116T130000
DTSTAMP:20260423T164752
CREATED:20251215T131702Z
LAST-MODIFIED:20251215T131817Z
UID:10005798-1921057200-1921064400@av8maps.com
SUMMARY:Annual Pilots with Presents Fly-in and Antique Car Show (KLCQ)
DESCRIPTION:Pilots With Presents Fly In and Car Display\, 11AM to 1PMThe Annual Pilots with Presents Fly In and Car Display is an event to help Toys For Tots meet their goal of making Christmas a joyous time for all local children. It is a joint effort by The Marine Corps Reserve Toys for Tots\, Experimental Aircraft Association Chapter 977\, Suwannee River Region Antique Automobile Club of America\, and the Lake City Gateway Airport.The event will take place at the Lake City Gateway airport terminal located at 3524 US 90\, between 11AM and 1PM. Featured will be an antique and custom car display and aircraft flying in to drop off toys. All adults bringing a new unwrapped toy valued $10 or more will be entitled to a free hot dog lunch and unique collectable Challenge Coin (while supplies last). Kids under age 12 eat free.Sant Claus will be in attendance listening to kids last minute wishes for Christmas and handing out toys too. Join in on the fun and help make Christmas special for all local kids.
URL:https://av8maps.com/event/annual-pilots-with-presents-fly-in-and-antique-car-show-klcq-2/2030-11-16/
LOCATION:Lake City Gateway Airport\, 3524 US-90\, Lake City\, FL\, 32055
ATTACH;FMTTYPE=image/jpeg:https://av8maps.com/wp-content/uploads/2025/11/Annual-Pilots-with-presents-Fly-in-KLCQ-e1763593723879.jpg
GEO:30.1868315;-82.580983
X-APPLE-STRUCTURED-LOCATION;VALUE=URI;X-ADDRESS=Lake City Gateway Airport 3524 US-90 Lake City FL 32055;X-APPLE-RADIUS=500;X-TITLE=3524 US-90:geo:-82.580983,30.1868315
END:VEVENT
END:VCALENDAR