BEGIN:VCALENDAR
VERSION:2.0
PRODID:-//AV8MAPS.COM - ECPv6.15.20//NONSGML v1.0//EN
CALSCALE:GREGORIAN
METHOD:PUBLISH
X-WR-CALNAME:AV8MAPS.COM
X-ORIGINAL-URL:https://av8maps.com
X-WR-CALDESC:Events for AV8MAPS.COM
REFRESH-INTERVAL;VALUE=DURATION:PT1H
X-Robots-Tag:noindex
X-PUBLISHED-TTL:PT1H
BEGIN:VTIMEZONE
TZID:America/New_York
BEGIN:DAYLIGHT
TZOFFSETFROM:-0500
TZOFFSETTO:-0400
TZNAME:EDT
DTSTART:20250309T070000
END:DAYLIGHT
BEGIN:STANDARD
TZOFFSETFROM:-0400
TZOFFSETTO:-0500
TZNAME:EST
DTSTART:20251102T060000
END:STANDARD
BEGIN:DAYLIGHT
TZOFFSETFROM:-0500
TZOFFSETTO:-0400
TZNAME:EDT
DTSTART:20260308T070000
END:DAYLIGHT
BEGIN:STANDARD
TZOFFSETFROM:-0400
TZOFFSETTO:-0500
TZNAME:EST
DTSTART:20261101T060000
END:STANDARD
BEGIN:DAYLIGHT
TZOFFSETFROM:-0500
TZOFFSETTO:-0400
TZNAME:EDT
DTSTART:20270314T070000
END:DAYLIGHT
BEGIN:STANDARD
TZOFFSETFROM:-0400
TZOFFSETTO:-0500
TZNAME:EST
DTSTART:20271107T060000
END:STANDARD
BEGIN:DAYLIGHT
TZOFFSETFROM:-0500
TZOFFSETTO:-0400
TZNAME:EDT
DTSTART:20280312T070000
END:DAYLIGHT
BEGIN:STANDARD
TZOFFSETFROM:-0400
TZOFFSETTO:-0500
TZNAME:EST
DTSTART:20281105T060000
END:STANDARD
BEGIN:DAYLIGHT
TZOFFSETFROM:-0500
TZOFFSETTO:-0400
TZNAME:EDT
DTSTART:20290311T070000
END:DAYLIGHT
BEGIN:STANDARD
TZOFFSETFROM:-0400
TZOFFSETTO:-0500
TZNAME:EST
DTSTART:20291104T060000
END:STANDARD
BEGIN:DAYLIGHT
TZOFFSETFROM:-0500
TZOFFSETTO:-0400
TZNAME:EDT
DTSTART:20300310T070000
END:DAYLIGHT
BEGIN:STANDARD
TZOFFSETFROM:-0400
TZOFFSETTO:-0500
TZNAME:EST
DTSTART:20301103T060000
END:STANDARD
END:VTIMEZONE
BEGIN:VEVENT
DTSTART;TZID=America/New_York:20261212T130000
DTEND;TZID=America/New_York:20261212T150000
DTSTAMP:20260423T092044
CREATED:20251120T003257Z
LAST-MODIFIED:20251120T005405Z
UID:10005470-1797080400-1797087600@av8maps.com
SUMMARY:Touchdown with Santa (1G5)
DESCRIPTION:Join Us for Santa’s pit stop arrive at the airport for a special gift\, some snacks & Refreshments to enjoy! \nThere will be a photographer available to purchase pictures with Santa. $8 per child. Adults are free to enjoy the Holiday magic.
URL:https://av8maps.com/event/touchdown-with-santa-1g5/2026-12-12/
LOCATION:Medina Municipal Airport\, 2050 Medina Rd\, Medina\, Ohio\, 44256
ATTACH;FMTTYPE=image/png:https://av8maps.com/wp-content/uploads/2025/11/Touchdown-with-Santa-1G5-e1763598737941.png
GEO:41.1353728;-81.763571
X-APPLE-STRUCTURED-LOCATION;VALUE=URI;X-ADDRESS=Medina Municipal Airport 2050 Medina Rd Medina Ohio 44256;X-APPLE-RADIUS=500;X-TITLE=2050 Medina Rd:geo:-81.763571,41.1353728
END:VEVENT
BEGIN:VEVENT
DTSTART;TZID=America/New_York:20271211T130000
DTEND;TZID=America/New_York:20271211T150000
DTSTAMP:20260423T092044
CREATED:20251120T003257Z
LAST-MODIFIED:20251120T005405Z
UID:10005471-1828530000-1828537200@av8maps.com
SUMMARY:Touchdown with Santa (1G5)
DESCRIPTION:Join Us for Santa’s pit stop arrive at the airport for a special gift\, some snacks & Refreshments to enjoy! \nThere will be a photographer available to purchase pictures with Santa. $8 per child. Adults are free to enjoy the Holiday magic.
URL:https://av8maps.com/event/touchdown-with-santa-1g5/2027-12-11/
LOCATION:Medina Municipal Airport\, 2050 Medina Rd\, Medina\, Ohio\, 44256
ATTACH;FMTTYPE=image/png:https://av8maps.com/wp-content/uploads/2025/11/Touchdown-with-Santa-1G5-e1763598737941.png
GEO:41.1353728;-81.763571
X-APPLE-STRUCTURED-LOCATION;VALUE=URI;X-ADDRESS=Medina Municipal Airport 2050 Medina Rd Medina Ohio 44256;X-APPLE-RADIUS=500;X-TITLE=2050 Medina Rd:geo:-81.763571,41.1353728
END:VEVENT
BEGIN:VEVENT
DTSTART;TZID=America/New_York:20281209T130000
DTEND;TZID=America/New_York:20281209T150000
DTSTAMP:20260423T092044
CREATED:20251120T003257Z
LAST-MODIFIED:20251120T005405Z
UID:10005472-1859979600-1859986800@av8maps.com
SUMMARY:Touchdown with Santa (1G5)
DESCRIPTION:Join Us for Santa’s pit stop arrive at the airport for a special gift\, some snacks & Refreshments to enjoy! \nThere will be a photographer available to purchase pictures with Santa. $8 per child. Adults are free to enjoy the Holiday magic.
URL:https://av8maps.com/event/touchdown-with-santa-1g5/2028-12-09/
LOCATION:Medina Municipal Airport\, 2050 Medina Rd\, Medina\, Ohio\, 44256
ATTACH;FMTTYPE=image/png:https://av8maps.com/wp-content/uploads/2025/11/Touchdown-with-Santa-1G5-e1763598737941.png
GEO:41.1353728;-81.763571
X-APPLE-STRUCTURED-LOCATION;VALUE=URI;X-ADDRESS=Medina Municipal Airport 2050 Medina Rd Medina Ohio 44256;X-APPLE-RADIUS=500;X-TITLE=2050 Medina Rd:geo:-81.763571,41.1353728
END:VEVENT
BEGIN:VEVENT
DTSTART;TZID=America/New_York:20291208T130000
DTEND;TZID=America/New_York:20291208T150000
DTSTAMP:20260423T092044
CREATED:20251120T003257Z
LAST-MODIFIED:20251120T005405Z
UID:10005473-1891429200-1891436400@av8maps.com
SUMMARY:Touchdown with Santa (1G5)
DESCRIPTION:Join Us for Santa’s pit stop arrive at the airport for a special gift\, some snacks & Refreshments to enjoy! \nThere will be a photographer available to purchase pictures with Santa. $8 per child. Adults are free to enjoy the Holiday magic.
URL:https://av8maps.com/event/touchdown-with-santa-1g5/2029-12-08/
LOCATION:Medina Municipal Airport\, 2050 Medina Rd\, Medina\, Ohio\, 44256
ATTACH;FMTTYPE=image/png:https://av8maps.com/wp-content/uploads/2025/11/Touchdown-with-Santa-1G5-e1763598737941.png
GEO:41.1353728;-81.763571
X-APPLE-STRUCTURED-LOCATION;VALUE=URI;X-ADDRESS=Medina Municipal Airport 2050 Medina Rd Medina Ohio 44256;X-APPLE-RADIUS=500;X-TITLE=2050 Medina Rd:geo:-81.763571,41.1353728
END:VEVENT
END:VCALENDAR