BEGIN:VCALENDAR
VERSION:2.0
PRODID:-//AV8MAPS.COM - ECPv6.15.20//NONSGML v1.0//EN
CALSCALE:GREGORIAN
METHOD:PUBLISH
X-WR-CALNAME:AV8MAPS.COM
X-ORIGINAL-URL:https://av8maps.com
X-WR-CALDESC:Events for AV8MAPS.COM
REFRESH-INTERVAL;VALUE=DURATION:PT1H
X-Robots-Tag:noindex
X-PUBLISHED-TTL:PT1H
BEGIN:VTIMEZONE
TZID:America/New_York
BEGIN:DAYLIGHT
TZOFFSETFROM:-0500
TZOFFSETTO:-0400
TZNAME:EDT
DTSTART:20260308T070000
END:DAYLIGHT
BEGIN:STANDARD
TZOFFSETFROM:-0400
TZOFFSETTO:-0500
TZNAME:EST
DTSTART:20261101T060000
END:STANDARD
BEGIN:DAYLIGHT
TZOFFSETFROM:-0500
TZOFFSETTO:-0400
TZNAME:EDT
DTSTART:20270314T070000
END:DAYLIGHT
BEGIN:STANDARD
TZOFFSETFROM:-0400
TZOFFSETTO:-0500
TZNAME:EST
DTSTART:20271107T060000
END:STANDARD
BEGIN:DAYLIGHT
TZOFFSETFROM:-0500
TZOFFSETTO:-0400
TZNAME:EDT
DTSTART:20280312T070000
END:DAYLIGHT
BEGIN:STANDARD
TZOFFSETFROM:-0400
TZOFFSETTO:-0500
TZNAME:EST
DTSTART:20281105T060000
END:STANDARD
BEGIN:DAYLIGHT
TZOFFSETFROM:-0500
TZOFFSETTO:-0400
TZNAME:EDT
DTSTART:20290311T070000
END:DAYLIGHT
BEGIN:STANDARD
TZOFFSETFROM:-0400
TZOFFSETTO:-0500
TZNAME:EST
DTSTART:20291104T060000
END:STANDARD
BEGIN:DAYLIGHT
TZOFFSETFROM:-0500
TZOFFSETTO:-0400
TZNAME:EDT
DTSTART:20300310T070000
END:DAYLIGHT
BEGIN:STANDARD
TZOFFSETFROM:-0400
TZOFFSETTO:-0500
TZNAME:EST
DTSTART:20301103T060000
END:STANDARD
BEGIN:DAYLIGHT
TZOFFSETFROM:-0500
TZOFFSETTO:-0400
TZNAME:EDT
DTSTART:20310309T070000
END:DAYLIGHT
BEGIN:STANDARD
TZOFFSETFROM:-0400
TZOFFSETTO:-0500
TZNAME:EST
DTSTART:20311102T060000
END:STANDARD
END:VTIMEZONE
BEGIN:VEVENT
DTSTART;TZID=America/New_York:20270410T110000
DTEND;TZID=America/New_York:20270410T140000
DTSTAMP:20260423T062524
CREATED:20251121T215538Z
LAST-MODIFIED:20251201T103417Z
UID:10005549-1807354800-1807365600@av8maps.com
SUMMARY:EAA Chapter 180 Fly-in/Drive-in Picnic (48X)
DESCRIPTION:Come join us for our semi annual fly-in/ drive-in picnic \n 
URL:https://av8maps.com/event/eaa-chapter-180-fly-in-drive-in-picnic-48x-2/2027-04-10/
LOCATION:Manatee Airport\, 14108 US-41\, Palmetto\, FL\, 34221
ATTACH;FMTTYPE=image/jpeg:https://av8maps.com/wp-content/uploads/2025/11/IMG_0217.jpeg
GEO:27.6429744;-82.5202749
X-APPLE-STRUCTURED-LOCATION;VALUE=URI;X-ADDRESS=Manatee Airport 14108 US-41 Palmetto FL 34221;X-APPLE-RADIUS=500;X-TITLE=14108 US-41:geo:-82.5202749,27.6429744
END:VEVENT
BEGIN:VEVENT
DTSTART;TZID=America/New_York:20280408T110000
DTEND;TZID=America/New_York:20280408T140000
DTSTAMP:20260423T062524
CREATED:20251121T215538Z
LAST-MODIFIED:20251201T103417Z
UID:10005550-1838804400-1838815200@av8maps.com
SUMMARY:EAA Chapter 180 Fly-in/Drive-in Picnic (48X)
DESCRIPTION:Come join us for our semi annual fly-in/ drive-in picnic \n 
URL:https://av8maps.com/event/eaa-chapter-180-fly-in-drive-in-picnic-48x-2/2028-04-08/
LOCATION:Manatee Airport\, 14108 US-41\, Palmetto\, FL\, 34221
ATTACH;FMTTYPE=image/jpeg:https://av8maps.com/wp-content/uploads/2025/11/IMG_0217.jpeg
GEO:27.6429744;-82.5202749
X-APPLE-STRUCTURED-LOCATION;VALUE=URI;X-ADDRESS=Manatee Airport 14108 US-41 Palmetto FL 34221;X-APPLE-RADIUS=500;X-TITLE=14108 US-41:geo:-82.5202749,27.6429744
END:VEVENT
BEGIN:VEVENT
DTSTART;TZID=America/New_York:20290414T110000
DTEND;TZID=America/New_York:20290414T140000
DTSTAMP:20260423T062524
CREATED:20251121T215538Z
LAST-MODIFIED:20251201T103417Z
UID:10005551-1870858800-1870869600@av8maps.com
SUMMARY:EAA Chapter 180 Fly-in/Drive-in Picnic (48X)
DESCRIPTION:Come join us for our semi annual fly-in/ drive-in picnic \n 
URL:https://av8maps.com/event/eaa-chapter-180-fly-in-drive-in-picnic-48x-2/2029-04-14/
LOCATION:Manatee Airport\, 14108 US-41\, Palmetto\, FL\, 34221
ATTACH;FMTTYPE=image/jpeg:https://av8maps.com/wp-content/uploads/2025/11/IMG_0217.jpeg
GEO:27.6429744;-82.5202749
X-APPLE-STRUCTURED-LOCATION;VALUE=URI;X-ADDRESS=Manatee Airport 14108 US-41 Palmetto FL 34221;X-APPLE-RADIUS=500;X-TITLE=14108 US-41:geo:-82.5202749,27.6429744
END:VEVENT
BEGIN:VEVENT
DTSTART;TZID=America/New_York:20300413T110000
DTEND;TZID=America/New_York:20300413T140000
DTSTAMP:20260423T062524
CREATED:20251121T215538Z
LAST-MODIFIED:20251201T103417Z
UID:10005552-1902308400-1902319200@av8maps.com
SUMMARY:EAA Chapter 180 Fly-in/Drive-in Picnic (48X)
DESCRIPTION:Come join us for our semi annual fly-in/ drive-in picnic \n 
URL:https://av8maps.com/event/eaa-chapter-180-fly-in-drive-in-picnic-48x-2/2030-04-13/
LOCATION:Manatee Airport\, 14108 US-41\, Palmetto\, FL\, 34221
ATTACH;FMTTYPE=image/jpeg:https://av8maps.com/wp-content/uploads/2025/11/IMG_0217.jpeg
GEO:27.6429744;-82.5202749
X-APPLE-STRUCTURED-LOCATION;VALUE=URI;X-ADDRESS=Manatee Airport 14108 US-41 Palmetto FL 34221;X-APPLE-RADIUS=500;X-TITLE=14108 US-41:geo:-82.5202749,27.6429744
END:VEVENT
END:VCALENDAR