BEGIN:VCALENDAR
VERSION:2.0
PRODID:-//AV8MAPS.COM - ECPv6.15.20//NONSGML v1.0//EN
CALSCALE:GREGORIAN
METHOD:PUBLISH
X-WR-CALNAME:AV8MAPS.COM
X-ORIGINAL-URL:https://av8maps.com
X-WR-CALDESC:Events for AV8MAPS.COM
REFRESH-INTERVAL;VALUE=DURATION:PT1H
X-Robots-Tag:noindex
X-PUBLISHED-TTL:PT1H
BEGIN:VTIMEZONE
TZID:America/New_York
BEGIN:DAYLIGHT
TZOFFSETFROM:-0500
TZOFFSETTO:-0400
TZNAME:EDT
DTSTART:20250309T070000
END:DAYLIGHT
BEGIN:STANDARD
TZOFFSETFROM:-0400
TZOFFSETTO:-0500
TZNAME:EST
DTSTART:20251102T060000
END:STANDARD
BEGIN:DAYLIGHT
TZOFFSETFROM:-0500
TZOFFSETTO:-0400
TZNAME:EDT
DTSTART:20260308T070000
END:DAYLIGHT
BEGIN:STANDARD
TZOFFSETFROM:-0400
TZOFFSETTO:-0500
TZNAME:EST
DTSTART:20261101T060000
END:STANDARD
BEGIN:DAYLIGHT
TZOFFSETFROM:-0500
TZOFFSETTO:-0400
TZNAME:EDT
DTSTART:20270314T070000
END:DAYLIGHT
BEGIN:STANDARD
TZOFFSETFROM:-0400
TZOFFSETTO:-0500
TZNAME:EST
DTSTART:20271107T060000
END:STANDARD
BEGIN:DAYLIGHT
TZOFFSETFROM:-0500
TZOFFSETTO:-0400
TZNAME:EDT
DTSTART:20280312T070000
END:DAYLIGHT
BEGIN:STANDARD
TZOFFSETFROM:-0400
TZOFFSETTO:-0500
TZNAME:EST
DTSTART:20281105T060000
END:STANDARD
BEGIN:DAYLIGHT
TZOFFSETFROM:-0500
TZOFFSETTO:-0400
TZNAME:EDT
DTSTART:20290311T070000
END:DAYLIGHT
BEGIN:STANDARD
TZOFFSETFROM:-0400
TZOFFSETTO:-0500
TZNAME:EST
DTSTART:20291104T060000
END:STANDARD
BEGIN:DAYLIGHT
TZOFFSETFROM:-0500
TZOFFSETTO:-0400
TZNAME:EDT
DTSTART:20300310T070000
END:DAYLIGHT
BEGIN:STANDARD
TZOFFSETFROM:-0400
TZOFFSETTO:-0500
TZNAME:EST
DTSTART:20301103T060000
END:STANDARD
BEGIN:DAYLIGHT
TZOFFSETFROM:-0500
TZOFFSETTO:-0400
TZNAME:EDT
DTSTART:20310309T070000
END:DAYLIGHT
BEGIN:STANDARD
TZOFFSETFROM:-0400
TZOFFSETTO:-0500
TZNAME:EST
DTSTART:20311102T060000
END:STANDARD
END:VTIMEZONE
BEGIN:VEVENT
DTSTART;TZID=America/New_York:20261101T080000
DTEND;TZID=America/New_York:20261212T180000
DTSTAMP:20260423T164821
CREATED:20251215T152226Z
LAST-MODIFIED:20251215T152226Z
UID:10005502-1793520000-1797098400@av8maps.com
SUMMARY:Annual Stuff the Plane Toy Drive (KSMX)
DESCRIPTION:Help us help the kids!\nWe are doing our annual” Stuff the Plane” Toy drive.\nYou can either fly or drive a toy to our collection boxes located at:\nEnglish Air Services 3409 Corsairs Cir at KSMX or at the\nLark & Sparrow Bar at 155 E Clark Ave\, Suite 110\, Orcutt CA\nYou can also use Venmo\, and we will shop for you! Please use the Venmo QR Code on the flyer.\nWe need all donations by 12/12 as we will fly the toys to Oceano on 12/13\n\nIf you want us to pick up a toy or meet you at the airport\, or if you have any questions please call Mike at 1-805-720-8515.\nYou can also email Mike at dzclean@hotmail.com
URL:https://av8maps.com/event/annual-stuff-the-plane-toy-drive-ksmx-2/2026-11-01/
LOCATION:Santa Maria Public Airport @ English Air Services\, 3409 Corsair Cir\, Santa Maria\, California\, 93455
ATTACH;FMTTYPE=image/jpeg:https://av8maps.com/wp-content/uploads/2025/11/Browns-2nd-Annual-Stuff-the-plane-e1763765533562.jpg
GEO:34.8973661;-120.446036
X-APPLE-STRUCTURED-LOCATION;VALUE=URI;X-ADDRESS=Santa Maria Public Airport @ English Air Services 3409 Corsair Cir Santa Maria California 93455;X-APPLE-RADIUS=500;X-TITLE=3409 Corsair Cir:geo:-120.446036,34.8973661
END:VEVENT
BEGIN:VEVENT
DTSTART;TZID=America/New_York:20271107T080000
DTEND;TZID=America/New_York:20271218T180000
DTSTAMP:20260423T164821
CREATED:20251215T152226Z
LAST-MODIFIED:20251215T152226Z
UID:10005814-1825574400-1829152800@av8maps.com
SUMMARY:Annual Stuff the Plane Toy Drive (KSMX)
DESCRIPTION:Help us help the kids!\nWe are doing our annual” Stuff the Plane” Toy drive.\nYou can either fly or drive a toy to our collection boxes located at:\nEnglish Air Services 3409 Corsairs Cir at KSMX or at the\nLark & Sparrow Bar at 155 E Clark Ave\, Suite 110\, Orcutt CA\nYou can also use Venmo\, and we will shop for you! Please use the Venmo QR Code on the flyer.\nWe need all donations by 12/12 as we will fly the toys to Oceano on 12/13\n\nIf you want us to pick up a toy or meet you at the airport\, or if you have any questions please call Mike at 1-805-720-8515.\nYou can also email Mike at dzclean@hotmail.com
URL:https://av8maps.com/event/annual-stuff-the-plane-toy-drive-ksmx-2/2027-11-07/
LOCATION:Santa Maria Public Airport @ English Air Services\, 3409 Corsair Cir\, Santa Maria\, California\, 93455
ATTACH;FMTTYPE=image/jpeg:https://av8maps.com/wp-content/uploads/2025/11/Browns-2nd-Annual-Stuff-the-plane-e1763765533562.jpg
GEO:34.8973661;-120.446036
X-APPLE-STRUCTURED-LOCATION;VALUE=URI;X-ADDRESS=Santa Maria Public Airport @ English Air Services 3409 Corsair Cir Santa Maria California 93455;X-APPLE-RADIUS=500;X-TITLE=3409 Corsair Cir:geo:-120.446036,34.8973661
END:VEVENT
BEGIN:VEVENT
DTSTART;TZID=America/New_York:20281105T080000
DTEND;TZID=America/New_York:20281216T180000
DTSTAMP:20260423T164821
CREATED:20251215T152226Z
LAST-MODIFIED:20251215T152226Z
UID:10005815-1857024000-1860602400@av8maps.com
SUMMARY:Annual Stuff the Plane Toy Drive (KSMX)
DESCRIPTION:Help us help the kids!\nWe are doing our annual” Stuff the Plane” Toy drive.\nYou can either fly or drive a toy to our collection boxes located at:\nEnglish Air Services 3409 Corsairs Cir at KSMX or at the\nLark & Sparrow Bar at 155 E Clark Ave\, Suite 110\, Orcutt CA\nYou can also use Venmo\, and we will shop for you! Please use the Venmo QR Code on the flyer.\nWe need all donations by 12/12 as we will fly the toys to Oceano on 12/13\n\nIf you want us to pick up a toy or meet you at the airport\, or if you have any questions please call Mike at 1-805-720-8515.\nYou can also email Mike at dzclean@hotmail.com
URL:https://av8maps.com/event/annual-stuff-the-plane-toy-drive-ksmx-2/2028-11-05/
LOCATION:Santa Maria Public Airport @ English Air Services\, 3409 Corsair Cir\, Santa Maria\, California\, 93455
ATTACH;FMTTYPE=image/jpeg:https://av8maps.com/wp-content/uploads/2025/11/Browns-2nd-Annual-Stuff-the-plane-e1763765533562.jpg
GEO:34.8973661;-120.446036
X-APPLE-STRUCTURED-LOCATION;VALUE=URI;X-ADDRESS=Santa Maria Public Airport @ English Air Services 3409 Corsair Cir Santa Maria California 93455;X-APPLE-RADIUS=500;X-TITLE=3409 Corsair Cir:geo:-120.446036,34.8973661
END:VEVENT
BEGIN:VEVENT
DTSTART;TZID=America/New_York:20291104T080000
DTEND;TZID=America/New_York:20291215T180000
DTSTAMP:20260423T164821
CREATED:20251215T152226Z
LAST-MODIFIED:20251215T152226Z
UID:10005816-1888473600-1892052000@av8maps.com
SUMMARY:Annual Stuff the Plane Toy Drive (KSMX)
DESCRIPTION:Help us help the kids!\nWe are doing our annual” Stuff the Plane” Toy drive.\nYou can either fly or drive a toy to our collection boxes located at:\nEnglish Air Services 3409 Corsairs Cir at KSMX or at the\nLark & Sparrow Bar at 155 E Clark Ave\, Suite 110\, Orcutt CA\nYou can also use Venmo\, and we will shop for you! Please use the Venmo QR Code on the flyer.\nWe need all donations by 12/12 as we will fly the toys to Oceano on 12/13\n\nIf you want us to pick up a toy or meet you at the airport\, or if you have any questions please call Mike at 1-805-720-8515.\nYou can also email Mike at dzclean@hotmail.com
URL:https://av8maps.com/event/annual-stuff-the-plane-toy-drive-ksmx-2/2029-11-04/
LOCATION:Santa Maria Public Airport @ English Air Services\, 3409 Corsair Cir\, Santa Maria\, California\, 93455
ATTACH;FMTTYPE=image/jpeg:https://av8maps.com/wp-content/uploads/2025/11/Browns-2nd-Annual-Stuff-the-plane-e1763765533562.jpg
GEO:34.8973661;-120.446036
X-APPLE-STRUCTURED-LOCATION;VALUE=URI;X-ADDRESS=Santa Maria Public Airport @ English Air Services 3409 Corsair Cir Santa Maria California 93455;X-APPLE-RADIUS=500;X-TITLE=3409 Corsair Cir:geo:-120.446036,34.8973661
END:VEVENT
BEGIN:VEVENT
DTSTART;TZID=America/New_York:20301103T080000
DTEND;TZID=America/New_York:20301214T180000
DTSTAMP:20260423T164821
CREATED:20251215T152226Z
LAST-MODIFIED:20251215T152226Z
UID:10005817-1919923200-1923501600@av8maps.com
SUMMARY:Annual Stuff the Plane Toy Drive (KSMX)
DESCRIPTION:Help us help the kids!\nWe are doing our annual” Stuff the Plane” Toy drive.\nYou can either fly or drive a toy to our collection boxes located at:\nEnglish Air Services 3409 Corsairs Cir at KSMX or at the\nLark & Sparrow Bar at 155 E Clark Ave\, Suite 110\, Orcutt CA\nYou can also use Venmo\, and we will shop for you! Please use the Venmo QR Code on the flyer.\nWe need all donations by 12/12 as we will fly the toys to Oceano on 12/13\n\nIf you want us to pick up a toy or meet you at the airport\, or if you have any questions please call Mike at 1-805-720-8515.\nYou can also email Mike at dzclean@hotmail.com
URL:https://av8maps.com/event/annual-stuff-the-plane-toy-drive-ksmx-2/2030-11-03/
LOCATION:Santa Maria Public Airport @ English Air Services\, 3409 Corsair Cir\, Santa Maria\, California\, 93455
ATTACH;FMTTYPE=image/jpeg:https://av8maps.com/wp-content/uploads/2025/11/Browns-2nd-Annual-Stuff-the-plane-e1763765533562.jpg
GEO:34.8973661;-120.446036
X-APPLE-STRUCTURED-LOCATION;VALUE=URI;X-ADDRESS=Santa Maria Public Airport @ English Air Services 3409 Corsair Cir Santa Maria California 93455;X-APPLE-RADIUS=500;X-TITLE=3409 Corsair Cir:geo:-120.446036,34.8973661
END:VEVENT
END:VCALENDAR