BEGIN:VCALENDAR
VERSION:2.0
PRODID:-//AV8MAPS.COM - ECPv6.15.20//NONSGML v1.0//EN
CALSCALE:GREGORIAN
METHOD:PUBLISH
X-WR-CALNAME:AV8MAPS.COM
X-ORIGINAL-URL:https://av8maps.com
X-WR-CALDESC:Events for AV8MAPS.COM
REFRESH-INTERVAL;VALUE=DURATION:PT1H
X-Robots-Tag:noindex
X-PUBLISHED-TTL:PT1H
BEGIN:VTIMEZONE
TZID:America/New_York
BEGIN:DAYLIGHT
TZOFFSETFROM:-0500
TZOFFSETTO:-0400
TZNAME:EDT
DTSTART:20260308T070000
END:DAYLIGHT
BEGIN:STANDARD
TZOFFSETFROM:-0400
TZOFFSETTO:-0500
TZNAME:EST
DTSTART:20261101T060000
END:STANDARD
BEGIN:DAYLIGHT
TZOFFSETFROM:-0500
TZOFFSETTO:-0400
TZNAME:EDT
DTSTART:20270314T070000
END:DAYLIGHT
BEGIN:STANDARD
TZOFFSETFROM:-0400
TZOFFSETTO:-0500
TZNAME:EST
DTSTART:20271107T060000
END:STANDARD
BEGIN:DAYLIGHT
TZOFFSETFROM:-0500
TZOFFSETTO:-0400
TZNAME:EDT
DTSTART:20280312T070000
END:DAYLIGHT
BEGIN:STANDARD
TZOFFSETFROM:-0400
TZOFFSETTO:-0500
TZNAME:EST
DTSTART:20281105T060000
END:STANDARD
BEGIN:DAYLIGHT
TZOFFSETFROM:-0500
TZOFFSETTO:-0400
TZNAME:EDT
DTSTART:20290311T070000
END:DAYLIGHT
BEGIN:STANDARD
TZOFFSETFROM:-0400
TZOFFSETTO:-0500
TZNAME:EST
DTSTART:20291104T060000
END:STANDARD
BEGIN:DAYLIGHT
TZOFFSETFROM:-0500
TZOFFSETTO:-0400
TZNAME:EDT
DTSTART:20300310T070000
END:DAYLIGHT
BEGIN:STANDARD
TZOFFSETFROM:-0400
TZOFFSETTO:-0500
TZNAME:EST
DTSTART:20301103T060000
END:STANDARD
BEGIN:DAYLIGHT
TZOFFSETFROM:-0500
TZOFFSETTO:-0400
TZNAME:EDT
DTSTART:20310309T070000
END:DAYLIGHT
BEGIN:STANDARD
TZOFFSETFROM:-0400
TZOFFSETTO:-0500
TZNAME:EST
DTSTART:20311102T060000
END:STANDARD
END:VTIMEZONE
BEGIN:VEVENT
DTSTART;TZID=America/New_York:20270327T090000
DTEND;TZID=America/New_York:20270327T140000
DTSTAMP:20260423T062529
CREATED:20251123T140324Z
LAST-MODIFIED:20251123T140324Z
UID:10005521-1806138000-1806156000@av8maps.com
SUMMARY:LBX Annual Fly-in (KLBX)
DESCRIPTION:Join us from 9 AM to 2 PM for an exciting day filled with planes\, fun\, and amazing giveaways!
URL:https://av8maps.com/event/lbx-annual-fly-in-klbx/2027-03-27/
LOCATION:Texas Gulf Coast Regional Airport\, 8000 Airport Wy\, Angleton\, TX\, 77515
ATTACH;FMTTYPE=image/jpeg:https://av8maps.com/wp-content/uploads/2025/11/LBX-fly-in-e1763906598503.jpg
GEO:29.1109517;-95.4590728
X-APPLE-STRUCTURED-LOCATION;VALUE=URI;X-ADDRESS=Texas Gulf Coast Regional Airport 8000 Airport Wy Angleton TX 77515;X-APPLE-RADIUS=500;X-TITLE=8000 Airport Wy:geo:-95.4590728,29.1109517
END:VEVENT
BEGIN:VEVENT
DTSTART;TZID=America/New_York:20280325T090000
DTEND;TZID=America/New_York:20280325T140000
DTSTAMP:20260423T062529
CREATED:20251123T140324Z
LAST-MODIFIED:20251123T140324Z
UID:10005522-1837587600-1837605600@av8maps.com
SUMMARY:LBX Annual Fly-in (KLBX)
DESCRIPTION:Join us from 9 AM to 2 PM for an exciting day filled with planes\, fun\, and amazing giveaways!
URL:https://av8maps.com/event/lbx-annual-fly-in-klbx/2028-03-25/
LOCATION:Texas Gulf Coast Regional Airport\, 8000 Airport Wy\, Angleton\, TX\, 77515
ATTACH;FMTTYPE=image/jpeg:https://av8maps.com/wp-content/uploads/2025/11/LBX-fly-in-e1763906598503.jpg
GEO:29.1109517;-95.4590728
X-APPLE-STRUCTURED-LOCATION;VALUE=URI;X-ADDRESS=Texas Gulf Coast Regional Airport 8000 Airport Wy Angleton TX 77515;X-APPLE-RADIUS=500;X-TITLE=8000 Airport Wy:geo:-95.4590728,29.1109517
END:VEVENT
BEGIN:VEVENT
DTSTART;TZID=America/New_York:20290324T090000
DTEND;TZID=America/New_York:20290324T140000
DTSTAMP:20260423T062529
CREATED:20251123T140324Z
LAST-MODIFIED:20251123T140324Z
UID:10005523-1869037200-1869055200@av8maps.com
SUMMARY:LBX Annual Fly-in (KLBX)
DESCRIPTION:Join us from 9 AM to 2 PM for an exciting day filled with planes\, fun\, and amazing giveaways!
URL:https://av8maps.com/event/lbx-annual-fly-in-klbx/2029-03-24/
LOCATION:Texas Gulf Coast Regional Airport\, 8000 Airport Wy\, Angleton\, TX\, 77515
ATTACH;FMTTYPE=image/jpeg:https://av8maps.com/wp-content/uploads/2025/11/LBX-fly-in-e1763906598503.jpg
GEO:29.1109517;-95.4590728
X-APPLE-STRUCTURED-LOCATION;VALUE=URI;X-ADDRESS=Texas Gulf Coast Regional Airport 8000 Airport Wy Angleton TX 77515;X-APPLE-RADIUS=500;X-TITLE=8000 Airport Wy:geo:-95.4590728,29.1109517
END:VEVENT
BEGIN:VEVENT
DTSTART;TZID=America/New_York:20300323T090000
DTEND;TZID=America/New_York:20300323T140000
DTSTAMP:20260423T062529
CREATED:20251123T140324Z
LAST-MODIFIED:20251123T140324Z
UID:10005524-1900486800-1900504800@av8maps.com
SUMMARY:LBX Annual Fly-in (KLBX)
DESCRIPTION:Join us from 9 AM to 2 PM for an exciting day filled with planes\, fun\, and amazing giveaways!
URL:https://av8maps.com/event/lbx-annual-fly-in-klbx/2030-03-23/
LOCATION:Texas Gulf Coast Regional Airport\, 8000 Airport Wy\, Angleton\, TX\, 77515
ATTACH;FMTTYPE=image/jpeg:https://av8maps.com/wp-content/uploads/2025/11/LBX-fly-in-e1763906598503.jpg
GEO:29.1109517;-95.4590728
X-APPLE-STRUCTURED-LOCATION;VALUE=URI;X-ADDRESS=Texas Gulf Coast Regional Airport 8000 Airport Wy Angleton TX 77515;X-APPLE-RADIUS=500;X-TITLE=8000 Airport Wy:geo:-95.4590728,29.1109517
END:VEVENT
END:VCALENDAR