BEGIN:VCALENDAR
VERSION:2.0
PRODID:-//AV8MAPS.COM - ECPv6.15.20//NONSGML v1.0//EN
CALSCALE:GREGORIAN
METHOD:PUBLISH
X-WR-CALNAME:AV8MAPS.COM
X-ORIGINAL-URL:https://av8maps.com
X-WR-CALDESC:Events for AV8MAPS.COM
REFRESH-INTERVAL;VALUE=DURATION:PT1H
X-Robots-Tag:noindex
X-PUBLISHED-TTL:PT1H
BEGIN:VTIMEZONE
TZID:America/New_York
BEGIN:DAYLIGHT
TZOFFSETFROM:-0500
TZOFFSETTO:-0400
TZNAME:EDT
DTSTART:20250309T070000
END:DAYLIGHT
BEGIN:STANDARD
TZOFFSETFROM:-0400
TZOFFSETTO:-0500
TZNAME:EST
DTSTART:20251102T060000
END:STANDARD
BEGIN:DAYLIGHT
TZOFFSETFROM:-0500
TZOFFSETTO:-0400
TZNAME:EDT
DTSTART:20260308T070000
END:DAYLIGHT
BEGIN:STANDARD
TZOFFSETFROM:-0400
TZOFFSETTO:-0500
TZNAME:EST
DTSTART:20261101T060000
END:STANDARD
BEGIN:DAYLIGHT
TZOFFSETFROM:-0500
TZOFFSETTO:-0400
TZNAME:EDT
DTSTART:20270314T070000
END:DAYLIGHT
BEGIN:STANDARD
TZOFFSETFROM:-0400
TZOFFSETTO:-0500
TZNAME:EST
DTSTART:20271107T060000
END:STANDARD
BEGIN:DAYLIGHT
TZOFFSETFROM:-0500
TZOFFSETTO:-0400
TZNAME:EDT
DTSTART:20280312T070000
END:DAYLIGHT
BEGIN:STANDARD
TZOFFSETFROM:-0400
TZOFFSETTO:-0500
TZNAME:EST
DTSTART:20281105T060000
END:STANDARD
BEGIN:DAYLIGHT
TZOFFSETFROM:-0500
TZOFFSETTO:-0400
TZNAME:EDT
DTSTART:20290311T070000
END:DAYLIGHT
BEGIN:STANDARD
TZOFFSETFROM:-0400
TZOFFSETTO:-0500
TZNAME:EST
DTSTART:20291104T060000
END:STANDARD
BEGIN:DAYLIGHT
TZOFFSETFROM:-0500
TZOFFSETTO:-0400
TZNAME:EDT
DTSTART:20300310T070000
END:DAYLIGHT
BEGIN:STANDARD
TZOFFSETFROM:-0400
TZOFFSETTO:-0500
TZNAME:EST
DTSTART:20301103T060000
END:STANDARD
BEGIN:DAYLIGHT
TZOFFSETFROM:-0500
TZOFFSETTO:-0400
TZNAME:EDT
DTSTART:20310309T070000
END:DAYLIGHT
BEGIN:STANDARD
TZOFFSETFROM:-0400
TZOFFSETTO:-0500
TZNAME:EST
DTSTART:20311102T060000
END:STANDARD
END:VTIMEZONE
BEGIN:VEVENT
DTSTART;TZID=America/New_York:20261107T090000
DTEND;TZID=America/New_York:20261107T160000
DTSTAMP:20260423T223137
CREATED:20250815T142211Z
LAST-MODIFIED:20251126T194142Z
UID:10005526-1794042000-1794067200@av8maps.com
SUMMARY:Annual Wings and Wheels Fall Fly-in (85TE)
DESCRIPTION:Mark your calendars for November the 8th fun filled day come on out and play with us.
URL:https://av8maps.com/event/wings-and-wheels-fly-in-85te/2026-11-07/
LOCATION:Old Kingsbury Aerodrome\, 170 Pershing Ln\, Kingsbury\, TX 78638
ATTACH;FMTTYPE=image/jpeg:https://av8maps.com/wp-content/uploads/2025/08/Wings-and-Wheels-85TE-e1755267704997.jpg
GEO:29.6350172;-97.8121945
X-APPLE-STRUCTURED-LOCATION;VALUE=URI;X-ADDRESS=Old Kingsbury Aerodrome 170 Pershing Ln Kingsbury TX 78638;X-APPLE-RADIUS=500;X-TITLE=170 Pershing Ln\, Kingsbury\, TX 78638:geo:-97.8121945,29.6350172
END:VEVENT
BEGIN:VEVENT
DTSTART;TZID=America/New_York:20271106T090000
DTEND;TZID=America/New_York:20271106T160000
DTSTAMP:20260423T223137
CREATED:20250815T142211Z
LAST-MODIFIED:20251126T194142Z
UID:10005527-1825491600-1825516800@av8maps.com
SUMMARY:Annual Wings and Wheels Fall Fly-in (85TE)
DESCRIPTION:Mark your calendars for November the 8th fun filled day come on out and play with us.
URL:https://av8maps.com/event/wings-and-wheels-fly-in-85te/2027-11-06/
LOCATION:Old Kingsbury Aerodrome\, 170 Pershing Ln\, Kingsbury\, TX 78638
ATTACH;FMTTYPE=image/jpeg:https://av8maps.com/wp-content/uploads/2025/08/Wings-and-Wheels-85TE-e1755267704997.jpg
GEO:29.6350172;-97.8121945
X-APPLE-STRUCTURED-LOCATION;VALUE=URI;X-ADDRESS=Old Kingsbury Aerodrome 170 Pershing Ln Kingsbury TX 78638;X-APPLE-RADIUS=500;X-TITLE=170 Pershing Ln\, Kingsbury\, TX 78638:geo:-97.8121945,29.6350172
END:VEVENT
BEGIN:VEVENT
DTSTART;TZID=America/New_York:20281104T090000
DTEND;TZID=America/New_York:20281104T160000
DTSTAMP:20260423T223137
CREATED:20250815T142211Z
LAST-MODIFIED:20251126T194142Z
UID:10005528-1856941200-1856966400@av8maps.com
SUMMARY:Annual Wings and Wheels Fall Fly-in (85TE)
DESCRIPTION:Mark your calendars for November the 8th fun filled day come on out and play with us.
URL:https://av8maps.com/event/wings-and-wheels-fly-in-85te/2028-11-04/
LOCATION:Old Kingsbury Aerodrome\, 170 Pershing Ln\, Kingsbury\, TX 78638
ATTACH;FMTTYPE=image/jpeg:https://av8maps.com/wp-content/uploads/2025/08/Wings-and-Wheels-85TE-e1755267704997.jpg
GEO:29.6350172;-97.8121945
X-APPLE-STRUCTURED-LOCATION;VALUE=URI;X-ADDRESS=Old Kingsbury Aerodrome 170 Pershing Ln Kingsbury TX 78638;X-APPLE-RADIUS=500;X-TITLE=170 Pershing Ln\, Kingsbury\, TX 78638:geo:-97.8121945,29.6350172
END:VEVENT
BEGIN:VEVENT
DTSTART;TZID=America/New_York:20291103T090000
DTEND;TZID=America/New_York:20291103T160000
DTSTAMP:20260423T223137
CREATED:20250815T142211Z
LAST-MODIFIED:20251126T194142Z
UID:10005529-1888390800-1888416000@av8maps.com
SUMMARY:Annual Wings and Wheels Fall Fly-in (85TE)
DESCRIPTION:Mark your calendars for November the 8th fun filled day come on out and play with us.
URL:https://av8maps.com/event/wings-and-wheels-fly-in-85te/2029-11-03/
LOCATION:Old Kingsbury Aerodrome\, 170 Pershing Ln\, Kingsbury\, TX 78638
ATTACH;FMTTYPE=image/jpeg:https://av8maps.com/wp-content/uploads/2025/08/Wings-and-Wheels-85TE-e1755267704997.jpg
GEO:29.6350172;-97.8121945
X-APPLE-STRUCTURED-LOCATION;VALUE=URI;X-ADDRESS=Old Kingsbury Aerodrome 170 Pershing Ln Kingsbury TX 78638;X-APPLE-RADIUS=500;X-TITLE=170 Pershing Ln\, Kingsbury\, TX 78638:geo:-97.8121945,29.6350172
END:VEVENT
BEGIN:VEVENT
DTSTART;TZID=America/New_York:20301102T090000
DTEND;TZID=America/New_York:20301102T160000
DTSTAMP:20260423T223137
CREATED:20250815T142211Z
LAST-MODIFIED:20251126T194142Z
UID:10005530-1919840400-1919865600@av8maps.com
SUMMARY:Annual Wings and Wheels Fall Fly-in (85TE)
DESCRIPTION:Mark your calendars for November the 8th fun filled day come on out and play with us.
URL:https://av8maps.com/event/wings-and-wheels-fly-in-85te/2030-11-02/
LOCATION:Old Kingsbury Aerodrome\, 170 Pershing Ln\, Kingsbury\, TX 78638
ATTACH;FMTTYPE=image/jpeg:https://av8maps.com/wp-content/uploads/2025/08/Wings-and-Wheels-85TE-e1755267704997.jpg
GEO:29.6350172;-97.8121945
X-APPLE-STRUCTURED-LOCATION;VALUE=URI;X-ADDRESS=Old Kingsbury Aerodrome 170 Pershing Ln Kingsbury TX 78638;X-APPLE-RADIUS=500;X-TITLE=170 Pershing Ln\, Kingsbury\, TX 78638:geo:-97.8121945,29.6350172
END:VEVENT
END:VCALENDAR