BEGIN:VCALENDAR
VERSION:2.0
PRODID:-//AV8MAPS.COM - ECPv6.15.20//NONSGML v1.0//EN
CALSCALE:GREGORIAN
METHOD:PUBLISH
X-WR-CALNAME:AV8MAPS.COM
X-ORIGINAL-URL:https://av8maps.com
X-WR-CALDESC:Events for AV8MAPS.COM
REFRESH-INTERVAL;VALUE=DURATION:PT1H
X-Robots-Tag:noindex
X-PUBLISHED-TTL:PT1H
BEGIN:VTIMEZONE
TZID:America/New_York
BEGIN:DAYLIGHT
TZOFFSETFROM:-0500
TZOFFSETTO:-0400
TZNAME:EDT
DTSTART:20250309T070000
END:DAYLIGHT
BEGIN:STANDARD
TZOFFSETFROM:-0400
TZOFFSETTO:-0500
TZNAME:EST
DTSTART:20251102T060000
END:STANDARD
BEGIN:DAYLIGHT
TZOFFSETFROM:-0500
TZOFFSETTO:-0400
TZNAME:EDT
DTSTART:20260308T070000
END:DAYLIGHT
BEGIN:STANDARD
TZOFFSETFROM:-0400
TZOFFSETTO:-0500
TZNAME:EST
DTSTART:20261101T060000
END:STANDARD
BEGIN:DAYLIGHT
TZOFFSETFROM:-0500
TZOFFSETTO:-0400
TZNAME:EDT
DTSTART:20270314T070000
END:DAYLIGHT
BEGIN:STANDARD
TZOFFSETFROM:-0400
TZOFFSETTO:-0500
TZNAME:EST
DTSTART:20271107T060000
END:STANDARD
BEGIN:DAYLIGHT
TZOFFSETFROM:-0500
TZOFFSETTO:-0400
TZNAME:EDT
DTSTART:20280312T070000
END:DAYLIGHT
BEGIN:STANDARD
TZOFFSETFROM:-0400
TZOFFSETTO:-0500
TZNAME:EST
DTSTART:20281105T060000
END:STANDARD
BEGIN:DAYLIGHT
TZOFFSETFROM:-0500
TZOFFSETTO:-0400
TZNAME:EDT
DTSTART:20290311T070000
END:DAYLIGHT
BEGIN:STANDARD
TZOFFSETFROM:-0400
TZOFFSETTO:-0500
TZNAME:EST
DTSTART:20291104T060000
END:STANDARD
BEGIN:DAYLIGHT
TZOFFSETFROM:-0500
TZOFFSETTO:-0400
TZNAME:EDT
DTSTART:20300310T070000
END:DAYLIGHT
BEGIN:STANDARD
TZOFFSETFROM:-0400
TZOFFSETTO:-0500
TZNAME:EST
DTSTART:20301103T060000
END:STANDARD
BEGIN:DAYLIGHT
TZOFFSETFROM:-0500
TZOFFSETTO:-0400
TZNAME:EDT
DTSTART:20310309T070000
END:DAYLIGHT
BEGIN:STANDARD
TZOFFSETFROM:-0400
TZOFFSETTO:-0500
TZNAME:EST
DTSTART:20311102T060000
END:STANDARD
END:VTIMEZONE
BEGIN:VEVENT
DTSTART;TZID=America/New_York:20261024T110000
DTEND;TZID=America/New_York:20261024T150000
DTSTAMP:20260423T015132
CREATED:20250926T220234Z
LAST-MODIFIED:20251201T150156Z
UID:10005557-1792839600-1792854000@av8maps.com
SUMMARY:Oktoberfest at Appleton Flight Center (KATW)
DESCRIPTION:Oktoberfest at Appleton Flight Center! \n October 25th | 11 AM – 3 PM\n Appleton Flight Center – Fly in or drive in!\nN259 Ares Drive\, Appleton\n\n\nJoin us for a day of fall fun\, food\, and fundraising at our family-friendly Oktoberfest celebration!\n What to Expect:\n Touch-a-Truck – For kids (and kids at heart!)\n Live Polka Band – Don’t forget your dancing shoes!\n Beer Garden – Prost to a great cause!\n Brats\, Hot Dogs & German Eats – From local favorites\n Fly-In or Drive-In – Everyone’s welcome!\n\n\n Admission is FREE\n Food & beverages available for purchase\n A portion of proceeds benefit Old Glory Honor Flight\, helping local veterans take an unforgettable trip to Washington\, D.C.\n RSVP\, spread the word\, and we’ll see you there! \njoin the FB Event here for reminders/updates: https://www.facebook.com/share/1JLUrMy6Ri/
URL:https://av8maps.com/event/oktoberfest-at-appleton-flight-center-katw/2026-10-24/
LOCATION:Appleton Flight Center\, N259 Ares Dr\, Appleton\, WI 54914
ATTACH;FMTTYPE=image/jpeg:https://av8maps.com/wp-content/uploads/2025/09/Appleton-Flight-Center-Octoberfest-e1758924146937.jpg
GEO:44.2491913;-88.5194348
X-APPLE-STRUCTURED-LOCATION;VALUE=URI;X-ADDRESS=Appleton Flight Center N259 Ares Dr Appleton WI 54914;X-APPLE-RADIUS=500;X-TITLE=N259 Ares Dr\, Appleton\, WI 54914:geo:-88.5194348,44.2491913
END:VEVENT
BEGIN:VEVENT
DTSTART;TZID=America/New_York:20271023T110000
DTEND;TZID=America/New_York:20271023T150000
DTSTAMP:20260423T015132
CREATED:20250926T220234Z
LAST-MODIFIED:20251201T150156Z
UID:10005558-1824289200-1824303600@av8maps.com
SUMMARY:Oktoberfest at Appleton Flight Center (KATW)
DESCRIPTION:Oktoberfest at Appleton Flight Center! \n October 25th | 11 AM – 3 PM\n Appleton Flight Center – Fly in or drive in!\nN259 Ares Drive\, Appleton\n\n\nJoin us for a day of fall fun\, food\, and fundraising at our family-friendly Oktoberfest celebration!\n What to Expect:\n Touch-a-Truck – For kids (and kids at heart!)\n Live Polka Band – Don’t forget your dancing shoes!\n Beer Garden – Prost to a great cause!\n Brats\, Hot Dogs & German Eats – From local favorites\n Fly-In or Drive-In – Everyone’s welcome!\n\n\n Admission is FREE\n Food & beverages available for purchase\n A portion of proceeds benefit Old Glory Honor Flight\, helping local veterans take an unforgettable trip to Washington\, D.C.\n RSVP\, spread the word\, and we’ll see you there! \njoin the FB Event here for reminders/updates: https://www.facebook.com/share/1JLUrMy6Ri/
URL:https://av8maps.com/event/oktoberfest-at-appleton-flight-center-katw/2027-10-23/
LOCATION:Appleton Flight Center\, N259 Ares Dr\, Appleton\, WI 54914
ATTACH;FMTTYPE=image/jpeg:https://av8maps.com/wp-content/uploads/2025/09/Appleton-Flight-Center-Octoberfest-e1758924146937.jpg
GEO:44.2491913;-88.5194348
X-APPLE-STRUCTURED-LOCATION;VALUE=URI;X-ADDRESS=Appleton Flight Center N259 Ares Dr Appleton WI 54914;X-APPLE-RADIUS=500;X-TITLE=N259 Ares Dr\, Appleton\, WI 54914:geo:-88.5194348,44.2491913
END:VEVENT
BEGIN:VEVENT
DTSTART;TZID=America/New_York:20281028T110000
DTEND;TZID=America/New_York:20281028T150000
DTSTAMP:20260423T015132
CREATED:20250926T220234Z
LAST-MODIFIED:20251201T150156Z
UID:10005559-1856343600-1856358000@av8maps.com
SUMMARY:Oktoberfest at Appleton Flight Center (KATW)
DESCRIPTION:Oktoberfest at Appleton Flight Center! \n October 25th | 11 AM – 3 PM\n Appleton Flight Center – Fly in or drive in!\nN259 Ares Drive\, Appleton\n\n\nJoin us for a day of fall fun\, food\, and fundraising at our family-friendly Oktoberfest celebration!\n What to Expect:\n Touch-a-Truck – For kids (and kids at heart!)\n Live Polka Band – Don’t forget your dancing shoes!\n Beer Garden – Prost to a great cause!\n Brats\, Hot Dogs & German Eats – From local favorites\n Fly-In or Drive-In – Everyone’s welcome!\n\n\n Admission is FREE\n Food & beverages available for purchase\n A portion of proceeds benefit Old Glory Honor Flight\, helping local veterans take an unforgettable trip to Washington\, D.C.\n RSVP\, spread the word\, and we’ll see you there! \njoin the FB Event here for reminders/updates: https://www.facebook.com/share/1JLUrMy6Ri/
URL:https://av8maps.com/event/oktoberfest-at-appleton-flight-center-katw/2028-10-28/
LOCATION:Appleton Flight Center\, N259 Ares Dr\, Appleton\, WI 54914
ATTACH;FMTTYPE=image/jpeg:https://av8maps.com/wp-content/uploads/2025/09/Appleton-Flight-Center-Octoberfest-e1758924146937.jpg
GEO:44.2491913;-88.5194348
X-APPLE-STRUCTURED-LOCATION;VALUE=URI;X-ADDRESS=Appleton Flight Center N259 Ares Dr Appleton WI 54914;X-APPLE-RADIUS=500;X-TITLE=N259 Ares Dr\, Appleton\, WI 54914:geo:-88.5194348,44.2491913
END:VEVENT
BEGIN:VEVENT
DTSTART;TZID=America/New_York:20291027T110000
DTEND;TZID=America/New_York:20291027T150000
DTSTAMP:20260423T015132
CREATED:20250926T220234Z
LAST-MODIFIED:20251201T150156Z
UID:10005560-1887793200-1887807600@av8maps.com
SUMMARY:Oktoberfest at Appleton Flight Center (KATW)
DESCRIPTION:Oktoberfest at Appleton Flight Center! \n October 25th | 11 AM – 3 PM\n Appleton Flight Center – Fly in or drive in!\nN259 Ares Drive\, Appleton\n\n\nJoin us for a day of fall fun\, food\, and fundraising at our family-friendly Oktoberfest celebration!\n What to Expect:\n Touch-a-Truck – For kids (and kids at heart!)\n Live Polka Band – Don’t forget your dancing shoes!\n Beer Garden – Prost to a great cause!\n Brats\, Hot Dogs & German Eats – From local favorites\n Fly-In or Drive-In – Everyone’s welcome!\n\n\n Admission is FREE\n Food & beverages available for purchase\n A portion of proceeds benefit Old Glory Honor Flight\, helping local veterans take an unforgettable trip to Washington\, D.C.\n RSVP\, spread the word\, and we’ll see you there! \njoin the FB Event here for reminders/updates: https://www.facebook.com/share/1JLUrMy6Ri/
URL:https://av8maps.com/event/oktoberfest-at-appleton-flight-center-katw/2029-10-27/
LOCATION:Appleton Flight Center\, N259 Ares Dr\, Appleton\, WI 54914
ATTACH;FMTTYPE=image/jpeg:https://av8maps.com/wp-content/uploads/2025/09/Appleton-Flight-Center-Octoberfest-e1758924146937.jpg
GEO:44.2491913;-88.5194348
X-APPLE-STRUCTURED-LOCATION;VALUE=URI;X-ADDRESS=Appleton Flight Center N259 Ares Dr Appleton WI 54914;X-APPLE-RADIUS=500;X-TITLE=N259 Ares Dr\, Appleton\, WI 54914:geo:-88.5194348,44.2491913
END:VEVENT
BEGIN:VEVENT
DTSTART;TZID=America/New_York:20301026T110000
DTEND;TZID=America/New_York:20301026T150000
DTSTAMP:20260423T015132
CREATED:20250926T220234Z
LAST-MODIFIED:20251201T150156Z
UID:10005561-1919242800-1919257200@av8maps.com
SUMMARY:Oktoberfest at Appleton Flight Center (KATW)
DESCRIPTION:Oktoberfest at Appleton Flight Center! \n October 25th | 11 AM – 3 PM\n Appleton Flight Center – Fly in or drive in!\nN259 Ares Drive\, Appleton\n\n\nJoin us for a day of fall fun\, food\, and fundraising at our family-friendly Oktoberfest celebration!\n What to Expect:\n Touch-a-Truck – For kids (and kids at heart!)\n Live Polka Band – Don’t forget your dancing shoes!\n Beer Garden – Prost to a great cause!\n Brats\, Hot Dogs & German Eats – From local favorites\n Fly-In or Drive-In – Everyone’s welcome!\n\n\n Admission is FREE\n Food & beverages available for purchase\n A portion of proceeds benefit Old Glory Honor Flight\, helping local veterans take an unforgettable trip to Washington\, D.C.\n RSVP\, spread the word\, and we’ll see you there! \njoin the FB Event here for reminders/updates: https://www.facebook.com/share/1JLUrMy6Ri/
URL:https://av8maps.com/event/oktoberfest-at-appleton-flight-center-katw/2030-10-26/
LOCATION:Appleton Flight Center\, N259 Ares Dr\, Appleton\, WI 54914
ATTACH;FMTTYPE=image/jpeg:https://av8maps.com/wp-content/uploads/2025/09/Appleton-Flight-Center-Octoberfest-e1758924146937.jpg
GEO:44.2491913;-88.5194348
X-APPLE-STRUCTURED-LOCATION;VALUE=URI;X-ADDRESS=Appleton Flight Center N259 Ares Dr Appleton WI 54914;X-APPLE-RADIUS=500;X-TITLE=N259 Ares Dr\, Appleton\, WI 54914:geo:-88.5194348,44.2491913
END:VEVENT
END:VCALENDAR