BEGIN:VCALENDAR
VERSION:2.0
PRODID:-//AV8MAPS.COM - ECPv6.15.20//NONSGML v1.0//EN
CALSCALE:GREGORIAN
METHOD:PUBLISH
X-WR-CALNAME:AV8MAPS.COM
X-ORIGINAL-URL:https://av8maps.com
X-WR-CALDESC:Events for AV8MAPS.COM
REFRESH-INTERVAL;VALUE=DURATION:PT1H
X-Robots-Tag:noindex
X-PUBLISHED-TTL:PT1H
BEGIN:VTIMEZONE
TZID:America/New_York
BEGIN:DAYLIGHT
TZOFFSETFROM:-0500
TZOFFSETTO:-0400
TZNAME:EDT
DTSTART:20250309T070000
END:DAYLIGHT
BEGIN:STANDARD
TZOFFSETFROM:-0400
TZOFFSETTO:-0500
TZNAME:EST
DTSTART:20251102T060000
END:STANDARD
BEGIN:DAYLIGHT
TZOFFSETFROM:-0500
TZOFFSETTO:-0400
TZNAME:EDT
DTSTART:20260308T070000
END:DAYLIGHT
BEGIN:STANDARD
TZOFFSETFROM:-0400
TZOFFSETTO:-0500
TZNAME:EST
DTSTART:20261101T060000
END:STANDARD
BEGIN:DAYLIGHT
TZOFFSETFROM:-0500
TZOFFSETTO:-0400
TZNAME:EDT
DTSTART:20270314T070000
END:DAYLIGHT
BEGIN:STANDARD
TZOFFSETFROM:-0400
TZOFFSETTO:-0500
TZNAME:EST
DTSTART:20271107T060000
END:STANDARD
BEGIN:DAYLIGHT
TZOFFSETFROM:-0500
TZOFFSETTO:-0400
TZNAME:EDT
DTSTART:20280312T070000
END:DAYLIGHT
BEGIN:STANDARD
TZOFFSETFROM:-0400
TZOFFSETTO:-0500
TZNAME:EST
DTSTART:20281105T060000
END:STANDARD
BEGIN:DAYLIGHT
TZOFFSETFROM:-0500
TZOFFSETTO:-0400
TZNAME:EDT
DTSTART:20290311T070000
END:DAYLIGHT
BEGIN:STANDARD
TZOFFSETFROM:-0400
TZOFFSETTO:-0500
TZNAME:EST
DTSTART:20291104T060000
END:STANDARD
BEGIN:DAYLIGHT
TZOFFSETFROM:-0500
TZOFFSETTO:-0400
TZNAME:EDT
DTSTART:20300310T070000
END:DAYLIGHT
BEGIN:STANDARD
TZOFFSETFROM:-0400
TZOFFSETTO:-0500
TZNAME:EST
DTSTART:20301103T060000
END:STANDARD
BEGIN:DAYLIGHT
TZOFFSETFROM:-0500
TZOFFSETTO:-0400
TZNAME:EDT
DTSTART:20310309T070000
END:DAYLIGHT
BEGIN:STANDARD
TZOFFSETFROM:-0400
TZOFFSETTO:-0500
TZNAME:EST
DTSTART:20311102T060000
END:STANDARD
END:VTIMEZONE
BEGIN:VEVENT
DTSTART;TZID=America/New_York:20261017T000000
DTEND;TZID=America/New_York:20261017T235959
DTSTAMP:20260423T035131
CREATED:20250926T225734Z
LAST-MODIFIED:20251201T151223Z
UID:10005567-1792195200-1792281599@av8maps.com
SUMMARY:Under the Stars Fly-in and Camp out (iA27)
DESCRIPTION:Mark your calendars.\nPlease RSVP if you can attend.
URL:https://av8maps.com/event/under-the-stars-fly-in-and-camp-out-ia27/2026-10-17/
LOCATION:Antique Airfield\, 22001 Bluegrass Rd\, Ottumwa\, IA 52501
ATTACH;FMTTYPE=image/jpeg:https://av8maps.com/wp-content/uploads/2025/09/Antique-Airfield-Fly-in-Camp-out-IA27-e1758927445926.jpg
GEO:40.9785295;-92.5863317
X-APPLE-STRUCTURED-LOCATION;VALUE=URI;X-ADDRESS=Antique Airfield 22001 Bluegrass Rd Ottumwa IA 52501;X-APPLE-RADIUS=500;X-TITLE=22001 Bluegrass Rd\, Ottumwa\, IA 52501:geo:-92.5863317,40.9785295
END:VEVENT
BEGIN:VEVENT
DTSTART;TZID=America/New_York:20271016T000000
DTEND;TZID=America/New_York:20271016T235959
DTSTAMP:20260423T035131
CREATED:20250926T225734Z
LAST-MODIFIED:20251201T151223Z
UID:10005568-1823644800-1823731199@av8maps.com
SUMMARY:Under the Stars Fly-in and Camp out (iA27)
DESCRIPTION:Mark your calendars.\nPlease RSVP if you can attend.
URL:https://av8maps.com/event/under-the-stars-fly-in-and-camp-out-ia27/2027-10-16/
LOCATION:Antique Airfield\, 22001 Bluegrass Rd\, Ottumwa\, IA 52501
ATTACH;FMTTYPE=image/jpeg:https://av8maps.com/wp-content/uploads/2025/09/Antique-Airfield-Fly-in-Camp-out-IA27-e1758927445926.jpg
GEO:40.9785295;-92.5863317
X-APPLE-STRUCTURED-LOCATION;VALUE=URI;X-ADDRESS=Antique Airfield 22001 Bluegrass Rd Ottumwa IA 52501;X-APPLE-RADIUS=500;X-TITLE=22001 Bluegrass Rd\, Ottumwa\, IA 52501:geo:-92.5863317,40.9785295
END:VEVENT
BEGIN:VEVENT
DTSTART;TZID=America/New_York:20281021T000000
DTEND;TZID=America/New_York:20281021T235959
DTSTAMP:20260423T035131
CREATED:20250926T225734Z
LAST-MODIFIED:20251201T151223Z
UID:10005569-1855699200-1855785599@av8maps.com
SUMMARY:Under the Stars Fly-in and Camp out (iA27)
DESCRIPTION:Mark your calendars.\nPlease RSVP if you can attend.
URL:https://av8maps.com/event/under-the-stars-fly-in-and-camp-out-ia27/2028-10-21/
LOCATION:Antique Airfield\, 22001 Bluegrass Rd\, Ottumwa\, IA 52501
ATTACH;FMTTYPE=image/jpeg:https://av8maps.com/wp-content/uploads/2025/09/Antique-Airfield-Fly-in-Camp-out-IA27-e1758927445926.jpg
GEO:40.9785295;-92.5863317
X-APPLE-STRUCTURED-LOCATION;VALUE=URI;X-ADDRESS=Antique Airfield 22001 Bluegrass Rd Ottumwa IA 52501;X-APPLE-RADIUS=500;X-TITLE=22001 Bluegrass Rd\, Ottumwa\, IA 52501:geo:-92.5863317,40.9785295
END:VEVENT
BEGIN:VEVENT
DTSTART;TZID=America/New_York:20291020T000000
DTEND;TZID=America/New_York:20291020T235959
DTSTAMP:20260423T035131
CREATED:20250926T225734Z
LAST-MODIFIED:20251201T151223Z
UID:10005570-1887148800-1887235199@av8maps.com
SUMMARY:Under the Stars Fly-in and Camp out (iA27)
DESCRIPTION:Mark your calendars.\nPlease RSVP if you can attend.
URL:https://av8maps.com/event/under-the-stars-fly-in-and-camp-out-ia27/2029-10-20/
LOCATION:Antique Airfield\, 22001 Bluegrass Rd\, Ottumwa\, IA 52501
ATTACH;FMTTYPE=image/jpeg:https://av8maps.com/wp-content/uploads/2025/09/Antique-Airfield-Fly-in-Camp-out-IA27-e1758927445926.jpg
GEO:40.9785295;-92.5863317
X-APPLE-STRUCTURED-LOCATION;VALUE=URI;X-ADDRESS=Antique Airfield 22001 Bluegrass Rd Ottumwa IA 52501;X-APPLE-RADIUS=500;X-TITLE=22001 Bluegrass Rd\, Ottumwa\, IA 52501:geo:-92.5863317,40.9785295
END:VEVENT
BEGIN:VEVENT
DTSTART;TZID=America/New_York:20301019T000000
DTEND;TZID=America/New_York:20301019T235959
DTSTAMP:20260423T035131
CREATED:20250926T225734Z
LAST-MODIFIED:20251201T151223Z
UID:10005571-1918598400-1918684799@av8maps.com
SUMMARY:Under the Stars Fly-in and Camp out (iA27)
DESCRIPTION:Mark your calendars.\nPlease RSVP if you can attend.
URL:https://av8maps.com/event/under-the-stars-fly-in-and-camp-out-ia27/2030-10-19/
LOCATION:Antique Airfield\, 22001 Bluegrass Rd\, Ottumwa\, IA 52501
ATTACH;FMTTYPE=image/jpeg:https://av8maps.com/wp-content/uploads/2025/09/Antique-Airfield-Fly-in-Camp-out-IA27-e1758927445926.jpg
GEO:40.9785295;-92.5863317
X-APPLE-STRUCTURED-LOCATION;VALUE=URI;X-ADDRESS=Antique Airfield 22001 Bluegrass Rd Ottumwa IA 52501;X-APPLE-RADIUS=500;X-TITLE=22001 Bluegrass Rd\, Ottumwa\, IA 52501:geo:-92.5863317,40.9785295
END:VEVENT
END:VCALENDAR