BEGIN:VCALENDAR
VERSION:2.0
PRODID:-//AV8MAPS.COM - ECPv6.15.20//NONSGML v1.0//EN
CALSCALE:GREGORIAN
METHOD:PUBLISH
X-WR-CALNAME:AV8MAPS.COM
X-ORIGINAL-URL:https://av8maps.com
X-WR-CALDESC:Events for AV8MAPS.COM
REFRESH-INTERVAL;VALUE=DURATION:PT1H
X-Robots-Tag:noindex
X-PUBLISHED-TTL:PT1H
BEGIN:VTIMEZONE
TZID:America/New_York
BEGIN:DAYLIGHT
TZOFFSETFROM:-0500
TZOFFSETTO:-0400
TZNAME:EDT
DTSTART:20250309T070000
END:DAYLIGHT
BEGIN:STANDARD
TZOFFSETFROM:-0400
TZOFFSETTO:-0500
TZNAME:EST
DTSTART:20251102T060000
END:STANDARD
BEGIN:DAYLIGHT
TZOFFSETFROM:-0500
TZOFFSETTO:-0400
TZNAME:EDT
DTSTART:20260308T070000
END:DAYLIGHT
BEGIN:STANDARD
TZOFFSETFROM:-0400
TZOFFSETTO:-0500
TZNAME:EST
DTSTART:20261101T060000
END:STANDARD
BEGIN:DAYLIGHT
TZOFFSETFROM:-0500
TZOFFSETTO:-0400
TZNAME:EDT
DTSTART:20270314T070000
END:DAYLIGHT
BEGIN:STANDARD
TZOFFSETFROM:-0400
TZOFFSETTO:-0500
TZNAME:EST
DTSTART:20271107T060000
END:STANDARD
BEGIN:DAYLIGHT
TZOFFSETFROM:-0500
TZOFFSETTO:-0400
TZNAME:EDT
DTSTART:20280312T070000
END:DAYLIGHT
BEGIN:STANDARD
TZOFFSETFROM:-0400
TZOFFSETTO:-0500
TZNAME:EST
DTSTART:20281105T060000
END:STANDARD
BEGIN:DAYLIGHT
TZOFFSETFROM:-0500
TZOFFSETTO:-0400
TZNAME:EDT
DTSTART:20290311T070000
END:DAYLIGHT
BEGIN:STANDARD
TZOFFSETFROM:-0400
TZOFFSETTO:-0500
TZNAME:EST
DTSTART:20291104T060000
END:STANDARD
BEGIN:DAYLIGHT
TZOFFSETFROM:-0500
TZOFFSETTO:-0400
TZNAME:EDT
DTSTART:20300310T070000
END:DAYLIGHT
BEGIN:STANDARD
TZOFFSETFROM:-0400
TZOFFSETTO:-0500
TZNAME:EST
DTSTART:20301103T060000
END:STANDARD
BEGIN:DAYLIGHT
TZOFFSETFROM:-0500
TZOFFSETTO:-0400
TZNAME:EDT
DTSTART:20310309T070000
END:DAYLIGHT
BEGIN:STANDARD
TZOFFSETFROM:-0400
TZOFFSETTO:-0500
TZNAME:EST
DTSTART:20311102T060000
END:STANDARD
END:VTIMEZONE
BEGIN:VEVENT
DTSTART;TZID=America/New_York:20261003T080000
DTEND;TZID=America/New_York:20261003T170000
DTSTAMP:20260423T075411
CREATED:20251216T120816Z
LAST-MODIFIED:20251216T120817Z
UID:10000412-1791014400-1791046800@av8maps.com
SUMMARY:Wings and Wheels Fly-in and Drive-in (KSPI)
DESCRIPTION:Come out to the Abraham Lincoln\, Capitol Airport for a fun filled day with the family We will be cooking burgers as well\, so bring your appetite!!! \n 
URL:https://av8maps.com/event/wings-and-wheels-fly-in-and-drive-in-kspi-2/
LOCATION:Abraham Lincoln Capital Airport\, 900 Capital Airport Dr\, Springfield\, IL 62702
ATTACH;FMTTYPE=image/jpeg:https://av8maps.com/wp-content/uploads/2025/06/IMG_0262.jpeg
GEO:39.842784;-89.6660998
X-APPLE-STRUCTURED-LOCATION;VALUE=URI;X-ADDRESS=Abraham Lincoln Capital Airport 900 Capital Airport Dr Springfield IL 62702;X-APPLE-RADIUS=500;X-TITLE=900 Capital Airport Dr\, Springfield\, IL 62702:geo:-89.6660998,39.842784
END:VEVENT
BEGIN:VEVENT
DTSTART;TZID=America/New_York:20271002T080000
DTEND;TZID=America/New_York:20271002T170000
DTSTAMP:20260423T075411
CREATED:20260310T232000Z
LAST-MODIFIED:20260310T232056Z
UID:10001821-1822464000-1822496400@av8maps.com
SUMMARY:Wings and Wheels Fly-in and Drive-in (KSPI)
DESCRIPTION:Come out to the Abraham Lincoln\, Capitol Airport for a fun filled day with the family We will be cooking burgers as well\, so bring your appetite!!! \n 
URL:https://av8maps.com/event/wings-and-wheels-fly-in-and-drive-in-kspi-3/
LOCATION:Abraham Lincoln Capital Airport\, 900 Capital Airport Dr\, Springfield\, IL 62702
ATTACH;FMTTYPE=image/jpeg:https://av8maps.com/wp-content/uploads/2025/06/EAA-Chapter-770-e1749844089491.jpg
GEO:39.842784;-89.6660998
X-APPLE-STRUCTURED-LOCATION;VALUE=URI;X-ADDRESS=Abraham Lincoln Capital Airport 900 Capital Airport Dr Springfield IL 62702;X-APPLE-RADIUS=500;X-TITLE=900 Capital Airport Dr\, Springfield\, IL 62702:geo:-89.6660998,39.842784
END:VEVENT
BEGIN:VEVENT
DTSTART;TZID=America/New_York:20281007T080000
DTEND;TZID=America/New_York:20281007T170000
DTSTAMP:20260423T075411
CREATED:20250613T194827Z
LAST-MODIFIED:20251031T200610Z
UID:10001822-1854518400-1854550800@av8maps.com
SUMMARY:Wings and Wheels Fly-in and Drive-in (KSPI)
DESCRIPTION:Come out to the Abraham Lincoln\, Capitol Airport for a fun filled day with the family We will be cooking burgers as well\, so bring your appetite!!! \n 
URL:https://av8maps.com/event/wings-and-wheels-fly-in-and-drive-in-kspi/2028-10-07/
LOCATION:Abraham Lincoln Capital Airport\, 900 Capital Airport Dr\, Springfield\, IL 62702
ATTACH;FMTTYPE=image/jpeg:https://av8maps.com/wp-content/uploads/2025/06/EAA-Chapter-770-e1749844089491.jpg
GEO:39.842784;-89.6660998
X-APPLE-STRUCTURED-LOCATION;VALUE=URI;X-ADDRESS=Abraham Lincoln Capital Airport 900 Capital Airport Dr Springfield IL 62702;X-APPLE-RADIUS=500;X-TITLE=900 Capital Airport Dr\, Springfield\, IL 62702:geo:-89.6660998,39.842784
END:VEVENT
BEGIN:VEVENT
DTSTART;TZID=America/New_York:20291006T080000
DTEND;TZID=America/New_York:20291006T170000
DTSTAMP:20260423T075411
CREATED:20250613T194827Z
LAST-MODIFIED:20251031T200610Z
UID:10001823-1885968000-1886000400@av8maps.com
SUMMARY:Wings and Wheels Fly-in and Drive-in (KSPI)
DESCRIPTION:Come out to the Abraham Lincoln\, Capitol Airport for a fun filled day with the family We will be cooking burgers as well\, so bring your appetite!!! \n 
URL:https://av8maps.com/event/wings-and-wheels-fly-in-and-drive-in-kspi/2029-10-06/
LOCATION:Abraham Lincoln Capital Airport\, 900 Capital Airport Dr\, Springfield\, IL 62702
ATTACH;FMTTYPE=image/jpeg:https://av8maps.com/wp-content/uploads/2025/06/EAA-Chapter-770-e1749844089491.jpg
GEO:39.842784;-89.6660998
X-APPLE-STRUCTURED-LOCATION;VALUE=URI;X-ADDRESS=Abraham Lincoln Capital Airport 900 Capital Airport Dr Springfield IL 62702;X-APPLE-RADIUS=500;X-TITLE=900 Capital Airport Dr\, Springfield\, IL 62702:geo:-89.6660998,39.842784
END:VEVENT
BEGIN:VEVENT
DTSTART;TZID=America/New_York:20301005T080000
DTEND;TZID=America/New_York:20301005T170000
DTSTAMP:20260423T075411
CREATED:20250613T194827Z
LAST-MODIFIED:20251031T200610Z
UID:10001824-1917417600-1917450000@av8maps.com
SUMMARY:Wings and Wheels Fly-in and Drive-in (KSPI)
DESCRIPTION:Come out to the Abraham Lincoln\, Capitol Airport for a fun filled day with the family We will be cooking burgers as well\, so bring your appetite!!! \n 
URL:https://av8maps.com/event/wings-and-wheels-fly-in-and-drive-in-kspi/2030-10-05/
LOCATION:Abraham Lincoln Capital Airport\, 900 Capital Airport Dr\, Springfield\, IL 62702
ATTACH;FMTTYPE=image/jpeg:https://av8maps.com/wp-content/uploads/2025/06/EAA-Chapter-770-e1749844089491.jpg
GEO:39.842784;-89.6660998
X-APPLE-STRUCTURED-LOCATION;VALUE=URI;X-ADDRESS=Abraham Lincoln Capital Airport 900 Capital Airport Dr Springfield IL 62702;X-APPLE-RADIUS=500;X-TITLE=900 Capital Airport Dr\, Springfield\, IL 62702:geo:-89.6660998,39.842784
END:VEVENT
END:VCALENDAR