BEGIN:VCALENDAR
VERSION:2.0
PRODID:-//AV8MAPS.COM - ECPv6.15.20//NONSGML v1.0//EN
CALSCALE:GREGORIAN
METHOD:PUBLISH
X-WR-CALNAME:AV8MAPS.COM
X-ORIGINAL-URL:https://av8maps.com
X-WR-CALDESC:Events for AV8MAPS.COM
REFRESH-INTERVAL;VALUE=DURATION:PT1H
X-Robots-Tag:noindex
X-PUBLISHED-TTL:PT1H
BEGIN:VTIMEZONE
TZID:America/New_York
BEGIN:DAYLIGHT
TZOFFSETFROM:-0500
TZOFFSETTO:-0400
TZNAME:EDT
DTSTART:20240310T070000
END:DAYLIGHT
BEGIN:STANDARD
TZOFFSETFROM:-0400
TZOFFSETTO:-0500
TZNAME:EST
DTSTART:20241103T060000
END:STANDARD
BEGIN:DAYLIGHT
TZOFFSETFROM:-0500
TZOFFSETTO:-0400
TZNAME:EDT
DTSTART:20250309T070000
END:DAYLIGHT
BEGIN:STANDARD
TZOFFSETFROM:-0400
TZOFFSETTO:-0500
TZNAME:EST
DTSTART:20251102T060000
END:STANDARD
BEGIN:DAYLIGHT
TZOFFSETFROM:-0500
TZOFFSETTO:-0400
TZNAME:EDT
DTSTART:20260308T070000
END:DAYLIGHT
BEGIN:STANDARD
TZOFFSETFROM:-0400
TZOFFSETTO:-0500
TZNAME:EST
DTSTART:20261101T060000
END:STANDARD
BEGIN:DAYLIGHT
TZOFFSETFROM:-0500
TZOFFSETTO:-0400
TZNAME:EDT
DTSTART:20270314T070000
END:DAYLIGHT
BEGIN:STANDARD
TZOFFSETFROM:-0400
TZOFFSETTO:-0500
TZNAME:EST
DTSTART:20271107T060000
END:STANDARD
END:VTIMEZONE
BEGIN:VEVENT
DTSTART;TZID=America/New_York:20260422T110000
DTEND;TZID=America/New_York:20260422T123000
DTSTAMP:20260422T183750
CREATED:20251110T120809Z
LAST-MODIFIED:20260311T011529Z
UID:10005158-1776855600-1776861000@av8maps.com
SUMMARY:Every Wednesday Dawg Flight Grill (2J9)
DESCRIPTION:We grill burgers and dogs on Wednesday’s \nNeed additional info please contact Manager Lee Woodruff 1-850-363-2083
URL:https://av8maps.com/event/every-wednesday-dawg-flight-grill-2j9/2026-04-22/
LOCATION:Quincy Municipal Airport\, 1300 Airport Drive\, Quincy\, FL\, 32352
ATTACH;FMTTYPE=image/png:https://av8maps.com/wp-content/uploads/2025/11/Quincy-Municipal-Airport-2J9-e1769478755190.png
GEO:30.5984033;-84.5536485
X-APPLE-STRUCTURED-LOCATION;VALUE=URI;X-ADDRESS=Quincy Municipal Airport 1300 Airport Drive Quincy FL 32352;X-APPLE-RADIUS=500;X-TITLE=1300 Airport Drive:geo:-84.5536485,30.5984033
END:VEVENT
BEGIN:VEVENT
DTSTART;TZID=America/New_York:20260415T110000
DTEND;TZID=America/New_York:20260415T123000
DTSTAMP:20260422T183750
CREATED:20251110T120809Z
LAST-MODIFIED:20260311T011529Z
UID:10005157-1776250800-1776256200@av8maps.com
SUMMARY:Every Wednesday Dawg Flight Grill (2J9)
DESCRIPTION:We grill burgers and dogs on Wednesday’s \nNeed additional info please contact Manager Lee Woodruff 1-850-363-2083
URL:https://av8maps.com/event/every-wednesday-dawg-flight-grill-2j9/2026-04-15/
LOCATION:Quincy Municipal Airport\, 1300 Airport Drive\, Quincy\, FL\, 32352
ATTACH;FMTTYPE=image/png:https://av8maps.com/wp-content/uploads/2025/11/Quincy-Municipal-Airport-2J9-e1769478755190.png
GEO:30.5984033;-84.5536485
X-APPLE-STRUCTURED-LOCATION;VALUE=URI;X-ADDRESS=Quincy Municipal Airport 1300 Airport Drive Quincy FL 32352;X-APPLE-RADIUS=500;X-TITLE=1300 Airport Drive:geo:-84.5536485,30.5984033
END:VEVENT
BEGIN:VEVENT
DTSTART;TZID=America/New_York:20260408T110000
DTEND;TZID=America/New_York:20260408T123000
DTSTAMP:20260422T183750
CREATED:20251110T120809Z
LAST-MODIFIED:20260311T011529Z
UID:10005156-1775646000-1775651400@av8maps.com
SUMMARY:Every Wednesday Dawg Flight Grill (2J9)
DESCRIPTION:We grill burgers and dogs on Wednesday’s \nNeed additional info please contact Manager Lee Woodruff 1-850-363-2083
URL:https://av8maps.com/event/every-wednesday-dawg-flight-grill-2j9/2026-04-08/
LOCATION:Quincy Municipal Airport\, 1300 Airport Drive\, Quincy\, FL\, 32352
ATTACH;FMTTYPE=image/png:https://av8maps.com/wp-content/uploads/2025/11/Quincy-Municipal-Airport-2J9-e1769478755190.png
GEO:30.5984033;-84.5536485
X-APPLE-STRUCTURED-LOCATION;VALUE=URI;X-ADDRESS=Quincy Municipal Airport 1300 Airport Drive Quincy FL 32352;X-APPLE-RADIUS=500;X-TITLE=1300 Airport Drive:geo:-84.5536485,30.5984033
END:VEVENT
BEGIN:VEVENT
DTSTART;TZID=America/New_York:20260401T110000
DTEND;TZID=America/New_York:20260401T123000
DTSTAMP:20260422T183750
CREATED:20251110T120809Z
LAST-MODIFIED:20260311T011529Z
UID:10005155-1775041200-1775046600@av8maps.com
SUMMARY:Every Wednesday Dawg Flight Grill (2J9)
DESCRIPTION:We grill burgers and dogs on Wednesday’s \nNeed additional info please contact Manager Lee Woodruff 1-850-363-2083
URL:https://av8maps.com/event/every-wednesday-dawg-flight-grill-2j9/2026-04-01/
LOCATION:Quincy Municipal Airport\, 1300 Airport Drive\, Quincy\, FL\, 32352
ATTACH;FMTTYPE=image/png:https://av8maps.com/wp-content/uploads/2025/11/Quincy-Municipal-Airport-2J9-e1769478755190.png
GEO:30.5984033;-84.5536485
X-APPLE-STRUCTURED-LOCATION;VALUE=URI;X-ADDRESS=Quincy Municipal Airport 1300 Airport Drive Quincy FL 32352;X-APPLE-RADIUS=500;X-TITLE=1300 Airport Drive:geo:-84.5536485,30.5984033
END:VEVENT
BEGIN:VEVENT
DTSTART;TZID=America/New_York:20260325T110000
DTEND;TZID=America/New_York:20260325T123000
DTSTAMP:20260422T183750
CREATED:20251110T120809Z
LAST-MODIFIED:20260311T011529Z
UID:10005154-1774436400-1774441800@av8maps.com
SUMMARY:Every Wednesday Dawg Flight Grill (2J9)
DESCRIPTION:We grill burgers and dogs on Wednesday’s \nNeed additional info please contact Manager Lee Woodruff 1-850-363-2083
URL:https://av8maps.com/event/every-wednesday-dawg-flight-grill-2j9/2026-03-25/
LOCATION:Quincy Municipal Airport\, 1300 Airport Drive\, Quincy\, FL\, 32352
ATTACH;FMTTYPE=image/png:https://av8maps.com/wp-content/uploads/2025/11/Quincy-Municipal-Airport-2J9-e1769478755190.png
GEO:30.5984033;-84.5536485
X-APPLE-STRUCTURED-LOCATION;VALUE=URI;X-ADDRESS=Quincy Municipal Airport 1300 Airport Drive Quincy FL 32352;X-APPLE-RADIUS=500;X-TITLE=1300 Airport Drive:geo:-84.5536485,30.5984033
END:VEVENT
BEGIN:VEVENT
DTSTART;TZID=America/New_York:20260318T110000
DTEND;TZID=America/New_York:20260318T123000
DTSTAMP:20260422T183750
CREATED:20251110T120809Z
LAST-MODIFIED:20260311T011529Z
UID:10005153-1773831600-1773837000@av8maps.com
SUMMARY:Every Wednesday Dawg Flight Grill (2J9)
DESCRIPTION:We grill burgers and dogs on Wednesday’s \nNeed additional info please contact Manager Lee Woodruff 1-850-363-2083
URL:https://av8maps.com/event/every-wednesday-dawg-flight-grill-2j9/2026-03-18/
LOCATION:Quincy Municipal Airport\, 1300 Airport Drive\, Quincy\, FL\, 32352
ATTACH;FMTTYPE=image/png:https://av8maps.com/wp-content/uploads/2025/11/Quincy-Municipal-Airport-2J9-e1769478755190.png
GEO:30.5984033;-84.5536485
X-APPLE-STRUCTURED-LOCATION;VALUE=URI;X-ADDRESS=Quincy Municipal Airport 1300 Airport Drive Quincy FL 32352;X-APPLE-RADIUS=500;X-TITLE=1300 Airport Drive:geo:-84.5536485,30.5984033
END:VEVENT
BEGIN:VEVENT
DTSTART;TZID=America/New_York:20260311T110000
DTEND;TZID=America/New_York:20260311T123000
DTSTAMP:20260422T183750
CREATED:20251110T120809Z
LAST-MODIFIED:20260311T011529Z
UID:10005152-1773226800-1773232200@av8maps.com
SUMMARY:Every Wednesday Dawg Flight Grill (2J9)
DESCRIPTION:We grill burgers and dogs on Wednesday’s \nNeed additional info please contact Manager Lee Woodruff 1-850-363-2083
URL:https://av8maps.com/event/every-wednesday-dawg-flight-grill-2j9/2026-03-11/
LOCATION:Quincy Municipal Airport\, 1300 Airport Drive\, Quincy\, FL\, 32352
ATTACH;FMTTYPE=image/png:https://av8maps.com/wp-content/uploads/2025/11/Quincy-Municipal-Airport-2J9-e1769478755190.png
GEO:30.5984033;-84.5536485
X-APPLE-STRUCTURED-LOCATION;VALUE=URI;X-ADDRESS=Quincy Municipal Airport 1300 Airport Drive Quincy FL 32352;X-APPLE-RADIUS=500;X-TITLE=1300 Airport Drive:geo:-84.5536485,30.5984033
END:VEVENT
BEGIN:VEVENT
DTSTART;TZID=America/New_York:20260304T110000
DTEND;TZID=America/New_York:20260304T123000
DTSTAMP:20260422T183750
CREATED:20251110T120809Z
LAST-MODIFIED:20260311T011529Z
UID:10005151-1772622000-1772627400@av8maps.com
SUMMARY:Every Wednesday Dawg Flight Grill (2J9)
DESCRIPTION:We grill burgers and dogs on Wednesday’s \nNeed additional info please contact Manager Lee Woodruff 1-850-363-2083
URL:https://av8maps.com/event/every-wednesday-dawg-flight-grill-2j9/2026-03-04/
LOCATION:Quincy Municipal Airport\, 1300 Airport Drive\, Quincy\, FL\, 32352
ATTACH;FMTTYPE=image/png:https://av8maps.com/wp-content/uploads/2025/11/Quincy-Municipal-Airport-2J9-e1769478755190.png
GEO:30.5984033;-84.5536485
X-APPLE-STRUCTURED-LOCATION;VALUE=URI;X-ADDRESS=Quincy Municipal Airport 1300 Airport Drive Quincy FL 32352;X-APPLE-RADIUS=500;X-TITLE=1300 Airport Drive:geo:-84.5536485,30.5984033
END:VEVENT
BEGIN:VEVENT
DTSTART;TZID=America/New_York:20260225T110000
DTEND;TZID=America/New_York:20260225T123000
DTSTAMP:20260422T183750
CREATED:20251110T120809Z
LAST-MODIFIED:20260311T011529Z
UID:10005150-1772017200-1772022600@av8maps.com
SUMMARY:Every Wednesday Dawg Flight Grill (2J9)
DESCRIPTION:We grill burgers and dogs on Wednesday’s \nNeed additional info please contact Manager Lee Woodruff 1-850-363-2083
URL:https://av8maps.com/event/every-wednesday-dawg-flight-grill-2j9/2026-02-25/
LOCATION:Quincy Municipal Airport\, 1300 Airport Drive\, Quincy\, FL\, 32352
ATTACH;FMTTYPE=image/png:https://av8maps.com/wp-content/uploads/2025/11/Quincy-Municipal-Airport-2J9-e1769478755190.png
GEO:30.5984033;-84.5536485
X-APPLE-STRUCTURED-LOCATION;VALUE=URI;X-ADDRESS=Quincy Municipal Airport 1300 Airport Drive Quincy FL 32352;X-APPLE-RADIUS=500;X-TITLE=1300 Airport Drive:geo:-84.5536485,30.5984033
END:VEVENT
BEGIN:VEVENT
DTSTART;TZID=America/New_York:20260218T110000
DTEND;TZID=America/New_York:20260218T123000
DTSTAMP:20260422T183750
CREATED:20251110T120809Z
LAST-MODIFIED:20260311T011529Z
UID:10005149-1771412400-1771417800@av8maps.com
SUMMARY:Every Wednesday Dawg Flight Grill (2J9)
DESCRIPTION:We grill burgers and dogs on Wednesday’s \nNeed additional info please contact Manager Lee Woodruff 1-850-363-2083
URL:https://av8maps.com/event/every-wednesday-dawg-flight-grill-2j9/2026-02-18/
LOCATION:Quincy Municipal Airport\, 1300 Airport Drive\, Quincy\, FL\, 32352
ATTACH;FMTTYPE=image/png:https://av8maps.com/wp-content/uploads/2025/11/Quincy-Municipal-Airport-2J9-e1769478755190.png
GEO:30.5984033;-84.5536485
X-APPLE-STRUCTURED-LOCATION;VALUE=URI;X-ADDRESS=Quincy Municipal Airport 1300 Airport Drive Quincy FL 32352;X-APPLE-RADIUS=500;X-TITLE=1300 Airport Drive:geo:-84.5536485,30.5984033
END:VEVENT
BEGIN:VEVENT
DTSTART;TZID=America/New_York:20260211T110000
DTEND;TZID=America/New_York:20260211T123000
DTSTAMP:20260422T183750
CREATED:20251110T120809Z
LAST-MODIFIED:20260311T011529Z
UID:10005148-1770807600-1770813000@av8maps.com
SUMMARY:Every Wednesday Dawg Flight Grill (2J9)
DESCRIPTION:We grill burgers and dogs on Wednesday’s \nNeed additional info please contact Manager Lee Woodruff 1-850-363-2083
URL:https://av8maps.com/event/every-wednesday-dawg-flight-grill-2j9/2026-02-11/
LOCATION:Quincy Municipal Airport\, 1300 Airport Drive\, Quincy\, FL\, 32352
ATTACH;FMTTYPE=image/png:https://av8maps.com/wp-content/uploads/2025/11/Quincy-Municipal-Airport-2J9-e1769478755190.png
GEO:30.5984033;-84.5536485
X-APPLE-STRUCTURED-LOCATION;VALUE=URI;X-ADDRESS=Quincy Municipal Airport 1300 Airport Drive Quincy FL 32352;X-APPLE-RADIUS=500;X-TITLE=1300 Airport Drive:geo:-84.5536485,30.5984033
END:VEVENT
BEGIN:VEVENT
DTSTART;TZID=America/New_York:20260204T110000
DTEND;TZID=America/New_York:20260204T123000
DTSTAMP:20260422T183750
CREATED:20251110T120809Z
LAST-MODIFIED:20260311T011529Z
UID:10005147-1770202800-1770208200@av8maps.com
SUMMARY:Every Wednesday Dawg Flight Grill (2J9)
DESCRIPTION:We grill burgers and dogs on Wednesday’s \nNeed additional info please contact Manager Lee Woodruff 1-850-363-2083
URL:https://av8maps.com/event/every-wednesday-dawg-flight-grill-2j9/2026-02-04/
LOCATION:Quincy Municipal Airport\, 1300 Airport Drive\, Quincy\, FL\, 32352
ATTACH;FMTTYPE=image/png:https://av8maps.com/wp-content/uploads/2025/11/Quincy-Municipal-Airport-2J9-e1769478755190.png
GEO:30.5984033;-84.5536485
X-APPLE-STRUCTURED-LOCATION;VALUE=URI;X-ADDRESS=Quincy Municipal Airport 1300 Airport Drive Quincy FL 32352;X-APPLE-RADIUS=500;X-TITLE=1300 Airport Drive:geo:-84.5536485,30.5984033
END:VEVENT
BEGIN:VEVENT
DTSTART;TZID=America/New_York:20260128T110000
DTEND;TZID=America/New_York:20260128T123000
DTSTAMP:20260422T183750
CREATED:20251110T120809Z
LAST-MODIFIED:20260311T011529Z
UID:10005146-1769598000-1769603400@av8maps.com
SUMMARY:Every Wednesday Dawg Flight Grill (2J9)
DESCRIPTION:We grill burgers and dogs on Wednesday’s \nNeed additional info please contact Manager Lee Woodruff 1-850-363-2083
URL:https://av8maps.com/event/every-wednesday-dawg-flight-grill-2j9/2026-01-28/
LOCATION:Quincy Municipal Airport\, 1300 Airport Drive\, Quincy\, FL\, 32352
ATTACH;FMTTYPE=image/png:https://av8maps.com/wp-content/uploads/2025/11/Quincy-Municipal-Airport-2J9-e1769478755190.png
GEO:30.5984033;-84.5536485
X-APPLE-STRUCTURED-LOCATION;VALUE=URI;X-ADDRESS=Quincy Municipal Airport 1300 Airport Drive Quincy FL 32352;X-APPLE-RADIUS=500;X-TITLE=1300 Airport Drive:geo:-84.5536485,30.5984033
END:VEVENT
BEGIN:VEVENT
DTSTART;TZID=America/New_York:20260121T110000
DTEND;TZID=America/New_York:20260121T123000
DTSTAMP:20260422T183750
CREATED:20251110T120809Z
LAST-MODIFIED:20260311T011529Z
UID:10005145-1768993200-1768998600@av8maps.com
SUMMARY:Every Wednesday Dawg Flight Grill (2J9)
DESCRIPTION:We grill burgers and dogs on Wednesday’s \nNeed additional info please contact Manager Lee Woodruff 1-850-363-2083
URL:https://av8maps.com/event/every-wednesday-dawg-flight-grill-2j9/2026-01-21/
LOCATION:Quincy Municipal Airport\, 1300 Airport Drive\, Quincy\, FL\, 32352
ATTACH;FMTTYPE=image/png:https://av8maps.com/wp-content/uploads/2025/11/Quincy-Municipal-Airport-2J9-e1769478755190.png
GEO:30.5984033;-84.5536485
X-APPLE-STRUCTURED-LOCATION;VALUE=URI;X-ADDRESS=Quincy Municipal Airport 1300 Airport Drive Quincy FL 32352;X-APPLE-RADIUS=500;X-TITLE=1300 Airport Drive:geo:-84.5536485,30.5984033
END:VEVENT
BEGIN:VEVENT
DTSTART;TZID=America/New_York:20260114T110000
DTEND;TZID=America/New_York:20260114T123000
DTSTAMP:20260422T183750
CREATED:20251110T120809Z
LAST-MODIFIED:20260311T011529Z
UID:10005144-1768388400-1768393800@av8maps.com
SUMMARY:Every Wednesday Dawg Flight Grill (2J9)
DESCRIPTION:We grill burgers and dogs on Wednesday’s \nNeed additional info please contact Manager Lee Woodruff 1-850-363-2083
URL:https://av8maps.com/event/every-wednesday-dawg-flight-grill-2j9/2026-01-14/
LOCATION:Quincy Municipal Airport\, 1300 Airport Drive\, Quincy\, FL\, 32352
ATTACH;FMTTYPE=image/png:https://av8maps.com/wp-content/uploads/2025/11/Quincy-Municipal-Airport-2J9-e1769478755190.png
GEO:30.5984033;-84.5536485
X-APPLE-STRUCTURED-LOCATION;VALUE=URI;X-ADDRESS=Quincy Municipal Airport 1300 Airport Drive Quincy FL 32352;X-APPLE-RADIUS=500;X-TITLE=1300 Airport Drive:geo:-84.5536485,30.5984033
END:VEVENT
BEGIN:VEVENT
DTSTART;TZID=America/New_York:20260107T110000
DTEND;TZID=America/New_York:20260107T123000
DTSTAMP:20260422T183750
CREATED:20251110T120809Z
LAST-MODIFIED:20260311T011529Z
UID:10005143-1767783600-1767789000@av8maps.com
SUMMARY:Every Wednesday Dawg Flight Grill (2J9)
DESCRIPTION:We grill burgers and dogs on Wednesday’s \nNeed additional info please contact Manager Lee Woodruff 1-850-363-2083
URL:https://av8maps.com/event/every-wednesday-dawg-flight-grill-2j9/2026-01-07/
LOCATION:Quincy Municipal Airport\, 1300 Airport Drive\, Quincy\, FL\, 32352
ATTACH;FMTTYPE=image/png:https://av8maps.com/wp-content/uploads/2025/11/Quincy-Municipal-Airport-2J9-e1769478755190.png
GEO:30.5984033;-84.5536485
X-APPLE-STRUCTURED-LOCATION;VALUE=URI;X-ADDRESS=Quincy Municipal Airport 1300 Airport Drive Quincy FL 32352;X-APPLE-RADIUS=500;X-TITLE=1300 Airport Drive:geo:-84.5536485,30.5984033
END:VEVENT
BEGIN:VEVENT
DTSTART;TZID=America/New_York:20251231T110000
DTEND;TZID=America/New_York:20251231T123000
DTSTAMP:20260422T183750
CREATED:20251110T120809Z
LAST-MODIFIED:20260311T011529Z
UID:10005142-1767178800-1767184200@av8maps.com
SUMMARY:Every Wednesday Dawg Flight Grill (2J9)
DESCRIPTION:We grill burgers and dogs on Wednesday’s \nNeed additional info please contact Manager Lee Woodruff 1-850-363-2083
URL:https://av8maps.com/event/every-wednesday-dawg-flight-grill-2j9/2025-12-31/
LOCATION:Quincy Municipal Airport\, 1300 Airport Drive\, Quincy\, FL\, 32352
ATTACH;FMTTYPE=image/png:https://av8maps.com/wp-content/uploads/2025/11/Quincy-Municipal-Airport-2J9-e1769478755190.png
GEO:30.5984033;-84.5536485
X-APPLE-STRUCTURED-LOCATION;VALUE=URI;X-ADDRESS=Quincy Municipal Airport 1300 Airport Drive Quincy FL 32352;X-APPLE-RADIUS=500;X-TITLE=1300 Airport Drive:geo:-84.5536485,30.5984033
END:VEVENT
BEGIN:VEVENT
DTSTART;TZID=America/New_York:20251224T110000
DTEND;TZID=America/New_York:20251224T123000
DTSTAMP:20260422T183750
CREATED:20251110T120809Z
LAST-MODIFIED:20260311T011529Z
UID:10005141-1766574000-1766579400@av8maps.com
SUMMARY:Every Wednesday Dawg Flight Grill (2J9)
DESCRIPTION:We grill burgers and dogs on Wednesday’s \nNeed additional info please contact Manager Lee Woodruff 1-850-363-2083
URL:https://av8maps.com/event/every-wednesday-dawg-flight-grill-2j9/2025-12-24/
LOCATION:Quincy Municipal Airport\, 1300 Airport Drive\, Quincy\, FL\, 32352
ATTACH;FMTTYPE=image/png:https://av8maps.com/wp-content/uploads/2025/11/Quincy-Municipal-Airport-2J9-e1769478755190.png
GEO:30.5984033;-84.5536485
X-APPLE-STRUCTURED-LOCATION;VALUE=URI;X-ADDRESS=Quincy Municipal Airport 1300 Airport Drive Quincy FL 32352;X-APPLE-RADIUS=500;X-TITLE=1300 Airport Drive:geo:-84.5536485,30.5984033
END:VEVENT
BEGIN:VEVENT
DTSTART;TZID=America/New_York:20251217T110000
DTEND;TZID=America/New_York:20251217T123000
DTSTAMP:20260422T183750
CREATED:20251110T120809Z
LAST-MODIFIED:20260311T011529Z
UID:10005140-1765969200-1765974600@av8maps.com
SUMMARY:Every Wednesday Dawg Flight Grill (2J9)
DESCRIPTION:We grill burgers and dogs on Wednesday’s \nNeed additional info please contact Manager Lee Woodruff 1-850-363-2083
URL:https://av8maps.com/event/every-wednesday-dawg-flight-grill-2j9/2025-12-17/
LOCATION:Quincy Municipal Airport\, 1300 Airport Drive\, Quincy\, FL\, 32352
ATTACH;FMTTYPE=image/png:https://av8maps.com/wp-content/uploads/2025/11/Quincy-Municipal-Airport-2J9-e1769478755190.png
GEO:30.5984033;-84.5536485
X-APPLE-STRUCTURED-LOCATION;VALUE=URI;X-ADDRESS=Quincy Municipal Airport 1300 Airport Drive Quincy FL 32352;X-APPLE-RADIUS=500;X-TITLE=1300 Airport Drive:geo:-84.5536485,30.5984033
END:VEVENT
BEGIN:VEVENT
DTSTART;TZID=America/New_York:20251210T110000
DTEND;TZID=America/New_York:20251210T123000
DTSTAMP:20260422T183750
CREATED:20251110T120809Z
LAST-MODIFIED:20260311T011529Z
UID:10005139-1765364400-1765369800@av8maps.com
SUMMARY:Every Wednesday Dawg Flight Grill (2J9)
DESCRIPTION:We grill burgers and dogs on Wednesday’s \nNeed additional info please contact Manager Lee Woodruff 1-850-363-2083
URL:https://av8maps.com/event/every-wednesday-dawg-flight-grill-2j9/2025-12-10/
LOCATION:Quincy Municipal Airport\, 1300 Airport Drive\, Quincy\, FL\, 32352
ATTACH;FMTTYPE=image/png:https://av8maps.com/wp-content/uploads/2025/11/Quincy-Municipal-Airport-2J9-e1769478755190.png
GEO:30.5984033;-84.5536485
X-APPLE-STRUCTURED-LOCATION;VALUE=URI;X-ADDRESS=Quincy Municipal Airport 1300 Airport Drive Quincy FL 32352;X-APPLE-RADIUS=500;X-TITLE=1300 Airport Drive:geo:-84.5536485,30.5984033
END:VEVENT
BEGIN:VEVENT
DTSTART;TZID=America/New_York:20251203T110000
DTEND;TZID=America/New_York:20251203T123000
DTSTAMP:20260422T183750
CREATED:20251110T120809Z
LAST-MODIFIED:20260311T011529Z
UID:10005138-1764759600-1764765000@av8maps.com
SUMMARY:Every Wednesday Dawg Flight Grill (2J9)
DESCRIPTION:We grill burgers and dogs on Wednesday’s \nNeed additional info please contact Manager Lee Woodruff 1-850-363-2083
URL:https://av8maps.com/event/every-wednesday-dawg-flight-grill-2j9/2025-12-03/
LOCATION:Quincy Municipal Airport\, 1300 Airport Drive\, Quincy\, FL\, 32352
ATTACH;FMTTYPE=image/png:https://av8maps.com/wp-content/uploads/2025/11/Quincy-Municipal-Airport-2J9-e1769478755190.png
GEO:30.5984033;-84.5536485
X-APPLE-STRUCTURED-LOCATION;VALUE=URI;X-ADDRESS=Quincy Municipal Airport 1300 Airport Drive Quincy FL 32352;X-APPLE-RADIUS=500;X-TITLE=1300 Airport Drive:geo:-84.5536485,30.5984033
END:VEVENT
BEGIN:VEVENT
DTSTART;TZID=America/New_York:20251126T110000
DTEND;TZID=America/New_York:20251126T123000
DTSTAMP:20260422T183750
CREATED:20251110T120809Z
LAST-MODIFIED:20260311T011529Z
UID:10005137-1764154800-1764160200@av8maps.com
SUMMARY:Every Wednesday Dawg Flight Grill (2J9)
DESCRIPTION:We grill burgers and dogs on Wednesday’s \nNeed additional info please contact Manager Lee Woodruff 1-850-363-2083
URL:https://av8maps.com/event/every-wednesday-dawg-flight-grill-2j9/2025-11-26/
LOCATION:Quincy Municipal Airport\, 1300 Airport Drive\, Quincy\, FL\, 32352
ATTACH;FMTTYPE=image/png:https://av8maps.com/wp-content/uploads/2025/11/Quincy-Municipal-Airport-2J9-e1769478755190.png
GEO:30.5984033;-84.5536485
X-APPLE-STRUCTURED-LOCATION;VALUE=URI;X-ADDRESS=Quincy Municipal Airport 1300 Airport Drive Quincy FL 32352;X-APPLE-RADIUS=500;X-TITLE=1300 Airport Drive:geo:-84.5536485,30.5984033
END:VEVENT
BEGIN:VEVENT
DTSTART;TZID=America/New_York:20251119T110000
DTEND;TZID=America/New_York:20251119T123000
DTSTAMP:20260422T183750
CREATED:20251110T120809Z
LAST-MODIFIED:20260311T011529Z
UID:10005136-1763550000-1763555400@av8maps.com
SUMMARY:Every Wednesday Dawg Flight Grill (2J9)
DESCRIPTION:We grill burgers and dogs on Wednesday’s \nNeed additional info please contact Manager Lee Woodruff 1-850-363-2083
URL:https://av8maps.com/event/every-wednesday-dawg-flight-grill-2j9/2025-11-19/
LOCATION:Quincy Municipal Airport\, 1300 Airport Drive\, Quincy\, FL\, 32352
ATTACH;FMTTYPE=image/png:https://av8maps.com/wp-content/uploads/2025/11/Quincy-Municipal-Airport-2J9-e1769478755190.png
GEO:30.5984033;-84.5536485
X-APPLE-STRUCTURED-LOCATION;VALUE=URI;X-ADDRESS=Quincy Municipal Airport 1300 Airport Drive Quincy FL 32352;X-APPLE-RADIUS=500;X-TITLE=1300 Airport Drive:geo:-84.5536485,30.5984033
END:VEVENT
BEGIN:VEVENT
DTSTART;TZID=America/New_York:20251112T110000
DTEND;TZID=America/New_York:20251112T123000
DTSTAMP:20260422T183750
CREATED:20251110T120809Z
LAST-MODIFIED:20260311T011529Z
UID:10005135-1762945200-1762950600@av8maps.com
SUMMARY:Every Wednesday Dawg Flight Grill (2J9)
DESCRIPTION:We grill burgers and dogs on Wednesday’s \nNeed additional info please contact Manager Lee Woodruff 1-850-363-2083
URL:https://av8maps.com/event/every-wednesday-dawg-flight-grill-2j9/2025-11-12/
LOCATION:Quincy Municipal Airport\, 1300 Airport Drive\, Quincy\, FL\, 32352
ATTACH;FMTTYPE=image/png:https://av8maps.com/wp-content/uploads/2025/11/Quincy-Municipal-Airport-2J9-e1769478755190.png
GEO:30.5984033;-84.5536485
X-APPLE-STRUCTURED-LOCATION;VALUE=URI;X-ADDRESS=Quincy Municipal Airport 1300 Airport Drive Quincy FL 32352;X-APPLE-RADIUS=500;X-TITLE=1300 Airport Drive:geo:-84.5536485,30.5984033
END:VEVENT
END:VCALENDAR