BEGIN:VCALENDAR
VERSION:2.0
PRODID:-//AV8MAPS.COM - ECPv6.15.20//NONSGML v1.0//EN
CALSCALE:GREGORIAN
METHOD:PUBLISH
X-WR-CALNAME:AV8MAPS.COM
X-ORIGINAL-URL:https://av8maps.com
X-WR-CALDESC:Events for AV8MAPS.COM
REFRESH-INTERVAL;VALUE=DURATION:PT1H
X-Robots-Tag:noindex
X-PUBLISHED-TTL:PT1H
BEGIN:VTIMEZONE
TZID:America/New_York
BEGIN:DAYLIGHT
TZOFFSETFROM:-0500
TZOFFSETTO:-0400
TZNAME:EDT
DTSTART:20280312T070000
END:DAYLIGHT
BEGIN:STANDARD
TZOFFSETFROM:-0400
TZOFFSETTO:-0500
TZNAME:EST
DTSTART:20281105T060000
END:STANDARD
BEGIN:DAYLIGHT
TZOFFSETFROM:-0500
TZOFFSETTO:-0400
TZNAME:EDT
DTSTART:20290311T070000
END:DAYLIGHT
BEGIN:STANDARD
TZOFFSETFROM:-0400
TZOFFSETTO:-0500
TZNAME:EST
DTSTART:20291104T060000
END:STANDARD
BEGIN:DAYLIGHT
TZOFFSETFROM:-0500
TZOFFSETTO:-0400
TZNAME:EDT
DTSTART:20300310T070000
END:DAYLIGHT
BEGIN:STANDARD
TZOFFSETFROM:-0400
TZOFFSETTO:-0500
TZNAME:EST
DTSTART:20301103T060000
END:STANDARD
BEGIN:DAYLIGHT
TZOFFSETFROM:-0500
TZOFFSETTO:-0400
TZNAME:EDT
DTSTART:20310309T070000
END:DAYLIGHT
BEGIN:STANDARD
TZOFFSETFROM:-0400
TZOFFSETTO:-0500
TZNAME:EST
DTSTART:20311102T060000
END:STANDARD
END:VTIMEZONE
BEGIN:VEVENT
DTSTART;TZID=America/New_York:20290919T110000
DTEND;TZID=America/New_York:20290919T123000
DTSTAMP:20260423T224003
CREATED:20251110T120809Z
LAST-MODIFIED:20260311T011529Z
UID:10005336-1884510000-1884515400@av8maps.com
SUMMARY:Every Wednesday Dawg Flight Grill (2J9)
DESCRIPTION:We grill burgers and dogs on Wednesday’s \nNeed additional info please contact Manager Lee Woodruff 1-850-363-2083
URL:https://av8maps.com/event/every-wednesday-dawg-flight-grill-2j9/2029-09-19/
LOCATION:Quincy Municipal Airport\, 1300 Airport Drive\, Quincy\, FL\, 32352
ATTACH;FMTTYPE=image/png:https://av8maps.com/wp-content/uploads/2025/11/Quincy-Municipal-Airport-2J9-e1769478755190.png
GEO:30.5984033;-84.5536485
X-APPLE-STRUCTURED-LOCATION;VALUE=URI;X-ADDRESS=Quincy Municipal Airport 1300 Airport Drive Quincy FL 32352;X-APPLE-RADIUS=500;X-TITLE=1300 Airport Drive:geo:-84.5536485,30.5984033
END:VEVENT
BEGIN:VEVENT
DTSTART;TZID=America/New_York:20290926T110000
DTEND;TZID=America/New_York:20290926T123000
DTSTAMP:20260423T224003
CREATED:20251110T120809Z
LAST-MODIFIED:20260311T011529Z
UID:10005337-1885114800-1885120200@av8maps.com
SUMMARY:Every Wednesday Dawg Flight Grill (2J9)
DESCRIPTION:We grill burgers and dogs on Wednesday’s \nNeed additional info please contact Manager Lee Woodruff 1-850-363-2083
URL:https://av8maps.com/event/every-wednesday-dawg-flight-grill-2j9/2029-09-26/
LOCATION:Quincy Municipal Airport\, 1300 Airport Drive\, Quincy\, FL\, 32352
ATTACH;FMTTYPE=image/png:https://av8maps.com/wp-content/uploads/2025/11/Quincy-Municipal-Airport-2J9-e1769478755190.png
GEO:30.5984033;-84.5536485
X-APPLE-STRUCTURED-LOCATION;VALUE=URI;X-ADDRESS=Quincy Municipal Airport 1300 Airport Drive Quincy FL 32352;X-APPLE-RADIUS=500;X-TITLE=1300 Airport Drive:geo:-84.5536485,30.5984033
END:VEVENT
BEGIN:VEVENT
DTSTART;TZID=America/New_York:20291003T110000
DTEND;TZID=America/New_York:20291003T123000
DTSTAMP:20260423T224003
CREATED:20251110T120809Z
LAST-MODIFIED:20260311T011529Z
UID:10005338-1885719600-1885725000@av8maps.com
SUMMARY:Every Wednesday Dawg Flight Grill (2J9)
DESCRIPTION:We grill burgers and dogs on Wednesday’s \nNeed additional info please contact Manager Lee Woodruff 1-850-363-2083
URL:https://av8maps.com/event/every-wednesday-dawg-flight-grill-2j9/2029-10-03/
LOCATION:Quincy Municipal Airport\, 1300 Airport Drive\, Quincy\, FL\, 32352
ATTACH;FMTTYPE=image/png:https://av8maps.com/wp-content/uploads/2025/11/Quincy-Municipal-Airport-2J9-e1769478755190.png
GEO:30.5984033;-84.5536485
X-APPLE-STRUCTURED-LOCATION;VALUE=URI;X-ADDRESS=Quincy Municipal Airport 1300 Airport Drive Quincy FL 32352;X-APPLE-RADIUS=500;X-TITLE=1300 Airport Drive:geo:-84.5536485,30.5984033
END:VEVENT
BEGIN:VEVENT
DTSTART;TZID=America/New_York:20291010T110000
DTEND;TZID=America/New_York:20291010T123000
DTSTAMP:20260423T224003
CREATED:20251110T120809Z
LAST-MODIFIED:20260311T011529Z
UID:10005339-1886324400-1886329800@av8maps.com
SUMMARY:Every Wednesday Dawg Flight Grill (2J9)
DESCRIPTION:We grill burgers and dogs on Wednesday’s \nNeed additional info please contact Manager Lee Woodruff 1-850-363-2083
URL:https://av8maps.com/event/every-wednesday-dawg-flight-grill-2j9/2029-10-10/
LOCATION:Quincy Municipal Airport\, 1300 Airport Drive\, Quincy\, FL\, 32352
ATTACH;FMTTYPE=image/png:https://av8maps.com/wp-content/uploads/2025/11/Quincy-Municipal-Airport-2J9-e1769478755190.png
GEO:30.5984033;-84.5536485
X-APPLE-STRUCTURED-LOCATION;VALUE=URI;X-ADDRESS=Quincy Municipal Airport 1300 Airport Drive Quincy FL 32352;X-APPLE-RADIUS=500;X-TITLE=1300 Airport Drive:geo:-84.5536485,30.5984033
END:VEVENT
BEGIN:VEVENT
DTSTART;TZID=America/New_York:20291017T110000
DTEND;TZID=America/New_York:20291017T123000
DTSTAMP:20260423T224003
CREATED:20251110T120809Z
LAST-MODIFIED:20260311T011529Z
UID:10005340-1886929200-1886934600@av8maps.com
SUMMARY:Every Wednesday Dawg Flight Grill (2J9)
DESCRIPTION:We grill burgers and dogs on Wednesday’s \nNeed additional info please contact Manager Lee Woodruff 1-850-363-2083
URL:https://av8maps.com/event/every-wednesday-dawg-flight-grill-2j9/2029-10-17/
LOCATION:Quincy Municipal Airport\, 1300 Airport Drive\, Quincy\, FL\, 32352
ATTACH;FMTTYPE=image/png:https://av8maps.com/wp-content/uploads/2025/11/Quincy-Municipal-Airport-2J9-e1769478755190.png
GEO:30.5984033;-84.5536485
X-APPLE-STRUCTURED-LOCATION;VALUE=URI;X-ADDRESS=Quincy Municipal Airport 1300 Airport Drive Quincy FL 32352;X-APPLE-RADIUS=500;X-TITLE=1300 Airport Drive:geo:-84.5536485,30.5984033
END:VEVENT
BEGIN:VEVENT
DTSTART;TZID=America/New_York:20291024T110000
DTEND;TZID=America/New_York:20291024T123000
DTSTAMP:20260423T224003
CREATED:20251110T120809Z
LAST-MODIFIED:20260311T011529Z
UID:10005341-1887534000-1887539400@av8maps.com
SUMMARY:Every Wednesday Dawg Flight Grill (2J9)
DESCRIPTION:We grill burgers and dogs on Wednesday’s \nNeed additional info please contact Manager Lee Woodruff 1-850-363-2083
URL:https://av8maps.com/event/every-wednesday-dawg-flight-grill-2j9/2029-10-24/
LOCATION:Quincy Municipal Airport\, 1300 Airport Drive\, Quincy\, FL\, 32352
ATTACH;FMTTYPE=image/png:https://av8maps.com/wp-content/uploads/2025/11/Quincy-Municipal-Airport-2J9-e1769478755190.png
GEO:30.5984033;-84.5536485
X-APPLE-STRUCTURED-LOCATION;VALUE=URI;X-ADDRESS=Quincy Municipal Airport 1300 Airport Drive Quincy FL 32352;X-APPLE-RADIUS=500;X-TITLE=1300 Airport Drive:geo:-84.5536485,30.5984033
END:VEVENT
BEGIN:VEVENT
DTSTART;TZID=America/New_York:20291031T110000
DTEND;TZID=America/New_York:20291031T123000
DTSTAMP:20260423T224003
CREATED:20251110T120809Z
LAST-MODIFIED:20260311T011529Z
UID:10005342-1888138800-1888144200@av8maps.com
SUMMARY:Every Wednesday Dawg Flight Grill (2J9)
DESCRIPTION:We grill burgers and dogs on Wednesday’s \nNeed additional info please contact Manager Lee Woodruff 1-850-363-2083
URL:https://av8maps.com/event/every-wednesday-dawg-flight-grill-2j9/2029-10-31/
LOCATION:Quincy Municipal Airport\, 1300 Airport Drive\, Quincy\, FL\, 32352
ATTACH;FMTTYPE=image/png:https://av8maps.com/wp-content/uploads/2025/11/Quincy-Municipal-Airport-2J9-e1769478755190.png
GEO:30.5984033;-84.5536485
X-APPLE-STRUCTURED-LOCATION;VALUE=URI;X-ADDRESS=Quincy Municipal Airport 1300 Airport Drive Quincy FL 32352;X-APPLE-RADIUS=500;X-TITLE=1300 Airport Drive:geo:-84.5536485,30.5984033
END:VEVENT
BEGIN:VEVENT
DTSTART;TZID=America/New_York:20291107T110000
DTEND;TZID=America/New_York:20291107T123000
DTSTAMP:20260423T224003
CREATED:20251110T120809Z
LAST-MODIFIED:20260311T011529Z
UID:10005343-1888743600-1888749000@av8maps.com
SUMMARY:Every Wednesday Dawg Flight Grill (2J9)
DESCRIPTION:We grill burgers and dogs on Wednesday’s \nNeed additional info please contact Manager Lee Woodruff 1-850-363-2083
URL:https://av8maps.com/event/every-wednesday-dawg-flight-grill-2j9/2029-11-07/
LOCATION:Quincy Municipal Airport\, 1300 Airport Drive\, Quincy\, FL\, 32352
ATTACH;FMTTYPE=image/png:https://av8maps.com/wp-content/uploads/2025/11/Quincy-Municipal-Airport-2J9-e1769478755190.png
GEO:30.5984033;-84.5536485
X-APPLE-STRUCTURED-LOCATION;VALUE=URI;X-ADDRESS=Quincy Municipal Airport 1300 Airport Drive Quincy FL 32352;X-APPLE-RADIUS=500;X-TITLE=1300 Airport Drive:geo:-84.5536485,30.5984033
END:VEVENT
BEGIN:VEVENT
DTSTART;TZID=America/New_York:20291110T080000
DTEND;TZID=America/New_York:20291110T110000
DTSTAMP:20260423T224003
CREATED:20251215T130552Z
LAST-MODIFIED:20251215T130553Z
UID:10005789-1888992000-1889002800@av8maps.com
SUMMARY:Annual Fly-in and Pilot Workshop (2J9)
DESCRIPTION:Pancake and sausage breakfast followed by an informative AOPA Presentation!!
URL:https://av8maps.com/event/2j9-breakfast-new-parking-apron-fly-drive-in-2/2029-11-10/
LOCATION:Quincy Municipal Airport\, 1300 Airport Drive\, Quincy\, FL\, 32352
ATTACH;FMTTYPE=image/jpeg:https://av8maps.com/wp-content/uploads/2025/11/Annual-Fly-in-2J9-e1762824579581.jpg
GEO:30.5984033;-84.5536485
X-APPLE-STRUCTURED-LOCATION;VALUE=URI;X-ADDRESS=Quincy Municipal Airport 1300 Airport Drive Quincy FL 32352;X-APPLE-RADIUS=500;X-TITLE=1300 Airport Drive:geo:-84.5536485,30.5984033
END:VEVENT
BEGIN:VEVENT
DTSTART;TZID=America/New_York:20291114T110000
DTEND;TZID=America/New_York:20291114T123000
DTSTAMP:20260423T224003
CREATED:20251110T120809Z
LAST-MODIFIED:20260311T011529Z
UID:10005344-1889348400-1889353800@av8maps.com
SUMMARY:Every Wednesday Dawg Flight Grill (2J9)
DESCRIPTION:We grill burgers and dogs on Wednesday’s \nNeed additional info please contact Manager Lee Woodruff 1-850-363-2083
URL:https://av8maps.com/event/every-wednesday-dawg-flight-grill-2j9/2029-11-14/
LOCATION:Quincy Municipal Airport\, 1300 Airport Drive\, Quincy\, FL\, 32352
ATTACH;FMTTYPE=image/png:https://av8maps.com/wp-content/uploads/2025/11/Quincy-Municipal-Airport-2J9-e1769478755190.png
GEO:30.5984033;-84.5536485
X-APPLE-STRUCTURED-LOCATION;VALUE=URI;X-ADDRESS=Quincy Municipal Airport 1300 Airport Drive Quincy FL 32352;X-APPLE-RADIUS=500;X-TITLE=1300 Airport Drive:geo:-84.5536485,30.5984033
END:VEVENT
BEGIN:VEVENT
DTSTART;TZID=America/New_York:20291121T110000
DTEND;TZID=America/New_York:20291121T123000
DTSTAMP:20260423T224003
CREATED:20251110T120809Z
LAST-MODIFIED:20260311T011529Z
UID:10005345-1889953200-1889958600@av8maps.com
SUMMARY:Every Wednesday Dawg Flight Grill (2J9)
DESCRIPTION:We grill burgers and dogs on Wednesday’s \nNeed additional info please contact Manager Lee Woodruff 1-850-363-2083
URL:https://av8maps.com/event/every-wednesday-dawg-flight-grill-2j9/2029-11-21/
LOCATION:Quincy Municipal Airport\, 1300 Airport Drive\, Quincy\, FL\, 32352
ATTACH;FMTTYPE=image/png:https://av8maps.com/wp-content/uploads/2025/11/Quincy-Municipal-Airport-2J9-e1769478755190.png
GEO:30.5984033;-84.5536485
X-APPLE-STRUCTURED-LOCATION;VALUE=URI;X-ADDRESS=Quincy Municipal Airport 1300 Airport Drive Quincy FL 32352;X-APPLE-RADIUS=500;X-TITLE=1300 Airport Drive:geo:-84.5536485,30.5984033
END:VEVENT
BEGIN:VEVENT
DTSTART;TZID=America/New_York:20291128T110000
DTEND;TZID=America/New_York:20291128T123000
DTSTAMP:20260423T224003
CREATED:20251110T120809Z
LAST-MODIFIED:20260311T011529Z
UID:10005346-1890558000-1890563400@av8maps.com
SUMMARY:Every Wednesday Dawg Flight Grill (2J9)
DESCRIPTION:We grill burgers and dogs on Wednesday’s \nNeed additional info please contact Manager Lee Woodruff 1-850-363-2083
URL:https://av8maps.com/event/every-wednesday-dawg-flight-grill-2j9/2029-11-28/
LOCATION:Quincy Municipal Airport\, 1300 Airport Drive\, Quincy\, FL\, 32352
ATTACH;FMTTYPE=image/png:https://av8maps.com/wp-content/uploads/2025/11/Quincy-Municipal-Airport-2J9-e1769478755190.png
GEO:30.5984033;-84.5536485
X-APPLE-STRUCTURED-LOCATION;VALUE=URI;X-ADDRESS=Quincy Municipal Airport 1300 Airport Drive Quincy FL 32352;X-APPLE-RADIUS=500;X-TITLE=1300 Airport Drive:geo:-84.5536485,30.5984033
END:VEVENT
BEGIN:VEVENT
DTSTART;TZID=America/New_York:20291205T110000
DTEND;TZID=America/New_York:20291205T123000
DTSTAMP:20260423T224003
CREATED:20251110T120809Z
LAST-MODIFIED:20260311T011529Z
UID:10005347-1891162800-1891168200@av8maps.com
SUMMARY:Every Wednesday Dawg Flight Grill (2J9)
DESCRIPTION:We grill burgers and dogs on Wednesday’s \nNeed additional info please contact Manager Lee Woodruff 1-850-363-2083
URL:https://av8maps.com/event/every-wednesday-dawg-flight-grill-2j9/2029-12-05/
LOCATION:Quincy Municipal Airport\, 1300 Airport Drive\, Quincy\, FL\, 32352
ATTACH;FMTTYPE=image/png:https://av8maps.com/wp-content/uploads/2025/11/Quincy-Municipal-Airport-2J9-e1769478755190.png
GEO:30.5984033;-84.5536485
X-APPLE-STRUCTURED-LOCATION;VALUE=URI;X-ADDRESS=Quincy Municipal Airport 1300 Airport Drive Quincy FL 32352;X-APPLE-RADIUS=500;X-TITLE=1300 Airport Drive:geo:-84.5536485,30.5984033
END:VEVENT
BEGIN:VEVENT
DTSTART;TZID=America/New_York:20291212T110000
DTEND;TZID=America/New_York:20291212T123000
DTSTAMP:20260423T224003
CREATED:20251110T120809Z
LAST-MODIFIED:20260311T011529Z
UID:10005348-1891767600-1891773000@av8maps.com
SUMMARY:Every Wednesday Dawg Flight Grill (2J9)
DESCRIPTION:We grill burgers and dogs on Wednesday’s \nNeed additional info please contact Manager Lee Woodruff 1-850-363-2083
URL:https://av8maps.com/event/every-wednesday-dawg-flight-grill-2j9/2029-12-12/
LOCATION:Quincy Municipal Airport\, 1300 Airport Drive\, Quincy\, FL\, 32352
ATTACH;FMTTYPE=image/png:https://av8maps.com/wp-content/uploads/2025/11/Quincy-Municipal-Airport-2J9-e1769478755190.png
GEO:30.5984033;-84.5536485
X-APPLE-STRUCTURED-LOCATION;VALUE=URI;X-ADDRESS=Quincy Municipal Airport 1300 Airport Drive Quincy FL 32352;X-APPLE-RADIUS=500;X-TITLE=1300 Airport Drive:geo:-84.5536485,30.5984033
END:VEVENT
BEGIN:VEVENT
DTSTART;TZID=America/New_York:20291219T110000
DTEND;TZID=America/New_York:20291219T123000
DTSTAMP:20260423T224003
CREATED:20251110T120809Z
LAST-MODIFIED:20260311T011529Z
UID:10005349-1892372400-1892377800@av8maps.com
SUMMARY:Every Wednesday Dawg Flight Grill (2J9)
DESCRIPTION:We grill burgers and dogs on Wednesday’s \nNeed additional info please contact Manager Lee Woodruff 1-850-363-2083
URL:https://av8maps.com/event/every-wednesday-dawg-flight-grill-2j9/2029-12-19/
LOCATION:Quincy Municipal Airport\, 1300 Airport Drive\, Quincy\, FL\, 32352
ATTACH;FMTTYPE=image/png:https://av8maps.com/wp-content/uploads/2025/11/Quincy-Municipal-Airport-2J9-e1769478755190.png
GEO:30.5984033;-84.5536485
X-APPLE-STRUCTURED-LOCATION;VALUE=URI;X-ADDRESS=Quincy Municipal Airport 1300 Airport Drive Quincy FL 32352;X-APPLE-RADIUS=500;X-TITLE=1300 Airport Drive:geo:-84.5536485,30.5984033
END:VEVENT
BEGIN:VEVENT
DTSTART;TZID=America/New_York:20291226T110000
DTEND;TZID=America/New_York:20291226T123000
DTSTAMP:20260423T224003
CREATED:20251110T120809Z
LAST-MODIFIED:20260311T011529Z
UID:10005350-1892977200-1892982600@av8maps.com
SUMMARY:Every Wednesday Dawg Flight Grill (2J9)
DESCRIPTION:We grill burgers and dogs on Wednesday’s \nNeed additional info please contact Manager Lee Woodruff 1-850-363-2083
URL:https://av8maps.com/event/every-wednesday-dawg-flight-grill-2j9/2029-12-26/
LOCATION:Quincy Municipal Airport\, 1300 Airport Drive\, Quincy\, FL\, 32352
ATTACH;FMTTYPE=image/png:https://av8maps.com/wp-content/uploads/2025/11/Quincy-Municipal-Airport-2J9-e1769478755190.png
GEO:30.5984033;-84.5536485
X-APPLE-STRUCTURED-LOCATION;VALUE=URI;X-ADDRESS=Quincy Municipal Airport 1300 Airport Drive Quincy FL 32352;X-APPLE-RADIUS=500;X-TITLE=1300 Airport Drive:geo:-84.5536485,30.5984033
END:VEVENT
BEGIN:VEVENT
DTSTART;TZID=America/New_York:20300102T110000
DTEND;TZID=America/New_York:20300102T123000
DTSTAMP:20260423T224003
CREATED:20251110T120809Z
LAST-MODIFIED:20260311T011529Z
UID:10005351-1893582000-1893587400@av8maps.com
SUMMARY:Every Wednesday Dawg Flight Grill (2J9)
DESCRIPTION:We grill burgers and dogs on Wednesday’s \nNeed additional info please contact Manager Lee Woodruff 1-850-363-2083
URL:https://av8maps.com/event/every-wednesday-dawg-flight-grill-2j9/2030-01-02/
LOCATION:Quincy Municipal Airport\, 1300 Airport Drive\, Quincy\, FL\, 32352
ATTACH;FMTTYPE=image/png:https://av8maps.com/wp-content/uploads/2025/11/Quincy-Municipal-Airport-2J9-e1769478755190.png
GEO:30.5984033;-84.5536485
X-APPLE-STRUCTURED-LOCATION;VALUE=URI;X-ADDRESS=Quincy Municipal Airport 1300 Airport Drive Quincy FL 32352;X-APPLE-RADIUS=500;X-TITLE=1300 Airport Drive:geo:-84.5536485,30.5984033
END:VEVENT
BEGIN:VEVENT
DTSTART;TZID=America/New_York:20300109T110000
DTEND;TZID=America/New_York:20300109T123000
DTSTAMP:20260423T224003
CREATED:20251110T120809Z
LAST-MODIFIED:20260311T011529Z
UID:10005352-1894186800-1894192200@av8maps.com
SUMMARY:Every Wednesday Dawg Flight Grill (2J9)
DESCRIPTION:We grill burgers and dogs on Wednesday’s \nNeed additional info please contact Manager Lee Woodruff 1-850-363-2083
URL:https://av8maps.com/event/every-wednesday-dawg-flight-grill-2j9/2030-01-09/
LOCATION:Quincy Municipal Airport\, 1300 Airport Drive\, Quincy\, FL\, 32352
ATTACH;FMTTYPE=image/png:https://av8maps.com/wp-content/uploads/2025/11/Quincy-Municipal-Airport-2J9-e1769478755190.png
GEO:30.5984033;-84.5536485
X-APPLE-STRUCTURED-LOCATION;VALUE=URI;X-ADDRESS=Quincy Municipal Airport 1300 Airport Drive Quincy FL 32352;X-APPLE-RADIUS=500;X-TITLE=1300 Airport Drive:geo:-84.5536485,30.5984033
END:VEVENT
BEGIN:VEVENT
DTSTART;TZID=America/New_York:20300116T110000
DTEND;TZID=America/New_York:20300116T123000
DTSTAMP:20260423T224003
CREATED:20251110T120809Z
LAST-MODIFIED:20260311T011529Z
UID:10005353-1894791600-1894797000@av8maps.com
SUMMARY:Every Wednesday Dawg Flight Grill (2J9)
DESCRIPTION:We grill burgers and dogs on Wednesday’s \nNeed additional info please contact Manager Lee Woodruff 1-850-363-2083
URL:https://av8maps.com/event/every-wednesday-dawg-flight-grill-2j9/2030-01-16/
LOCATION:Quincy Municipal Airport\, 1300 Airport Drive\, Quincy\, FL\, 32352
ATTACH;FMTTYPE=image/png:https://av8maps.com/wp-content/uploads/2025/11/Quincy-Municipal-Airport-2J9-e1769478755190.png
GEO:30.5984033;-84.5536485
X-APPLE-STRUCTURED-LOCATION;VALUE=URI;X-ADDRESS=Quincy Municipal Airport 1300 Airport Drive Quincy FL 32352;X-APPLE-RADIUS=500;X-TITLE=1300 Airport Drive:geo:-84.5536485,30.5984033
END:VEVENT
BEGIN:VEVENT
DTSTART;TZID=America/New_York:20300123T110000
DTEND;TZID=America/New_York:20300123T123000
DTSTAMP:20260423T224003
CREATED:20251110T120809Z
LAST-MODIFIED:20260311T011529Z
UID:10005354-1895396400-1895401800@av8maps.com
SUMMARY:Every Wednesday Dawg Flight Grill (2J9)
DESCRIPTION:We grill burgers and dogs on Wednesday’s \nNeed additional info please contact Manager Lee Woodruff 1-850-363-2083
URL:https://av8maps.com/event/every-wednesday-dawg-flight-grill-2j9/2030-01-23/
LOCATION:Quincy Municipal Airport\, 1300 Airport Drive\, Quincy\, FL\, 32352
ATTACH;FMTTYPE=image/png:https://av8maps.com/wp-content/uploads/2025/11/Quincy-Municipal-Airport-2J9-e1769478755190.png
GEO:30.5984033;-84.5536485
X-APPLE-STRUCTURED-LOCATION;VALUE=URI;X-ADDRESS=Quincy Municipal Airport 1300 Airport Drive Quincy FL 32352;X-APPLE-RADIUS=500;X-TITLE=1300 Airport Drive:geo:-84.5536485,30.5984033
END:VEVENT
BEGIN:VEVENT
DTSTART;TZID=America/New_York:20300130T110000
DTEND;TZID=America/New_York:20300130T123000
DTSTAMP:20260423T224003
CREATED:20251110T120809Z
LAST-MODIFIED:20260311T011529Z
UID:10005355-1896001200-1896006600@av8maps.com
SUMMARY:Every Wednesday Dawg Flight Grill (2J9)
DESCRIPTION:We grill burgers and dogs on Wednesday’s \nNeed additional info please contact Manager Lee Woodruff 1-850-363-2083
URL:https://av8maps.com/event/every-wednesday-dawg-flight-grill-2j9/2030-01-30/
LOCATION:Quincy Municipal Airport\, 1300 Airport Drive\, Quincy\, FL\, 32352
ATTACH;FMTTYPE=image/png:https://av8maps.com/wp-content/uploads/2025/11/Quincy-Municipal-Airport-2J9-e1769478755190.png
GEO:30.5984033;-84.5536485
X-APPLE-STRUCTURED-LOCATION;VALUE=URI;X-ADDRESS=Quincy Municipal Airport 1300 Airport Drive Quincy FL 32352;X-APPLE-RADIUS=500;X-TITLE=1300 Airport Drive:geo:-84.5536485,30.5984033
END:VEVENT
BEGIN:VEVENT
DTSTART;TZID=America/New_York:20300206T110000
DTEND;TZID=America/New_York:20300206T123000
DTSTAMP:20260423T224003
CREATED:20251110T120809Z
LAST-MODIFIED:20260311T011529Z
UID:10005356-1896606000-1896611400@av8maps.com
SUMMARY:Every Wednesday Dawg Flight Grill (2J9)
DESCRIPTION:We grill burgers and dogs on Wednesday’s \nNeed additional info please contact Manager Lee Woodruff 1-850-363-2083
URL:https://av8maps.com/event/every-wednesday-dawg-flight-grill-2j9/2030-02-06/
LOCATION:Quincy Municipal Airport\, 1300 Airport Drive\, Quincy\, FL\, 32352
ATTACH;FMTTYPE=image/png:https://av8maps.com/wp-content/uploads/2025/11/Quincy-Municipal-Airport-2J9-e1769478755190.png
GEO:30.5984033;-84.5536485
X-APPLE-STRUCTURED-LOCATION;VALUE=URI;X-ADDRESS=Quincy Municipal Airport 1300 Airport Drive Quincy FL 32352;X-APPLE-RADIUS=500;X-TITLE=1300 Airport Drive:geo:-84.5536485,30.5984033
END:VEVENT
BEGIN:VEVENT
DTSTART;TZID=America/New_York:20300213T110000
DTEND;TZID=America/New_York:20300213T123000
DTSTAMP:20260423T224003
CREATED:20251110T120809Z
LAST-MODIFIED:20260311T011529Z
UID:10005357-1897210800-1897216200@av8maps.com
SUMMARY:Every Wednesday Dawg Flight Grill (2J9)
DESCRIPTION:We grill burgers and dogs on Wednesday’s \nNeed additional info please contact Manager Lee Woodruff 1-850-363-2083
URL:https://av8maps.com/event/every-wednesday-dawg-flight-grill-2j9/2030-02-13/
LOCATION:Quincy Municipal Airport\, 1300 Airport Drive\, Quincy\, FL\, 32352
ATTACH;FMTTYPE=image/png:https://av8maps.com/wp-content/uploads/2025/11/Quincy-Municipal-Airport-2J9-e1769478755190.png
GEO:30.5984033;-84.5536485
X-APPLE-STRUCTURED-LOCATION;VALUE=URI;X-ADDRESS=Quincy Municipal Airport 1300 Airport Drive Quincy FL 32352;X-APPLE-RADIUS=500;X-TITLE=1300 Airport Drive:geo:-84.5536485,30.5984033
END:VEVENT
BEGIN:VEVENT
DTSTART;TZID=America/New_York:20300220T110000
DTEND;TZID=America/New_York:20300220T123000
DTSTAMP:20260423T224003
CREATED:20251110T120809Z
LAST-MODIFIED:20260311T011529Z
UID:10005358-1897815600-1897821000@av8maps.com
SUMMARY:Every Wednesday Dawg Flight Grill (2J9)
DESCRIPTION:We grill burgers and dogs on Wednesday’s \nNeed additional info please contact Manager Lee Woodruff 1-850-363-2083
URL:https://av8maps.com/event/every-wednesday-dawg-flight-grill-2j9/2030-02-20/
LOCATION:Quincy Municipal Airport\, 1300 Airport Drive\, Quincy\, FL\, 32352
ATTACH;FMTTYPE=image/png:https://av8maps.com/wp-content/uploads/2025/11/Quincy-Municipal-Airport-2J9-e1769478755190.png
GEO:30.5984033;-84.5536485
X-APPLE-STRUCTURED-LOCATION;VALUE=URI;X-ADDRESS=Quincy Municipal Airport 1300 Airport Drive Quincy FL 32352;X-APPLE-RADIUS=500;X-TITLE=1300 Airport Drive:geo:-84.5536485,30.5984033
END:VEVENT
BEGIN:VEVENT
DTSTART;TZID=America/New_York:20300227T110000
DTEND;TZID=America/New_York:20300227T123000
DTSTAMP:20260423T224003
CREATED:20251110T120809Z
LAST-MODIFIED:20260311T011529Z
UID:10005359-1898420400-1898425800@av8maps.com
SUMMARY:Every Wednesday Dawg Flight Grill (2J9)
DESCRIPTION:We grill burgers and dogs on Wednesday’s \nNeed additional info please contact Manager Lee Woodruff 1-850-363-2083
URL:https://av8maps.com/event/every-wednesday-dawg-flight-grill-2j9/2030-02-27/
LOCATION:Quincy Municipal Airport\, 1300 Airport Drive\, Quincy\, FL\, 32352
ATTACH;FMTTYPE=image/png:https://av8maps.com/wp-content/uploads/2025/11/Quincy-Municipal-Airport-2J9-e1769478755190.png
GEO:30.5984033;-84.5536485
X-APPLE-STRUCTURED-LOCATION;VALUE=URI;X-ADDRESS=Quincy Municipal Airport 1300 Airport Drive Quincy FL 32352;X-APPLE-RADIUS=500;X-TITLE=1300 Airport Drive:geo:-84.5536485,30.5984033
END:VEVENT
BEGIN:VEVENT
DTSTART;TZID=America/New_York:20300306T110000
DTEND;TZID=America/New_York:20300306T123000
DTSTAMP:20260423T224003
CREATED:20251110T120809Z
LAST-MODIFIED:20260311T011529Z
UID:10005360-1899025200-1899030600@av8maps.com
SUMMARY:Every Wednesday Dawg Flight Grill (2J9)
DESCRIPTION:We grill burgers and dogs on Wednesday’s \nNeed additional info please contact Manager Lee Woodruff 1-850-363-2083
URL:https://av8maps.com/event/every-wednesday-dawg-flight-grill-2j9/2030-03-06/
LOCATION:Quincy Municipal Airport\, 1300 Airport Drive\, Quincy\, FL\, 32352
ATTACH;FMTTYPE=image/png:https://av8maps.com/wp-content/uploads/2025/11/Quincy-Municipal-Airport-2J9-e1769478755190.png
GEO:30.5984033;-84.5536485
X-APPLE-STRUCTURED-LOCATION;VALUE=URI;X-ADDRESS=Quincy Municipal Airport 1300 Airport Drive Quincy FL 32352;X-APPLE-RADIUS=500;X-TITLE=1300 Airport Drive:geo:-84.5536485,30.5984033
END:VEVENT
BEGIN:VEVENT
DTSTART;TZID=America/New_York:20300313T110000
DTEND;TZID=America/New_York:20300313T123000
DTSTAMP:20260423T224003
CREATED:20251110T120809Z
LAST-MODIFIED:20260311T011529Z
UID:10005361-1899630000-1899635400@av8maps.com
SUMMARY:Every Wednesday Dawg Flight Grill (2J9)
DESCRIPTION:We grill burgers and dogs on Wednesday’s \nNeed additional info please contact Manager Lee Woodruff 1-850-363-2083
URL:https://av8maps.com/event/every-wednesday-dawg-flight-grill-2j9/2030-03-13/
LOCATION:Quincy Municipal Airport\, 1300 Airport Drive\, Quincy\, FL\, 32352
ATTACH;FMTTYPE=image/png:https://av8maps.com/wp-content/uploads/2025/11/Quincy-Municipal-Airport-2J9-e1769478755190.png
GEO:30.5984033;-84.5536485
X-APPLE-STRUCTURED-LOCATION;VALUE=URI;X-ADDRESS=Quincy Municipal Airport 1300 Airport Drive Quincy FL 32352;X-APPLE-RADIUS=500;X-TITLE=1300 Airport Drive:geo:-84.5536485,30.5984033
END:VEVENT
BEGIN:VEVENT
DTSTART;TZID=America/New_York:20300320T110000
DTEND;TZID=America/New_York:20300320T123000
DTSTAMP:20260423T224003
CREATED:20251110T120809Z
LAST-MODIFIED:20260311T011529Z
UID:10005362-1900234800-1900240200@av8maps.com
SUMMARY:Every Wednesday Dawg Flight Grill (2J9)
DESCRIPTION:We grill burgers and dogs on Wednesday’s \nNeed additional info please contact Manager Lee Woodruff 1-850-363-2083
URL:https://av8maps.com/event/every-wednesday-dawg-flight-grill-2j9/2030-03-20/
LOCATION:Quincy Municipal Airport\, 1300 Airport Drive\, Quincy\, FL\, 32352
ATTACH;FMTTYPE=image/png:https://av8maps.com/wp-content/uploads/2025/11/Quincy-Municipal-Airport-2J9-e1769478755190.png
GEO:30.5984033;-84.5536485
X-APPLE-STRUCTURED-LOCATION;VALUE=URI;X-ADDRESS=Quincy Municipal Airport 1300 Airport Drive Quincy FL 32352;X-APPLE-RADIUS=500;X-TITLE=1300 Airport Drive:geo:-84.5536485,30.5984033
END:VEVENT
BEGIN:VEVENT
DTSTART;TZID=America/New_York:20300327T110000
DTEND;TZID=America/New_York:20300327T123000
DTSTAMP:20260423T224003
CREATED:20251110T120809Z
LAST-MODIFIED:20260311T011529Z
UID:10005363-1900839600-1900845000@av8maps.com
SUMMARY:Every Wednesday Dawg Flight Grill (2J9)
DESCRIPTION:We grill burgers and dogs on Wednesday’s \nNeed additional info please contact Manager Lee Woodruff 1-850-363-2083
URL:https://av8maps.com/event/every-wednesday-dawg-flight-grill-2j9/2030-03-27/
LOCATION:Quincy Municipal Airport\, 1300 Airport Drive\, Quincy\, FL\, 32352
ATTACH;FMTTYPE=image/png:https://av8maps.com/wp-content/uploads/2025/11/Quincy-Municipal-Airport-2J9-e1769478755190.png
GEO:30.5984033;-84.5536485
X-APPLE-STRUCTURED-LOCATION;VALUE=URI;X-ADDRESS=Quincy Municipal Airport 1300 Airport Drive Quincy FL 32352;X-APPLE-RADIUS=500;X-TITLE=1300 Airport Drive:geo:-84.5536485,30.5984033
END:VEVENT
BEGIN:VEVENT
DTSTART;TZID=America/New_York:20300403T110000
DTEND;TZID=America/New_York:20300403T123000
DTSTAMP:20260423T224003
CREATED:20251110T120809Z
LAST-MODIFIED:20260311T011529Z
UID:10005364-1901444400-1901449800@av8maps.com
SUMMARY:Every Wednesday Dawg Flight Grill (2J9)
DESCRIPTION:We grill burgers and dogs on Wednesday’s \nNeed additional info please contact Manager Lee Woodruff 1-850-363-2083
URL:https://av8maps.com/event/every-wednesday-dawg-flight-grill-2j9/2030-04-03/
LOCATION:Quincy Municipal Airport\, 1300 Airport Drive\, Quincy\, FL\, 32352
ATTACH;FMTTYPE=image/png:https://av8maps.com/wp-content/uploads/2025/11/Quincy-Municipal-Airport-2J9-e1769478755190.png
GEO:30.5984033;-84.5536485
X-APPLE-STRUCTURED-LOCATION;VALUE=URI;X-ADDRESS=Quincy Municipal Airport 1300 Airport Drive Quincy FL 32352;X-APPLE-RADIUS=500;X-TITLE=1300 Airport Drive:geo:-84.5536485,30.5984033
END:VEVENT
END:VCALENDAR