BEGIN:VCALENDAR
VERSION:2.0
PRODID:-//AV8MAPS.COM - ECPv6.15.20//NONSGML v1.0//EN
CALSCALE:GREGORIAN
METHOD:PUBLISH
X-ORIGINAL-URL:https://av8maps.com
X-WR-CALDESC:Events for AV8MAPS.COM
REFRESH-INTERVAL;VALUE=DURATION:PT1H
X-Robots-Tag:noindex
X-PUBLISHED-TTL:PT1H
BEGIN:VTIMEZONE
TZID:America/New_York
BEGIN:DAYLIGHT
TZOFFSETFROM:-0500
TZOFFSETTO:-0400
TZNAME:EDT
DTSTART:20290311T070000
END:DAYLIGHT
BEGIN:STANDARD
TZOFFSETFROM:-0400
TZOFFSETTO:-0500
TZNAME:EST
DTSTART:20291104T060000
END:STANDARD
BEGIN:DAYLIGHT
TZOFFSETFROM:-0500
TZOFFSETTO:-0400
TZNAME:EDT
DTSTART:20300310T070000
END:DAYLIGHT
BEGIN:STANDARD
TZOFFSETFROM:-0400
TZOFFSETTO:-0500
TZNAME:EST
DTSTART:20301103T060000
END:STANDARD
BEGIN:DAYLIGHT
TZOFFSETFROM:-0500
TZOFFSETTO:-0400
TZNAME:EDT
DTSTART:20310309T070000
END:DAYLIGHT
BEGIN:STANDARD
TZOFFSETFROM:-0400
TZOFFSETTO:-0500
TZNAME:EST
DTSTART:20311102T060000
END:STANDARD
BEGIN:DAYLIGHT
TZOFFSETFROM:-0500
TZOFFSETTO:-0400
TZNAME:EDT
DTSTART:20320314T070000
END:DAYLIGHT
BEGIN:STANDARD
TZOFFSETFROM:-0400
TZOFFSETTO:-0500
TZNAME:EST
DTSTART:20321107T060000
END:STANDARD
END:VTIMEZONE
BEGIN:VEVENT
DTSTART;TZID=America/New_York:20301106T110000
DTEND;TZID=America/New_York:20301106T123000
DTSTAMP:20260424T031659
CREATED:20251110T120809Z
LAST-MODIFIED:20260311T011529Z
UID:10005395-1920193200-1920198600@av8maps.com
SUMMARY:Every Wednesday Dawg Flight Grill (2J9)
DESCRIPTION:We grill burgers and dogs on Wednesday’s \nNeed additional info please contact Manager Lee Woodruff 1-850-363-2083
URL:https://av8maps.com/event/every-wednesday-dawg-flight-grill-2j9/2030-11-06/
LOCATION:Quincy Municipal Airport\, 1300 Airport Drive\, Quincy\, FL\, 32352
ATTACH;FMTTYPE=image/png:https://av8maps.com/wp-content/uploads/2025/11/Quincy-Municipal-Airport-2J9-e1769478755190.png
GEO:30.5984033;-84.5536485
X-APPLE-STRUCTURED-LOCATION;VALUE=URI;X-ADDRESS=Quincy Municipal Airport 1300 Airport Drive Quincy FL 32352;X-APPLE-RADIUS=500;X-TITLE=1300 Airport Drive:geo:-84.5536485,30.5984033
END:VEVENT
BEGIN:VEVENT
DTSTART;TZID=America/New_York:20301109T080000
DTEND;TZID=America/New_York:20301109T110000
DTSTAMP:20260424T031659
CREATED:20251215T130552Z
LAST-MODIFIED:20251215T130553Z
UID:10005790-1920441600-1920452400@av8maps.com
SUMMARY:Annual Fly-in and Pilot Workshop (2J9)
DESCRIPTION:Pancake and sausage breakfast followed by an informative AOPA Presentation!!
URL:https://av8maps.com/event/2j9-breakfast-new-parking-apron-fly-drive-in-2/2030-11-09/
LOCATION:Quincy Municipal Airport\, 1300 Airport Drive\, Quincy\, FL\, 32352
ATTACH;FMTTYPE=image/jpeg:https://av8maps.com/wp-content/uploads/2025/11/Annual-Fly-in-2J9-e1762824579581.jpg
GEO:30.5984033;-84.5536485
X-APPLE-STRUCTURED-LOCATION;VALUE=URI;X-ADDRESS=Quincy Municipal Airport 1300 Airport Drive Quincy FL 32352;X-APPLE-RADIUS=500;X-TITLE=1300 Airport Drive:geo:-84.5536485,30.5984033
END:VEVENT
BEGIN:VEVENT
DTSTART;TZID=America/New_York:20301113T110000
DTEND;TZID=America/New_York:20301113T123000
DTSTAMP:20260424T031659
CREATED:20251110T120809Z
LAST-MODIFIED:20260311T011529Z
UID:10005985-1920798000-1920803400@av8maps.com
SUMMARY:Every Wednesday Dawg Flight Grill (2J9)
DESCRIPTION:We grill burgers and dogs on Wednesday’s \nNeed additional info please contact Manager Lee Woodruff 1-850-363-2083
URL:https://av8maps.com/event/every-wednesday-dawg-flight-grill-2j9/2030-11-13/
LOCATION:Quincy Municipal Airport\, 1300 Airport Drive\, Quincy\, FL\, 32352
ATTACH;FMTTYPE=image/png:https://av8maps.com/wp-content/uploads/2025/11/Quincy-Municipal-Airport-2J9-e1769478755190.png
GEO:30.5984033;-84.5536485
X-APPLE-STRUCTURED-LOCATION;VALUE=URI;X-ADDRESS=Quincy Municipal Airport 1300 Airport Drive Quincy FL 32352;X-APPLE-RADIUS=500;X-TITLE=1300 Airport Drive:geo:-84.5536485,30.5984033
END:VEVENT
BEGIN:VEVENT
DTSTART;TZID=America/New_York:20301120T110000
DTEND;TZID=America/New_York:20301120T123000
DTSTAMP:20260424T031659
CREATED:20251110T120809Z
LAST-MODIFIED:20260311T011529Z
UID:10005986-1921402800-1921408200@av8maps.com
SUMMARY:Every Wednesday Dawg Flight Grill (2J9)
DESCRIPTION:We grill burgers and dogs on Wednesday’s \nNeed additional info please contact Manager Lee Woodruff 1-850-363-2083
URL:https://av8maps.com/event/every-wednesday-dawg-flight-grill-2j9/2030-11-20/
LOCATION:Quincy Municipal Airport\, 1300 Airport Drive\, Quincy\, FL\, 32352
ATTACH;FMTTYPE=image/png:https://av8maps.com/wp-content/uploads/2025/11/Quincy-Municipal-Airport-2J9-e1769478755190.png
GEO:30.5984033;-84.5536485
X-APPLE-STRUCTURED-LOCATION;VALUE=URI;X-ADDRESS=Quincy Municipal Airport 1300 Airport Drive Quincy FL 32352;X-APPLE-RADIUS=500;X-TITLE=1300 Airport Drive:geo:-84.5536485,30.5984033
END:VEVENT
BEGIN:VEVENT
DTSTART;TZID=America/New_York:20301127T110000
DTEND;TZID=America/New_York:20301127T123000
DTSTAMP:20260424T031659
CREATED:20251110T120809Z
LAST-MODIFIED:20260311T011529Z
UID:10005987-1922007600-1922013000@av8maps.com
SUMMARY:Every Wednesday Dawg Flight Grill (2J9)
DESCRIPTION:We grill burgers and dogs on Wednesday’s \nNeed additional info please contact Manager Lee Woodruff 1-850-363-2083
URL:https://av8maps.com/event/every-wednesday-dawg-flight-grill-2j9/2030-11-27/
LOCATION:Quincy Municipal Airport\, 1300 Airport Drive\, Quincy\, FL\, 32352
ATTACH;FMTTYPE=image/png:https://av8maps.com/wp-content/uploads/2025/11/Quincy-Municipal-Airport-2J9-e1769478755190.png
GEO:30.5984033;-84.5536485
X-APPLE-STRUCTURED-LOCATION;VALUE=URI;X-ADDRESS=Quincy Municipal Airport 1300 Airport Drive Quincy FL 32352;X-APPLE-RADIUS=500;X-TITLE=1300 Airport Drive:geo:-84.5536485,30.5984033
END:VEVENT
BEGIN:VEVENT
DTSTART;TZID=America/New_York:20301204T110000
DTEND;TZID=America/New_York:20301204T123000
DTSTAMP:20260424T031659
CREATED:20251110T120809Z
LAST-MODIFIED:20260311T011529Z
UID:10005988-1922612400-1922617800@av8maps.com
SUMMARY:Every Wednesday Dawg Flight Grill (2J9)
DESCRIPTION:We grill burgers and dogs on Wednesday’s \nNeed additional info please contact Manager Lee Woodruff 1-850-363-2083
URL:https://av8maps.com/event/every-wednesday-dawg-flight-grill-2j9/2030-12-04/
LOCATION:Quincy Municipal Airport\, 1300 Airport Drive\, Quincy\, FL\, 32352
ATTACH;FMTTYPE=image/png:https://av8maps.com/wp-content/uploads/2025/11/Quincy-Municipal-Airport-2J9-e1769478755190.png
GEO:30.5984033;-84.5536485
X-APPLE-STRUCTURED-LOCATION;VALUE=URI;X-ADDRESS=Quincy Municipal Airport 1300 Airport Drive Quincy FL 32352;X-APPLE-RADIUS=500;X-TITLE=1300 Airport Drive:geo:-84.5536485,30.5984033
END:VEVENT
BEGIN:VEVENT
DTSTART;TZID=America/New_York:20301211T110000
DTEND;TZID=America/New_York:20301211T123000
DTSTAMP:20260424T031659
CREATED:20251110T120809Z
LAST-MODIFIED:20260311T011529Z
UID:10005989-1923217200-1923222600@av8maps.com
SUMMARY:Every Wednesday Dawg Flight Grill (2J9)
DESCRIPTION:We grill burgers and dogs on Wednesday’s \nNeed additional info please contact Manager Lee Woodruff 1-850-363-2083
URL:https://av8maps.com/event/every-wednesday-dawg-flight-grill-2j9/2030-12-11/
LOCATION:Quincy Municipal Airport\, 1300 Airport Drive\, Quincy\, FL\, 32352
ATTACH;FMTTYPE=image/png:https://av8maps.com/wp-content/uploads/2025/11/Quincy-Municipal-Airport-2J9-e1769478755190.png
GEO:30.5984033;-84.5536485
X-APPLE-STRUCTURED-LOCATION;VALUE=URI;X-ADDRESS=Quincy Municipal Airport 1300 Airport Drive Quincy FL 32352;X-APPLE-RADIUS=500;X-TITLE=1300 Airport Drive:geo:-84.5536485,30.5984033
END:VEVENT
BEGIN:VEVENT
DTSTART;TZID=America/New_York:20301218T110000
DTEND;TZID=America/New_York:20301218T123000
DTSTAMP:20260424T031659
CREATED:20251110T120809Z
LAST-MODIFIED:20260311T011529Z
UID:10005990-1923822000-1923827400@av8maps.com
SUMMARY:Every Wednesday Dawg Flight Grill (2J9)
DESCRIPTION:We grill burgers and dogs on Wednesday’s \nNeed additional info please contact Manager Lee Woodruff 1-850-363-2083
URL:https://av8maps.com/event/every-wednesday-dawg-flight-grill-2j9/2030-12-18/
LOCATION:Quincy Municipal Airport\, 1300 Airport Drive\, Quincy\, FL\, 32352
ATTACH;FMTTYPE=image/png:https://av8maps.com/wp-content/uploads/2025/11/Quincy-Municipal-Airport-2J9-e1769478755190.png
GEO:30.5984033;-84.5536485
X-APPLE-STRUCTURED-LOCATION;VALUE=URI;X-ADDRESS=Quincy Municipal Airport 1300 Airport Drive Quincy FL 32352;X-APPLE-RADIUS=500;X-TITLE=1300 Airport Drive:geo:-84.5536485,30.5984033
END:VEVENT
BEGIN:VEVENT
DTSTART;TZID=America/New_York:20301225T110000
DTEND;TZID=America/New_York:20301225T123000
DTSTAMP:20260424T031659
CREATED:20251110T120809Z
LAST-MODIFIED:20260311T011529Z
UID:10005991-1924426800-1924432200@av8maps.com
SUMMARY:Every Wednesday Dawg Flight Grill (2J9)
DESCRIPTION:We grill burgers and dogs on Wednesday’s \nNeed additional info please contact Manager Lee Woodruff 1-850-363-2083
URL:https://av8maps.com/event/every-wednesday-dawg-flight-grill-2j9/2030-12-25/
LOCATION:Quincy Municipal Airport\, 1300 Airport Drive\, Quincy\, FL\, 32352
ATTACH;FMTTYPE=image/png:https://av8maps.com/wp-content/uploads/2025/11/Quincy-Municipal-Airport-2J9-e1769478755190.png
GEO:30.5984033;-84.5536485
X-APPLE-STRUCTURED-LOCATION;VALUE=URI;X-ADDRESS=Quincy Municipal Airport 1300 Airport Drive Quincy FL 32352;X-APPLE-RADIUS=500;X-TITLE=1300 Airport Drive:geo:-84.5536485,30.5984033
END:VEVENT
BEGIN:VEVENT
DTSTART;TZID=America/New_York:20310101T110000
DTEND;TZID=America/New_York:20310101T123000
DTSTAMP:20260424T031700
CREATED:20251110T120809Z
LAST-MODIFIED:20260311T011529Z
UID:10005992-1925031600-1925037000@av8maps.com
SUMMARY:Every Wednesday Dawg Flight Grill (2J9)
DESCRIPTION:We grill burgers and dogs on Wednesday’s \nNeed additional info please contact Manager Lee Woodruff 1-850-363-2083
URL:https://av8maps.com/event/every-wednesday-dawg-flight-grill-2j9/2031-01-01/
LOCATION:Quincy Municipal Airport\, 1300 Airport Drive\, Quincy\, FL\, 32352
ATTACH;FMTTYPE=image/png:https://av8maps.com/wp-content/uploads/2025/11/Quincy-Municipal-Airport-2J9-e1769478755190.png
GEO:30.5984033;-84.5536485
X-APPLE-STRUCTURED-LOCATION;VALUE=URI;X-ADDRESS=Quincy Municipal Airport 1300 Airport Drive Quincy FL 32352;X-APPLE-RADIUS=500;X-TITLE=1300 Airport Drive:geo:-84.5536485,30.5984033
END:VEVENT
BEGIN:VEVENT
DTSTART;TZID=America/New_York:20310108T110000
DTEND;TZID=America/New_York:20310108T123000
DTSTAMP:20260424T031700
CREATED:20251110T120809Z
LAST-MODIFIED:20260311T011529Z
UID:10005993-1925636400-1925641800@av8maps.com
SUMMARY:Every Wednesday Dawg Flight Grill (2J9)
DESCRIPTION:We grill burgers and dogs on Wednesday’s \nNeed additional info please contact Manager Lee Woodruff 1-850-363-2083
URL:https://av8maps.com/event/every-wednesday-dawg-flight-grill-2j9/2031-01-08/
LOCATION:Quincy Municipal Airport\, 1300 Airport Drive\, Quincy\, FL\, 32352
ATTACH;FMTTYPE=image/png:https://av8maps.com/wp-content/uploads/2025/11/Quincy-Municipal-Airport-2J9-e1769478755190.png
GEO:30.5984033;-84.5536485
X-APPLE-STRUCTURED-LOCATION;VALUE=URI;X-ADDRESS=Quincy Municipal Airport 1300 Airport Drive Quincy FL 32352;X-APPLE-RADIUS=500;X-TITLE=1300 Airport Drive:geo:-84.5536485,30.5984033
END:VEVENT
BEGIN:VEVENT
DTSTART;TZID=America/New_York:20310115T110000
DTEND;TZID=America/New_York:20310115T123000
DTSTAMP:20260424T031700
CREATED:20251110T120809Z
LAST-MODIFIED:20260311T011529Z
UID:10005994-1926241200-1926246600@av8maps.com
SUMMARY:Every Wednesday Dawg Flight Grill (2J9)
DESCRIPTION:We grill burgers and dogs on Wednesday’s \nNeed additional info please contact Manager Lee Woodruff 1-850-363-2083
URL:https://av8maps.com/event/every-wednesday-dawg-flight-grill-2j9/2031-01-15/
LOCATION:Quincy Municipal Airport\, 1300 Airport Drive\, Quincy\, FL\, 32352
ATTACH;FMTTYPE=image/png:https://av8maps.com/wp-content/uploads/2025/11/Quincy-Municipal-Airport-2J9-e1769478755190.png
GEO:30.5984033;-84.5536485
X-APPLE-STRUCTURED-LOCATION;VALUE=URI;X-ADDRESS=Quincy Municipal Airport 1300 Airport Drive Quincy FL 32352;X-APPLE-RADIUS=500;X-TITLE=1300 Airport Drive:geo:-84.5536485,30.5984033
END:VEVENT
BEGIN:VEVENT
DTSTART;TZID=America/New_York:20310122T110000
DTEND;TZID=America/New_York:20310122T123000
DTSTAMP:20260424T031700
CREATED:20251110T120809Z
LAST-MODIFIED:20260311T011529Z
UID:10005995-1926846000-1926851400@av8maps.com
SUMMARY:Every Wednesday Dawg Flight Grill (2J9)
DESCRIPTION:We grill burgers and dogs on Wednesday’s \nNeed additional info please contact Manager Lee Woodruff 1-850-363-2083
URL:https://av8maps.com/event/every-wednesday-dawg-flight-grill-2j9/2031-01-22/
LOCATION:Quincy Municipal Airport\, 1300 Airport Drive\, Quincy\, FL\, 32352
ATTACH;FMTTYPE=image/png:https://av8maps.com/wp-content/uploads/2025/11/Quincy-Municipal-Airport-2J9-e1769478755190.png
GEO:30.5984033;-84.5536485
X-APPLE-STRUCTURED-LOCATION;VALUE=URI;X-ADDRESS=Quincy Municipal Airport 1300 Airport Drive Quincy FL 32352;X-APPLE-RADIUS=500;X-TITLE=1300 Airport Drive:geo:-84.5536485,30.5984033
END:VEVENT
BEGIN:VEVENT
DTSTART;TZID=America/New_York:20310129T110000
DTEND;TZID=America/New_York:20310129T123000
DTSTAMP:20260424T031700
CREATED:20251110T120809Z
LAST-MODIFIED:20260311T011529Z
UID:10006357-1927450800-1927456200@av8maps.com
SUMMARY:Every Wednesday Dawg Flight Grill (2J9)
DESCRIPTION:We grill burgers and dogs on Wednesday’s \nNeed additional info please contact Manager Lee Woodruff 1-850-363-2083
URL:https://av8maps.com/event/every-wednesday-dawg-flight-grill-2j9/2031-01-29/
LOCATION:Quincy Municipal Airport\, 1300 Airport Drive\, Quincy\, FL\, 32352
ATTACH;FMTTYPE=image/png:https://av8maps.com/wp-content/uploads/2025/11/Quincy-Municipal-Airport-2J9-e1769478755190.png
GEO:30.5984033;-84.5536485
X-APPLE-STRUCTURED-LOCATION;VALUE=URI;X-ADDRESS=Quincy Municipal Airport 1300 Airport Drive Quincy FL 32352;X-APPLE-RADIUS=500;X-TITLE=1300 Airport Drive:geo:-84.5536485,30.5984033
END:VEVENT
BEGIN:VEVENT
DTSTART;TZID=America/New_York:20310205T110000
DTEND;TZID=America/New_York:20310205T123000
DTSTAMP:20260424T031700
CREATED:20251110T120809Z
LAST-MODIFIED:20260311T011529Z
UID:10006358-1928055600-1928061000@av8maps.com
SUMMARY:Every Wednesday Dawg Flight Grill (2J9)
DESCRIPTION:We grill burgers and dogs on Wednesday’s \nNeed additional info please contact Manager Lee Woodruff 1-850-363-2083
URL:https://av8maps.com/event/every-wednesday-dawg-flight-grill-2j9/2031-02-05/
LOCATION:Quincy Municipal Airport\, 1300 Airport Drive\, Quincy\, FL\, 32352
ATTACH;FMTTYPE=image/png:https://av8maps.com/wp-content/uploads/2025/11/Quincy-Municipal-Airport-2J9-e1769478755190.png
GEO:30.5984033;-84.5536485
X-APPLE-STRUCTURED-LOCATION;VALUE=URI;X-ADDRESS=Quincy Municipal Airport 1300 Airport Drive Quincy FL 32352;X-APPLE-RADIUS=500;X-TITLE=1300 Airport Drive:geo:-84.5536485,30.5984033
END:VEVENT
BEGIN:VEVENT
DTSTART;TZID=America/New_York:20310212T110000
DTEND;TZID=America/New_York:20310212T123000
DTSTAMP:20260424T031700
CREATED:20251110T120809Z
LAST-MODIFIED:20260311T011529Z
UID:10006359-1928660400-1928665800@av8maps.com
SUMMARY:Every Wednesday Dawg Flight Grill (2J9)
DESCRIPTION:We grill burgers and dogs on Wednesday’s \nNeed additional info please contact Manager Lee Woodruff 1-850-363-2083
URL:https://av8maps.com/event/every-wednesday-dawg-flight-grill-2j9/2031-02-12/
LOCATION:Quincy Municipal Airport\, 1300 Airport Drive\, Quincy\, FL\, 32352
ATTACH;FMTTYPE=image/png:https://av8maps.com/wp-content/uploads/2025/11/Quincy-Municipal-Airport-2J9-e1769478755190.png
GEO:30.5984033;-84.5536485
X-APPLE-STRUCTURED-LOCATION;VALUE=URI;X-ADDRESS=Quincy Municipal Airport 1300 Airport Drive Quincy FL 32352;X-APPLE-RADIUS=500;X-TITLE=1300 Airport Drive:geo:-84.5536485,30.5984033
END:VEVENT
BEGIN:VEVENT
DTSTART;TZID=America/New_York:20310219T110000
DTEND;TZID=America/New_York:20310219T123000
DTSTAMP:20260424T031700
CREATED:20251110T120809Z
LAST-MODIFIED:20260311T011529Z
UID:10006360-1929265200-1929270600@av8maps.com
SUMMARY:Every Wednesday Dawg Flight Grill (2J9)
DESCRIPTION:We grill burgers and dogs on Wednesday’s \nNeed additional info please contact Manager Lee Woodruff 1-850-363-2083
URL:https://av8maps.com/event/every-wednesday-dawg-flight-grill-2j9/2031-02-19/
LOCATION:Quincy Municipal Airport\, 1300 Airport Drive\, Quincy\, FL\, 32352
ATTACH;FMTTYPE=image/png:https://av8maps.com/wp-content/uploads/2025/11/Quincy-Municipal-Airport-2J9-e1769478755190.png
GEO:30.5984033;-84.5536485
X-APPLE-STRUCTURED-LOCATION;VALUE=URI;X-ADDRESS=Quincy Municipal Airport 1300 Airport Drive Quincy FL 32352;X-APPLE-RADIUS=500;X-TITLE=1300 Airport Drive:geo:-84.5536485,30.5984033
END:VEVENT
BEGIN:VEVENT
DTSTART;TZID=America/New_York:20310226T110000
DTEND;TZID=America/New_York:20310226T123000
DTSTAMP:20260424T031700
CREATED:20251110T120809Z
LAST-MODIFIED:20260311T011529Z
UID:10006361-1929870000-1929875400@av8maps.com
SUMMARY:Every Wednesday Dawg Flight Grill (2J9)
DESCRIPTION:We grill burgers and dogs on Wednesday’s \nNeed additional info please contact Manager Lee Woodruff 1-850-363-2083
URL:https://av8maps.com/event/every-wednesday-dawg-flight-grill-2j9/2031-02-26/
LOCATION:Quincy Municipal Airport\, 1300 Airport Drive\, Quincy\, FL\, 32352
ATTACH;FMTTYPE=image/png:https://av8maps.com/wp-content/uploads/2025/11/Quincy-Municipal-Airport-2J9-e1769478755190.png
GEO:30.5984033;-84.5536485
X-APPLE-STRUCTURED-LOCATION;VALUE=URI;X-ADDRESS=Quincy Municipal Airport 1300 Airport Drive Quincy FL 32352;X-APPLE-RADIUS=500;X-TITLE=1300 Airport Drive:geo:-84.5536485,30.5984033
END:VEVENT
BEGIN:VEVENT
DTSTART;TZID=America/New_York:20310305T110000
DTEND;TZID=America/New_York:20310305T123000
DTSTAMP:20260424T031700
CREATED:20251110T120809Z
LAST-MODIFIED:20260311T011529Z
UID:10006362-1930474800-1930480200@av8maps.com
SUMMARY:Every Wednesday Dawg Flight Grill (2J9)
DESCRIPTION:We grill burgers and dogs on Wednesday’s \nNeed additional info please contact Manager Lee Woodruff 1-850-363-2083
URL:https://av8maps.com/event/every-wednesday-dawg-flight-grill-2j9/2031-03-05/
LOCATION:Quincy Municipal Airport\, 1300 Airport Drive\, Quincy\, FL\, 32352
ATTACH;FMTTYPE=image/png:https://av8maps.com/wp-content/uploads/2025/11/Quincy-Municipal-Airport-2J9-e1769478755190.png
GEO:30.5984033;-84.5536485
X-APPLE-STRUCTURED-LOCATION;VALUE=URI;X-ADDRESS=Quincy Municipal Airport 1300 Airport Drive Quincy FL 32352;X-APPLE-RADIUS=500;X-TITLE=1300 Airport Drive:geo:-84.5536485,30.5984033
END:VEVENT
END:VCALENDAR