BEGIN:VCALENDAR
VERSION:2.0
PRODID:-//AV8MAPS.COM - ECPv6.15.20//NONSGML v1.0//EN
CALSCALE:GREGORIAN
METHOD:PUBLISH
X-WR-CALNAME:AV8MAPS.COM
X-ORIGINAL-URL:https://av8maps.com
X-WR-CALDESC:Events for AV8MAPS.COM
REFRESH-INTERVAL;VALUE=DURATION:PT1H
X-Robots-Tag:noindex
X-PUBLISHED-TTL:PT1H
BEGIN:VTIMEZONE
TZID:America/New_York
BEGIN:DAYLIGHT
TZOFFSETFROM:-0500
TZOFFSETTO:-0400
TZNAME:EDT
DTSTART:20260308T070000
END:DAYLIGHT
BEGIN:STANDARD
TZOFFSETFROM:-0400
TZOFFSETTO:-0500
TZNAME:EST
DTSTART:20261101T060000
END:STANDARD
BEGIN:DAYLIGHT
TZOFFSETFROM:-0500
TZOFFSETTO:-0400
TZNAME:EDT
DTSTART:20270314T070000
END:DAYLIGHT
BEGIN:STANDARD
TZOFFSETFROM:-0400
TZOFFSETTO:-0500
TZNAME:EST
DTSTART:20271107T060000
END:STANDARD
BEGIN:DAYLIGHT
TZOFFSETFROM:-0500
TZOFFSETTO:-0400
TZNAME:EDT
DTSTART:20280312T070000
END:DAYLIGHT
BEGIN:STANDARD
TZOFFSETFROM:-0400
TZOFFSETTO:-0500
TZNAME:EST
DTSTART:20281105T060000
END:STANDARD
END:VTIMEZONE
BEGIN:VEVENT
DTSTART;TZID=America/New_York:20270127T110000
DTEND;TZID=America/New_York:20270127T123000
DTSTAMP:20260422T200725
CREATED:20251110T120809Z
LAST-MODIFIED:20260311T011529Z
UID:10005198-1801047600-1801053000@av8maps.com
SUMMARY:Every Wednesday Dawg Flight Grill (2J9)
DESCRIPTION:We grill burgers and dogs on Wednesday’s \nNeed additional info please contact Manager Lee Woodruff 1-850-363-2083
URL:https://av8maps.com/event/every-wednesday-dawg-flight-grill-2j9/2027-01-27/
LOCATION:Quincy Municipal Airport\, 1300 Airport Drive\, Quincy\, FL\, 32352
ATTACH;FMTTYPE=image/png:https://av8maps.com/wp-content/uploads/2025/11/Quincy-Municipal-Airport-2J9-e1769478755190.png
GEO:30.5984033;-84.5536485
X-APPLE-STRUCTURED-LOCATION;VALUE=URI;X-ADDRESS=Quincy Municipal Airport 1300 Airport Drive Quincy FL 32352;X-APPLE-RADIUS=500;X-TITLE=1300 Airport Drive:geo:-84.5536485,30.5984033
END:VEVENT
BEGIN:VEVENT
DTSTART;TZID=America/New_York:20270203T110000
DTEND;TZID=America/New_York:20270203T123000
DTSTAMP:20260422T200725
CREATED:20251110T120809Z
LAST-MODIFIED:20260311T011529Z
UID:10005199-1801652400-1801657800@av8maps.com
SUMMARY:Every Wednesday Dawg Flight Grill (2J9)
DESCRIPTION:We grill burgers and dogs on Wednesday’s \nNeed additional info please contact Manager Lee Woodruff 1-850-363-2083
URL:https://av8maps.com/event/every-wednesday-dawg-flight-grill-2j9/2027-02-03/
LOCATION:Quincy Municipal Airport\, 1300 Airport Drive\, Quincy\, FL\, 32352
ATTACH;FMTTYPE=image/png:https://av8maps.com/wp-content/uploads/2025/11/Quincy-Municipal-Airport-2J9-e1769478755190.png
GEO:30.5984033;-84.5536485
X-APPLE-STRUCTURED-LOCATION;VALUE=URI;X-ADDRESS=Quincy Municipal Airport 1300 Airport Drive Quincy FL 32352;X-APPLE-RADIUS=500;X-TITLE=1300 Airport Drive:geo:-84.5536485,30.5984033
END:VEVENT
BEGIN:VEVENT
DTSTART;TZID=America/New_York:20270210T110000
DTEND;TZID=America/New_York:20270210T123000
DTSTAMP:20260422T200725
CREATED:20251110T120809Z
LAST-MODIFIED:20260311T011529Z
UID:10005200-1802257200-1802262600@av8maps.com
SUMMARY:Every Wednesday Dawg Flight Grill (2J9)
DESCRIPTION:We grill burgers and dogs on Wednesday’s \nNeed additional info please contact Manager Lee Woodruff 1-850-363-2083
URL:https://av8maps.com/event/every-wednesday-dawg-flight-grill-2j9/2027-02-10/
LOCATION:Quincy Municipal Airport\, 1300 Airport Drive\, Quincy\, FL\, 32352
ATTACH;FMTTYPE=image/png:https://av8maps.com/wp-content/uploads/2025/11/Quincy-Municipal-Airport-2J9-e1769478755190.png
GEO:30.5984033;-84.5536485
X-APPLE-STRUCTURED-LOCATION;VALUE=URI;X-ADDRESS=Quincy Municipal Airport 1300 Airport Drive Quincy FL 32352;X-APPLE-RADIUS=500;X-TITLE=1300 Airport Drive:geo:-84.5536485,30.5984033
END:VEVENT
BEGIN:VEVENT
DTSTART;TZID=America/New_York:20270217T110000
DTEND;TZID=America/New_York:20270217T123000
DTSTAMP:20260422T200725
CREATED:20251110T120809Z
LAST-MODIFIED:20260311T011529Z
UID:10005201-1802862000-1802867400@av8maps.com
SUMMARY:Every Wednesday Dawg Flight Grill (2J9)
DESCRIPTION:We grill burgers and dogs on Wednesday’s \nNeed additional info please contact Manager Lee Woodruff 1-850-363-2083
URL:https://av8maps.com/event/every-wednesday-dawg-flight-grill-2j9/2027-02-17/
LOCATION:Quincy Municipal Airport\, 1300 Airport Drive\, Quincy\, FL\, 32352
ATTACH;FMTTYPE=image/png:https://av8maps.com/wp-content/uploads/2025/11/Quincy-Municipal-Airport-2J9-e1769478755190.png
GEO:30.5984033;-84.5536485
X-APPLE-STRUCTURED-LOCATION;VALUE=URI;X-ADDRESS=Quincy Municipal Airport 1300 Airport Drive Quincy FL 32352;X-APPLE-RADIUS=500;X-TITLE=1300 Airport Drive:geo:-84.5536485,30.5984033
END:VEVENT
BEGIN:VEVENT
DTSTART;TZID=America/New_York:20270224T110000
DTEND;TZID=America/New_York:20270224T123000
DTSTAMP:20260422T200725
CREATED:20251110T120809Z
LAST-MODIFIED:20260311T011529Z
UID:10005202-1803466800-1803472200@av8maps.com
SUMMARY:Every Wednesday Dawg Flight Grill (2J9)
DESCRIPTION:We grill burgers and dogs on Wednesday’s \nNeed additional info please contact Manager Lee Woodruff 1-850-363-2083
URL:https://av8maps.com/event/every-wednesday-dawg-flight-grill-2j9/2027-02-24/
LOCATION:Quincy Municipal Airport\, 1300 Airport Drive\, Quincy\, FL\, 32352
ATTACH;FMTTYPE=image/png:https://av8maps.com/wp-content/uploads/2025/11/Quincy-Municipal-Airport-2J9-e1769478755190.png
GEO:30.5984033;-84.5536485
X-APPLE-STRUCTURED-LOCATION;VALUE=URI;X-ADDRESS=Quincy Municipal Airport 1300 Airport Drive Quincy FL 32352;X-APPLE-RADIUS=500;X-TITLE=1300 Airport Drive:geo:-84.5536485,30.5984033
END:VEVENT
BEGIN:VEVENT
DTSTART;TZID=America/New_York:20270303T110000
DTEND;TZID=America/New_York:20270303T123000
DTSTAMP:20260422T200725
CREATED:20251110T120809Z
LAST-MODIFIED:20260311T011529Z
UID:10005203-1804071600-1804077000@av8maps.com
SUMMARY:Every Wednesday Dawg Flight Grill (2J9)
DESCRIPTION:We grill burgers and dogs on Wednesday’s \nNeed additional info please contact Manager Lee Woodruff 1-850-363-2083
URL:https://av8maps.com/event/every-wednesday-dawg-flight-grill-2j9/2027-03-03/
LOCATION:Quincy Municipal Airport\, 1300 Airport Drive\, Quincy\, FL\, 32352
ATTACH;FMTTYPE=image/png:https://av8maps.com/wp-content/uploads/2025/11/Quincy-Municipal-Airport-2J9-e1769478755190.png
GEO:30.5984033;-84.5536485
X-APPLE-STRUCTURED-LOCATION;VALUE=URI;X-ADDRESS=Quincy Municipal Airport 1300 Airport Drive Quincy FL 32352;X-APPLE-RADIUS=500;X-TITLE=1300 Airport Drive:geo:-84.5536485,30.5984033
END:VEVENT
BEGIN:VEVENT
DTSTART;TZID=America/New_York:20270310T110000
DTEND;TZID=America/New_York:20270310T123000
DTSTAMP:20260422T200725
CREATED:20251110T120809Z
LAST-MODIFIED:20260311T011529Z
UID:10005204-1804676400-1804681800@av8maps.com
SUMMARY:Every Wednesday Dawg Flight Grill (2J9)
DESCRIPTION:We grill burgers and dogs on Wednesday’s \nNeed additional info please contact Manager Lee Woodruff 1-850-363-2083
URL:https://av8maps.com/event/every-wednesday-dawg-flight-grill-2j9/2027-03-10/
LOCATION:Quincy Municipal Airport\, 1300 Airport Drive\, Quincy\, FL\, 32352
ATTACH;FMTTYPE=image/png:https://av8maps.com/wp-content/uploads/2025/11/Quincy-Municipal-Airport-2J9-e1769478755190.png
GEO:30.5984033;-84.5536485
X-APPLE-STRUCTURED-LOCATION;VALUE=URI;X-ADDRESS=Quincy Municipal Airport 1300 Airport Drive Quincy FL 32352;X-APPLE-RADIUS=500;X-TITLE=1300 Airport Drive:geo:-84.5536485,30.5984033
END:VEVENT
BEGIN:VEVENT
DTSTART;TZID=America/New_York:20270317T110000
DTEND;TZID=America/New_York:20270317T123000
DTSTAMP:20260422T200725
CREATED:20251110T120809Z
LAST-MODIFIED:20260311T011529Z
UID:10005205-1805281200-1805286600@av8maps.com
SUMMARY:Every Wednesday Dawg Flight Grill (2J9)
DESCRIPTION:We grill burgers and dogs on Wednesday’s \nNeed additional info please contact Manager Lee Woodruff 1-850-363-2083
URL:https://av8maps.com/event/every-wednesday-dawg-flight-grill-2j9/2027-03-17/
LOCATION:Quincy Municipal Airport\, 1300 Airport Drive\, Quincy\, FL\, 32352
ATTACH;FMTTYPE=image/png:https://av8maps.com/wp-content/uploads/2025/11/Quincy-Municipal-Airport-2J9-e1769478755190.png
GEO:30.5984033;-84.5536485
X-APPLE-STRUCTURED-LOCATION;VALUE=URI;X-ADDRESS=Quincy Municipal Airport 1300 Airport Drive Quincy FL 32352;X-APPLE-RADIUS=500;X-TITLE=1300 Airport Drive:geo:-84.5536485,30.5984033
END:VEVENT
BEGIN:VEVENT
DTSTART;TZID=America/New_York:20270324T110000
DTEND;TZID=America/New_York:20270324T123000
DTSTAMP:20260422T200725
CREATED:20251110T120809Z
LAST-MODIFIED:20260311T011529Z
UID:10005206-1805886000-1805891400@av8maps.com
SUMMARY:Every Wednesday Dawg Flight Grill (2J9)
DESCRIPTION:We grill burgers and dogs on Wednesday’s \nNeed additional info please contact Manager Lee Woodruff 1-850-363-2083
URL:https://av8maps.com/event/every-wednesday-dawg-flight-grill-2j9/2027-03-24/
LOCATION:Quincy Municipal Airport\, 1300 Airport Drive\, Quincy\, FL\, 32352
ATTACH;FMTTYPE=image/png:https://av8maps.com/wp-content/uploads/2025/11/Quincy-Municipal-Airport-2J9-e1769478755190.png
GEO:30.5984033;-84.5536485
X-APPLE-STRUCTURED-LOCATION;VALUE=URI;X-ADDRESS=Quincy Municipal Airport 1300 Airport Drive Quincy FL 32352;X-APPLE-RADIUS=500;X-TITLE=1300 Airport Drive:geo:-84.5536485,30.5984033
END:VEVENT
BEGIN:VEVENT
DTSTART;TZID=America/New_York:20270331T110000
DTEND;TZID=America/New_York:20270331T123000
DTSTAMP:20260422T200725
CREATED:20251110T120809Z
LAST-MODIFIED:20260311T011529Z
UID:10005207-1806490800-1806496200@av8maps.com
SUMMARY:Every Wednesday Dawg Flight Grill (2J9)
DESCRIPTION:We grill burgers and dogs on Wednesday’s \nNeed additional info please contact Manager Lee Woodruff 1-850-363-2083
URL:https://av8maps.com/event/every-wednesday-dawg-flight-grill-2j9/2027-03-31/
LOCATION:Quincy Municipal Airport\, 1300 Airport Drive\, Quincy\, FL\, 32352
ATTACH;FMTTYPE=image/png:https://av8maps.com/wp-content/uploads/2025/11/Quincy-Municipal-Airport-2J9-e1769478755190.png
GEO:30.5984033;-84.5536485
X-APPLE-STRUCTURED-LOCATION;VALUE=URI;X-ADDRESS=Quincy Municipal Airport 1300 Airport Drive Quincy FL 32352;X-APPLE-RADIUS=500;X-TITLE=1300 Airport Drive:geo:-84.5536485,30.5984033
END:VEVENT
BEGIN:VEVENT
DTSTART;TZID=America/New_York:20270407T110000
DTEND;TZID=America/New_York:20270407T123000
DTSTAMP:20260422T200725
CREATED:20251110T120809Z
LAST-MODIFIED:20260311T011529Z
UID:10005208-1807095600-1807101000@av8maps.com
SUMMARY:Every Wednesday Dawg Flight Grill (2J9)
DESCRIPTION:We grill burgers and dogs on Wednesday’s \nNeed additional info please contact Manager Lee Woodruff 1-850-363-2083
URL:https://av8maps.com/event/every-wednesday-dawg-flight-grill-2j9/2027-04-07/
LOCATION:Quincy Municipal Airport\, 1300 Airport Drive\, Quincy\, FL\, 32352
ATTACH;FMTTYPE=image/png:https://av8maps.com/wp-content/uploads/2025/11/Quincy-Municipal-Airport-2J9-e1769478755190.png
GEO:30.5984033;-84.5536485
X-APPLE-STRUCTURED-LOCATION;VALUE=URI;X-ADDRESS=Quincy Municipal Airport 1300 Airport Drive Quincy FL 32352;X-APPLE-RADIUS=500;X-TITLE=1300 Airport Drive:geo:-84.5536485,30.5984033
END:VEVENT
BEGIN:VEVENT
DTSTART;TZID=America/New_York:20270414T110000
DTEND;TZID=America/New_York:20270414T123000
DTSTAMP:20260422T200725
CREATED:20251110T120809Z
LAST-MODIFIED:20260311T011529Z
UID:10005209-1807700400-1807705800@av8maps.com
SUMMARY:Every Wednesday Dawg Flight Grill (2J9)
DESCRIPTION:We grill burgers and dogs on Wednesday’s \nNeed additional info please contact Manager Lee Woodruff 1-850-363-2083
URL:https://av8maps.com/event/every-wednesday-dawg-flight-grill-2j9/2027-04-14/
LOCATION:Quincy Municipal Airport\, 1300 Airport Drive\, Quincy\, FL\, 32352
ATTACH;FMTTYPE=image/png:https://av8maps.com/wp-content/uploads/2025/11/Quincy-Municipal-Airport-2J9-e1769478755190.png
GEO:30.5984033;-84.5536485
X-APPLE-STRUCTURED-LOCATION;VALUE=URI;X-ADDRESS=Quincy Municipal Airport 1300 Airport Drive Quincy FL 32352;X-APPLE-RADIUS=500;X-TITLE=1300 Airport Drive:geo:-84.5536485,30.5984033
END:VEVENT
BEGIN:VEVENT
DTSTART;TZID=America/New_York:20270421T110000
DTEND;TZID=America/New_York:20270421T123000
DTSTAMP:20260422T200725
CREATED:20251110T120809Z
LAST-MODIFIED:20260311T011529Z
UID:10005210-1808305200-1808310600@av8maps.com
SUMMARY:Every Wednesday Dawg Flight Grill (2J9)
DESCRIPTION:We grill burgers and dogs on Wednesday’s \nNeed additional info please contact Manager Lee Woodruff 1-850-363-2083
URL:https://av8maps.com/event/every-wednesday-dawg-flight-grill-2j9/2027-04-21/
LOCATION:Quincy Municipal Airport\, 1300 Airport Drive\, Quincy\, FL\, 32352
ATTACH;FMTTYPE=image/png:https://av8maps.com/wp-content/uploads/2025/11/Quincy-Municipal-Airport-2J9-e1769478755190.png
GEO:30.5984033;-84.5536485
X-APPLE-STRUCTURED-LOCATION;VALUE=URI;X-ADDRESS=Quincy Municipal Airport 1300 Airport Drive Quincy FL 32352;X-APPLE-RADIUS=500;X-TITLE=1300 Airport Drive:geo:-84.5536485,30.5984033
END:VEVENT
BEGIN:VEVENT
DTSTART;TZID=America/New_York:20270428T110000
DTEND;TZID=America/New_York:20270428T123000
DTSTAMP:20260422T200725
CREATED:20251110T120809Z
LAST-MODIFIED:20260311T011529Z
UID:10005211-1808910000-1808915400@av8maps.com
SUMMARY:Every Wednesday Dawg Flight Grill (2J9)
DESCRIPTION:We grill burgers and dogs on Wednesday’s \nNeed additional info please contact Manager Lee Woodruff 1-850-363-2083
URL:https://av8maps.com/event/every-wednesday-dawg-flight-grill-2j9/2027-04-28/
LOCATION:Quincy Municipal Airport\, 1300 Airport Drive\, Quincy\, FL\, 32352
ATTACH;FMTTYPE=image/png:https://av8maps.com/wp-content/uploads/2025/11/Quincy-Municipal-Airport-2J9-e1769478755190.png
GEO:30.5984033;-84.5536485
X-APPLE-STRUCTURED-LOCATION;VALUE=URI;X-ADDRESS=Quincy Municipal Airport 1300 Airport Drive Quincy FL 32352;X-APPLE-RADIUS=500;X-TITLE=1300 Airport Drive:geo:-84.5536485,30.5984033
END:VEVENT
BEGIN:VEVENT
DTSTART;TZID=America/New_York:20270505T110000
DTEND;TZID=America/New_York:20270505T123000
DTSTAMP:20260422T200725
CREATED:20251110T120809Z
LAST-MODIFIED:20260311T011529Z
UID:10005212-1809514800-1809520200@av8maps.com
SUMMARY:Every Wednesday Dawg Flight Grill (2J9)
DESCRIPTION:We grill burgers and dogs on Wednesday’s \nNeed additional info please contact Manager Lee Woodruff 1-850-363-2083
URL:https://av8maps.com/event/every-wednesday-dawg-flight-grill-2j9/2027-05-05/
LOCATION:Quincy Municipal Airport\, 1300 Airport Drive\, Quincy\, FL\, 32352
ATTACH;FMTTYPE=image/png:https://av8maps.com/wp-content/uploads/2025/11/Quincy-Municipal-Airport-2J9-e1769478755190.png
GEO:30.5984033;-84.5536485
X-APPLE-STRUCTURED-LOCATION;VALUE=URI;X-ADDRESS=Quincy Municipal Airport 1300 Airport Drive Quincy FL 32352;X-APPLE-RADIUS=500;X-TITLE=1300 Airport Drive:geo:-84.5536485,30.5984033
END:VEVENT
BEGIN:VEVENT
DTSTART;TZID=America/New_York:20270512T110000
DTEND;TZID=America/New_York:20270512T123000
DTSTAMP:20260422T200725
CREATED:20251110T120809Z
LAST-MODIFIED:20260311T011529Z
UID:10005213-1810119600-1810125000@av8maps.com
SUMMARY:Every Wednesday Dawg Flight Grill (2J9)
DESCRIPTION:We grill burgers and dogs on Wednesday’s \nNeed additional info please contact Manager Lee Woodruff 1-850-363-2083
URL:https://av8maps.com/event/every-wednesday-dawg-flight-grill-2j9/2027-05-12/
LOCATION:Quincy Municipal Airport\, 1300 Airport Drive\, Quincy\, FL\, 32352
ATTACH;FMTTYPE=image/png:https://av8maps.com/wp-content/uploads/2025/11/Quincy-Municipal-Airport-2J9-e1769478755190.png
GEO:30.5984033;-84.5536485
X-APPLE-STRUCTURED-LOCATION;VALUE=URI;X-ADDRESS=Quincy Municipal Airport 1300 Airport Drive Quincy FL 32352;X-APPLE-RADIUS=500;X-TITLE=1300 Airport Drive:geo:-84.5536485,30.5984033
END:VEVENT
BEGIN:VEVENT
DTSTART;TZID=America/New_York:20270519T110000
DTEND;TZID=America/New_York:20270519T123000
DTSTAMP:20260422T200725
CREATED:20251110T120809Z
LAST-MODIFIED:20260311T011529Z
UID:10005214-1810724400-1810729800@av8maps.com
SUMMARY:Every Wednesday Dawg Flight Grill (2J9)
DESCRIPTION:We grill burgers and dogs on Wednesday’s \nNeed additional info please contact Manager Lee Woodruff 1-850-363-2083
URL:https://av8maps.com/event/every-wednesday-dawg-flight-grill-2j9/2027-05-19/
LOCATION:Quincy Municipal Airport\, 1300 Airport Drive\, Quincy\, FL\, 32352
ATTACH;FMTTYPE=image/png:https://av8maps.com/wp-content/uploads/2025/11/Quincy-Municipal-Airport-2J9-e1769478755190.png
GEO:30.5984033;-84.5536485
X-APPLE-STRUCTURED-LOCATION;VALUE=URI;X-ADDRESS=Quincy Municipal Airport 1300 Airport Drive Quincy FL 32352;X-APPLE-RADIUS=500;X-TITLE=1300 Airport Drive:geo:-84.5536485,30.5984033
END:VEVENT
BEGIN:VEVENT
DTSTART;TZID=America/New_York:20270526T110000
DTEND;TZID=America/New_York:20270526T123000
DTSTAMP:20260422T200725
CREATED:20251110T120809Z
LAST-MODIFIED:20260311T011529Z
UID:10005215-1811329200-1811334600@av8maps.com
SUMMARY:Every Wednesday Dawg Flight Grill (2J9)
DESCRIPTION:We grill burgers and dogs on Wednesday’s \nNeed additional info please contact Manager Lee Woodruff 1-850-363-2083
URL:https://av8maps.com/event/every-wednesday-dawg-flight-grill-2j9/2027-05-26/
LOCATION:Quincy Municipal Airport\, 1300 Airport Drive\, Quincy\, FL\, 32352
ATTACH;FMTTYPE=image/png:https://av8maps.com/wp-content/uploads/2025/11/Quincy-Municipal-Airport-2J9-e1769478755190.png
GEO:30.5984033;-84.5536485
X-APPLE-STRUCTURED-LOCATION;VALUE=URI;X-ADDRESS=Quincy Municipal Airport 1300 Airport Drive Quincy FL 32352;X-APPLE-RADIUS=500;X-TITLE=1300 Airport Drive:geo:-84.5536485,30.5984033
END:VEVENT
BEGIN:VEVENT
DTSTART;TZID=America/New_York:20270602T110000
DTEND;TZID=America/New_York:20270602T123000
DTSTAMP:20260422T200725
CREATED:20251110T120809Z
LAST-MODIFIED:20260311T011529Z
UID:10005216-1811934000-1811939400@av8maps.com
SUMMARY:Every Wednesday Dawg Flight Grill (2J9)
DESCRIPTION:We grill burgers and dogs on Wednesday’s \nNeed additional info please contact Manager Lee Woodruff 1-850-363-2083
URL:https://av8maps.com/event/every-wednesday-dawg-flight-grill-2j9/2027-06-02/
LOCATION:Quincy Municipal Airport\, 1300 Airport Drive\, Quincy\, FL\, 32352
ATTACH;FMTTYPE=image/png:https://av8maps.com/wp-content/uploads/2025/11/Quincy-Municipal-Airport-2J9-e1769478755190.png
GEO:30.5984033;-84.5536485
X-APPLE-STRUCTURED-LOCATION;VALUE=URI;X-ADDRESS=Quincy Municipal Airport 1300 Airport Drive Quincy FL 32352;X-APPLE-RADIUS=500;X-TITLE=1300 Airport Drive:geo:-84.5536485,30.5984033
END:VEVENT
BEGIN:VEVENT
DTSTART;TZID=America/New_York:20270609T110000
DTEND;TZID=America/New_York:20270609T123000
DTSTAMP:20260422T200725
CREATED:20251110T120809Z
LAST-MODIFIED:20260311T011529Z
UID:10005217-1812538800-1812544200@av8maps.com
SUMMARY:Every Wednesday Dawg Flight Grill (2J9)
DESCRIPTION:We grill burgers and dogs on Wednesday’s \nNeed additional info please contact Manager Lee Woodruff 1-850-363-2083
URL:https://av8maps.com/event/every-wednesday-dawg-flight-grill-2j9/2027-06-09/
LOCATION:Quincy Municipal Airport\, 1300 Airport Drive\, Quincy\, FL\, 32352
ATTACH;FMTTYPE=image/png:https://av8maps.com/wp-content/uploads/2025/11/Quincy-Municipal-Airport-2J9-e1769478755190.png
GEO:30.5984033;-84.5536485
X-APPLE-STRUCTURED-LOCATION;VALUE=URI;X-ADDRESS=Quincy Municipal Airport 1300 Airport Drive Quincy FL 32352;X-APPLE-RADIUS=500;X-TITLE=1300 Airport Drive:geo:-84.5536485,30.5984033
END:VEVENT
BEGIN:VEVENT
DTSTART;TZID=America/New_York:20270616T110000
DTEND;TZID=America/New_York:20270616T123000
DTSTAMP:20260422T200725
CREATED:20251110T120809Z
LAST-MODIFIED:20260311T011529Z
UID:10005218-1813143600-1813149000@av8maps.com
SUMMARY:Every Wednesday Dawg Flight Grill (2J9)
DESCRIPTION:We grill burgers and dogs on Wednesday’s \nNeed additional info please contact Manager Lee Woodruff 1-850-363-2083
URL:https://av8maps.com/event/every-wednesday-dawg-flight-grill-2j9/2027-06-16/
LOCATION:Quincy Municipal Airport\, 1300 Airport Drive\, Quincy\, FL\, 32352
ATTACH;FMTTYPE=image/png:https://av8maps.com/wp-content/uploads/2025/11/Quincy-Municipal-Airport-2J9-e1769478755190.png
GEO:30.5984033;-84.5536485
X-APPLE-STRUCTURED-LOCATION;VALUE=URI;X-ADDRESS=Quincy Municipal Airport 1300 Airport Drive Quincy FL 32352;X-APPLE-RADIUS=500;X-TITLE=1300 Airport Drive:geo:-84.5536485,30.5984033
END:VEVENT
BEGIN:VEVENT
DTSTART;TZID=America/New_York:20270623T110000
DTEND;TZID=America/New_York:20270623T123000
DTSTAMP:20260422T200725
CREATED:20251110T120809Z
LAST-MODIFIED:20260311T011529Z
UID:10005219-1813748400-1813753800@av8maps.com
SUMMARY:Every Wednesday Dawg Flight Grill (2J9)
DESCRIPTION:We grill burgers and dogs on Wednesday’s \nNeed additional info please contact Manager Lee Woodruff 1-850-363-2083
URL:https://av8maps.com/event/every-wednesday-dawg-flight-grill-2j9/2027-06-23/
LOCATION:Quincy Municipal Airport\, 1300 Airport Drive\, Quincy\, FL\, 32352
ATTACH;FMTTYPE=image/png:https://av8maps.com/wp-content/uploads/2025/11/Quincy-Municipal-Airport-2J9-e1769478755190.png
GEO:30.5984033;-84.5536485
X-APPLE-STRUCTURED-LOCATION;VALUE=URI;X-ADDRESS=Quincy Municipal Airport 1300 Airport Drive Quincy FL 32352;X-APPLE-RADIUS=500;X-TITLE=1300 Airport Drive:geo:-84.5536485,30.5984033
END:VEVENT
BEGIN:VEVENT
DTSTART;TZID=America/New_York:20270630T110000
DTEND;TZID=America/New_York:20270630T123000
DTSTAMP:20260422T200725
CREATED:20251110T120809Z
LAST-MODIFIED:20260311T011529Z
UID:10005220-1814353200-1814358600@av8maps.com
SUMMARY:Every Wednesday Dawg Flight Grill (2J9)
DESCRIPTION:We grill burgers and dogs on Wednesday’s \nNeed additional info please contact Manager Lee Woodruff 1-850-363-2083
URL:https://av8maps.com/event/every-wednesday-dawg-flight-grill-2j9/2027-06-30/
LOCATION:Quincy Municipal Airport\, 1300 Airport Drive\, Quincy\, FL\, 32352
ATTACH;FMTTYPE=image/png:https://av8maps.com/wp-content/uploads/2025/11/Quincy-Municipal-Airport-2J9-e1769478755190.png
GEO:30.5984033;-84.5536485
X-APPLE-STRUCTURED-LOCATION;VALUE=URI;X-ADDRESS=Quincy Municipal Airport 1300 Airport Drive Quincy FL 32352;X-APPLE-RADIUS=500;X-TITLE=1300 Airport Drive:geo:-84.5536485,30.5984033
END:VEVENT
BEGIN:VEVENT
DTSTART;TZID=America/New_York:20270707T110000
DTEND;TZID=America/New_York:20270707T123000
DTSTAMP:20260422T200725
CREATED:20251110T120809Z
LAST-MODIFIED:20260311T011529Z
UID:10005221-1814958000-1814963400@av8maps.com
SUMMARY:Every Wednesday Dawg Flight Grill (2J9)
DESCRIPTION:We grill burgers and dogs on Wednesday’s \nNeed additional info please contact Manager Lee Woodruff 1-850-363-2083
URL:https://av8maps.com/event/every-wednesday-dawg-flight-grill-2j9/2027-07-07/
LOCATION:Quincy Municipal Airport\, 1300 Airport Drive\, Quincy\, FL\, 32352
ATTACH;FMTTYPE=image/png:https://av8maps.com/wp-content/uploads/2025/11/Quincy-Municipal-Airport-2J9-e1769478755190.png
GEO:30.5984033;-84.5536485
X-APPLE-STRUCTURED-LOCATION;VALUE=URI;X-ADDRESS=Quincy Municipal Airport 1300 Airport Drive Quincy FL 32352;X-APPLE-RADIUS=500;X-TITLE=1300 Airport Drive:geo:-84.5536485,30.5984033
END:VEVENT
BEGIN:VEVENT
DTSTART;TZID=America/New_York:20270714T110000
DTEND;TZID=America/New_York:20270714T123000
DTSTAMP:20260422T200725
CREATED:20251110T120809Z
LAST-MODIFIED:20260311T011529Z
UID:10005222-1815562800-1815568200@av8maps.com
SUMMARY:Every Wednesday Dawg Flight Grill (2J9)
DESCRIPTION:We grill burgers and dogs on Wednesday’s \nNeed additional info please contact Manager Lee Woodruff 1-850-363-2083
URL:https://av8maps.com/event/every-wednesday-dawg-flight-grill-2j9/2027-07-14/
LOCATION:Quincy Municipal Airport\, 1300 Airport Drive\, Quincy\, FL\, 32352
ATTACH;FMTTYPE=image/png:https://av8maps.com/wp-content/uploads/2025/11/Quincy-Municipal-Airport-2J9-e1769478755190.png
GEO:30.5984033;-84.5536485
X-APPLE-STRUCTURED-LOCATION;VALUE=URI;X-ADDRESS=Quincy Municipal Airport 1300 Airport Drive Quincy FL 32352;X-APPLE-RADIUS=500;X-TITLE=1300 Airport Drive:geo:-84.5536485,30.5984033
END:VEVENT
BEGIN:VEVENT
DTSTART;TZID=America/New_York:20270721T110000
DTEND;TZID=America/New_York:20270721T123000
DTSTAMP:20260422T200725
CREATED:20251110T120809Z
LAST-MODIFIED:20260311T011529Z
UID:10005223-1816167600-1816173000@av8maps.com
SUMMARY:Every Wednesday Dawg Flight Grill (2J9)
DESCRIPTION:We grill burgers and dogs on Wednesday’s \nNeed additional info please contact Manager Lee Woodruff 1-850-363-2083
URL:https://av8maps.com/event/every-wednesday-dawg-flight-grill-2j9/2027-07-21/
LOCATION:Quincy Municipal Airport\, 1300 Airport Drive\, Quincy\, FL\, 32352
ATTACH;FMTTYPE=image/png:https://av8maps.com/wp-content/uploads/2025/11/Quincy-Municipal-Airport-2J9-e1769478755190.png
GEO:30.5984033;-84.5536485
X-APPLE-STRUCTURED-LOCATION;VALUE=URI;X-ADDRESS=Quincy Municipal Airport 1300 Airport Drive Quincy FL 32352;X-APPLE-RADIUS=500;X-TITLE=1300 Airport Drive:geo:-84.5536485,30.5984033
END:VEVENT
BEGIN:VEVENT
DTSTART;TZID=America/New_York:20270728T110000
DTEND;TZID=America/New_York:20270728T123000
DTSTAMP:20260422T200725
CREATED:20251110T120809Z
LAST-MODIFIED:20260311T011529Z
UID:10005224-1816772400-1816777800@av8maps.com
SUMMARY:Every Wednesday Dawg Flight Grill (2J9)
DESCRIPTION:We grill burgers and dogs on Wednesday’s \nNeed additional info please contact Manager Lee Woodruff 1-850-363-2083
URL:https://av8maps.com/event/every-wednesday-dawg-flight-grill-2j9/2027-07-28/
LOCATION:Quincy Municipal Airport\, 1300 Airport Drive\, Quincy\, FL\, 32352
ATTACH;FMTTYPE=image/png:https://av8maps.com/wp-content/uploads/2025/11/Quincy-Municipal-Airport-2J9-e1769478755190.png
GEO:30.5984033;-84.5536485
X-APPLE-STRUCTURED-LOCATION;VALUE=URI;X-ADDRESS=Quincy Municipal Airport 1300 Airport Drive Quincy FL 32352;X-APPLE-RADIUS=500;X-TITLE=1300 Airport Drive:geo:-84.5536485,30.5984033
END:VEVENT
BEGIN:VEVENT
DTSTART;TZID=America/New_York:20270804T110000
DTEND;TZID=America/New_York:20270804T123000
DTSTAMP:20260422T200725
CREATED:20251110T120809Z
LAST-MODIFIED:20260311T011529Z
UID:10005225-1817377200-1817382600@av8maps.com
SUMMARY:Every Wednesday Dawg Flight Grill (2J9)
DESCRIPTION:We grill burgers and dogs on Wednesday’s \nNeed additional info please contact Manager Lee Woodruff 1-850-363-2083
URL:https://av8maps.com/event/every-wednesday-dawg-flight-grill-2j9/2027-08-04/
LOCATION:Quincy Municipal Airport\, 1300 Airport Drive\, Quincy\, FL\, 32352
ATTACH;FMTTYPE=image/png:https://av8maps.com/wp-content/uploads/2025/11/Quincy-Municipal-Airport-2J9-e1769478755190.png
GEO:30.5984033;-84.5536485
X-APPLE-STRUCTURED-LOCATION;VALUE=URI;X-ADDRESS=Quincy Municipal Airport 1300 Airport Drive Quincy FL 32352;X-APPLE-RADIUS=500;X-TITLE=1300 Airport Drive:geo:-84.5536485,30.5984033
END:VEVENT
BEGIN:VEVENT
DTSTART;TZID=America/New_York:20270811T110000
DTEND;TZID=America/New_York:20270811T123000
DTSTAMP:20260422T200725
CREATED:20251110T120809Z
LAST-MODIFIED:20260311T011529Z
UID:10005226-1817982000-1817987400@av8maps.com
SUMMARY:Every Wednesday Dawg Flight Grill (2J9)
DESCRIPTION:We grill burgers and dogs on Wednesday’s \nNeed additional info please contact Manager Lee Woodruff 1-850-363-2083
URL:https://av8maps.com/event/every-wednesday-dawg-flight-grill-2j9/2027-08-11/
LOCATION:Quincy Municipal Airport\, 1300 Airport Drive\, Quincy\, FL\, 32352
ATTACH;FMTTYPE=image/png:https://av8maps.com/wp-content/uploads/2025/11/Quincy-Municipal-Airport-2J9-e1769478755190.png
GEO:30.5984033;-84.5536485
X-APPLE-STRUCTURED-LOCATION;VALUE=URI;X-ADDRESS=Quincy Municipal Airport 1300 Airport Drive Quincy FL 32352;X-APPLE-RADIUS=500;X-TITLE=1300 Airport Drive:geo:-84.5536485,30.5984033
END:VEVENT
BEGIN:VEVENT
DTSTART;TZID=America/New_York:20270818T110000
DTEND;TZID=America/New_York:20270818T123000
DTSTAMP:20260422T200725
CREATED:20251110T120809Z
LAST-MODIFIED:20260311T011529Z
UID:10005227-1818586800-1818592200@av8maps.com
SUMMARY:Every Wednesday Dawg Flight Grill (2J9)
DESCRIPTION:We grill burgers and dogs on Wednesday’s \nNeed additional info please contact Manager Lee Woodruff 1-850-363-2083
URL:https://av8maps.com/event/every-wednesday-dawg-flight-grill-2j9/2027-08-18/
LOCATION:Quincy Municipal Airport\, 1300 Airport Drive\, Quincy\, FL\, 32352
ATTACH;FMTTYPE=image/png:https://av8maps.com/wp-content/uploads/2025/11/Quincy-Municipal-Airport-2J9-e1769478755190.png
GEO:30.5984033;-84.5536485
X-APPLE-STRUCTURED-LOCATION;VALUE=URI;X-ADDRESS=Quincy Municipal Airport 1300 Airport Drive Quincy FL 32352;X-APPLE-RADIUS=500;X-TITLE=1300 Airport Drive:geo:-84.5536485,30.5984033
END:VEVENT
END:VCALENDAR