BEGIN:VCALENDAR
VERSION:2.0
PRODID:-//AV8MAPS.COM - ECPv6.15.20//NONSGML v1.0//EN
CALSCALE:GREGORIAN
METHOD:PUBLISH
X-ORIGINAL-URL:https://av8maps.com
X-WR-CALDESC:Events for AV8MAPS.COM
REFRESH-INTERVAL;VALUE=DURATION:PT1H
X-Robots-Tag:noindex
X-PUBLISHED-TTL:PT1H
BEGIN:VTIMEZONE
TZID:America/New_York
BEGIN:DAYLIGHT
TZOFFSETFROM:-0500
TZOFFSETTO:-0400
TZNAME:EDT
DTSTART:20270314T070000
END:DAYLIGHT
BEGIN:STANDARD
TZOFFSETFROM:-0400
TZOFFSETTO:-0500
TZNAME:EST
DTSTART:20271107T060000
END:STANDARD
BEGIN:DAYLIGHT
TZOFFSETFROM:-0500
TZOFFSETTO:-0400
TZNAME:EDT
DTSTART:20280312T070000
END:DAYLIGHT
BEGIN:STANDARD
TZOFFSETFROM:-0400
TZOFFSETTO:-0500
TZNAME:EST
DTSTART:20281105T060000
END:STANDARD
BEGIN:DAYLIGHT
TZOFFSETFROM:-0500
TZOFFSETTO:-0400
TZNAME:EDT
DTSTART:20290311T070000
END:DAYLIGHT
BEGIN:STANDARD
TZOFFSETFROM:-0400
TZOFFSETTO:-0500
TZNAME:EST
DTSTART:20291104T060000
END:STANDARD
END:VTIMEZONE
BEGIN:VEVENT
DTSTART;TZID=America/New_York:20280315T110000
DTEND;TZID=America/New_York:20280315T123000
DTSTAMP:20260423T062833
CREATED:20251110T120809Z
LAST-MODIFIED:20260311T011529Z
UID:10005257-1836730800-1836736200@av8maps.com
SUMMARY:Every Wednesday Dawg Flight Grill (2J9)
DESCRIPTION:We grill burgers and dogs on Wednesday’s \nNeed additional info please contact Manager Lee Woodruff 1-850-363-2083
URL:https://av8maps.com/event/every-wednesday-dawg-flight-grill-2j9/2028-03-15/
LOCATION:Quincy Municipal Airport\, 1300 Airport Drive\, Quincy\, FL\, 32352
ATTACH;FMTTYPE=image/png:https://av8maps.com/wp-content/uploads/2025/11/Quincy-Municipal-Airport-2J9-e1769478755190.png
GEO:30.5984033;-84.5536485
X-APPLE-STRUCTURED-LOCATION;VALUE=URI;X-ADDRESS=Quincy Municipal Airport 1300 Airport Drive Quincy FL 32352;X-APPLE-RADIUS=500;X-TITLE=1300 Airport Drive:geo:-84.5536485,30.5984033
END:VEVENT
BEGIN:VEVENT
DTSTART;TZID=America/New_York:20280322T110000
DTEND;TZID=America/New_York:20280322T123000
DTSTAMP:20260423T062833
CREATED:20251110T120809Z
LAST-MODIFIED:20260311T011529Z
UID:10005258-1837335600-1837341000@av8maps.com
SUMMARY:Every Wednesday Dawg Flight Grill (2J9)
DESCRIPTION:We grill burgers and dogs on Wednesday’s \nNeed additional info please contact Manager Lee Woodruff 1-850-363-2083
URL:https://av8maps.com/event/every-wednesday-dawg-flight-grill-2j9/2028-03-22/
LOCATION:Quincy Municipal Airport\, 1300 Airport Drive\, Quincy\, FL\, 32352
ATTACH;FMTTYPE=image/png:https://av8maps.com/wp-content/uploads/2025/11/Quincy-Municipal-Airport-2J9-e1769478755190.png
GEO:30.5984033;-84.5536485
X-APPLE-STRUCTURED-LOCATION;VALUE=URI;X-ADDRESS=Quincy Municipal Airport 1300 Airport Drive Quincy FL 32352;X-APPLE-RADIUS=500;X-TITLE=1300 Airport Drive:geo:-84.5536485,30.5984033
END:VEVENT
BEGIN:VEVENT
DTSTART;TZID=America/New_York:20280329T110000
DTEND;TZID=America/New_York:20280329T123000
DTSTAMP:20260423T062833
CREATED:20251110T120809Z
LAST-MODIFIED:20260311T011529Z
UID:10005259-1837940400-1837945800@av8maps.com
SUMMARY:Every Wednesday Dawg Flight Grill (2J9)
DESCRIPTION:We grill burgers and dogs on Wednesday’s \nNeed additional info please contact Manager Lee Woodruff 1-850-363-2083
URL:https://av8maps.com/event/every-wednesday-dawg-flight-grill-2j9/2028-03-29/
LOCATION:Quincy Municipal Airport\, 1300 Airport Drive\, Quincy\, FL\, 32352
ATTACH;FMTTYPE=image/png:https://av8maps.com/wp-content/uploads/2025/11/Quincy-Municipal-Airport-2J9-e1769478755190.png
GEO:30.5984033;-84.5536485
X-APPLE-STRUCTURED-LOCATION;VALUE=URI;X-ADDRESS=Quincy Municipal Airport 1300 Airport Drive Quincy FL 32352;X-APPLE-RADIUS=500;X-TITLE=1300 Airport Drive:geo:-84.5536485,30.5984033
END:VEVENT
BEGIN:VEVENT
DTSTART;TZID=America/New_York:20280405T110000
DTEND;TZID=America/New_York:20280405T123000
DTSTAMP:20260423T062833
CREATED:20251110T120809Z
LAST-MODIFIED:20260311T011529Z
UID:10005260-1838545200-1838550600@av8maps.com
SUMMARY:Every Wednesday Dawg Flight Grill (2J9)
DESCRIPTION:We grill burgers and dogs on Wednesday’s \nNeed additional info please contact Manager Lee Woodruff 1-850-363-2083
URL:https://av8maps.com/event/every-wednesday-dawg-flight-grill-2j9/2028-04-05/
LOCATION:Quincy Municipal Airport\, 1300 Airport Drive\, Quincy\, FL\, 32352
ATTACH;FMTTYPE=image/png:https://av8maps.com/wp-content/uploads/2025/11/Quincy-Municipal-Airport-2J9-e1769478755190.png
GEO:30.5984033;-84.5536485
X-APPLE-STRUCTURED-LOCATION;VALUE=URI;X-ADDRESS=Quincy Municipal Airport 1300 Airport Drive Quincy FL 32352;X-APPLE-RADIUS=500;X-TITLE=1300 Airport Drive:geo:-84.5536485,30.5984033
END:VEVENT
BEGIN:VEVENT
DTSTART;TZID=America/New_York:20280412T110000
DTEND;TZID=America/New_York:20280412T123000
DTSTAMP:20260423T062833
CREATED:20251110T120809Z
LAST-MODIFIED:20260311T011529Z
UID:10005261-1839150000-1839155400@av8maps.com
SUMMARY:Every Wednesday Dawg Flight Grill (2J9)
DESCRIPTION:We grill burgers and dogs on Wednesday’s \nNeed additional info please contact Manager Lee Woodruff 1-850-363-2083
URL:https://av8maps.com/event/every-wednesday-dawg-flight-grill-2j9/2028-04-12/
LOCATION:Quincy Municipal Airport\, 1300 Airport Drive\, Quincy\, FL\, 32352
ATTACH;FMTTYPE=image/png:https://av8maps.com/wp-content/uploads/2025/11/Quincy-Municipal-Airport-2J9-e1769478755190.png
GEO:30.5984033;-84.5536485
X-APPLE-STRUCTURED-LOCATION;VALUE=URI;X-ADDRESS=Quincy Municipal Airport 1300 Airport Drive Quincy FL 32352;X-APPLE-RADIUS=500;X-TITLE=1300 Airport Drive:geo:-84.5536485,30.5984033
END:VEVENT
BEGIN:VEVENT
DTSTART;TZID=America/New_York:20280419T110000
DTEND;TZID=America/New_York:20280419T123000
DTSTAMP:20260423T062833
CREATED:20251110T120809Z
LAST-MODIFIED:20260311T011529Z
UID:10005262-1839754800-1839760200@av8maps.com
SUMMARY:Every Wednesday Dawg Flight Grill (2J9)
DESCRIPTION:We grill burgers and dogs on Wednesday’s \nNeed additional info please contact Manager Lee Woodruff 1-850-363-2083
URL:https://av8maps.com/event/every-wednesday-dawg-flight-grill-2j9/2028-04-19/
LOCATION:Quincy Municipal Airport\, 1300 Airport Drive\, Quincy\, FL\, 32352
ATTACH;FMTTYPE=image/png:https://av8maps.com/wp-content/uploads/2025/11/Quincy-Municipal-Airport-2J9-e1769478755190.png
GEO:30.5984033;-84.5536485
X-APPLE-STRUCTURED-LOCATION;VALUE=URI;X-ADDRESS=Quincy Municipal Airport 1300 Airport Drive Quincy FL 32352;X-APPLE-RADIUS=500;X-TITLE=1300 Airport Drive:geo:-84.5536485,30.5984033
END:VEVENT
BEGIN:VEVENT
DTSTART;TZID=America/New_York:20280426T110000
DTEND;TZID=America/New_York:20280426T123000
DTSTAMP:20260423T062833
CREATED:20251110T120809Z
LAST-MODIFIED:20260311T011529Z
UID:10005263-1840359600-1840365000@av8maps.com
SUMMARY:Every Wednesday Dawg Flight Grill (2J9)
DESCRIPTION:We grill burgers and dogs on Wednesday’s \nNeed additional info please contact Manager Lee Woodruff 1-850-363-2083
URL:https://av8maps.com/event/every-wednesday-dawg-flight-grill-2j9/2028-04-26/
LOCATION:Quincy Municipal Airport\, 1300 Airport Drive\, Quincy\, FL\, 32352
ATTACH;FMTTYPE=image/png:https://av8maps.com/wp-content/uploads/2025/11/Quincy-Municipal-Airport-2J9-e1769478755190.png
GEO:30.5984033;-84.5536485
X-APPLE-STRUCTURED-LOCATION;VALUE=URI;X-ADDRESS=Quincy Municipal Airport 1300 Airport Drive Quincy FL 32352;X-APPLE-RADIUS=500;X-TITLE=1300 Airport Drive:geo:-84.5536485,30.5984033
END:VEVENT
BEGIN:VEVENT
DTSTART;TZID=America/New_York:20280503T110000
DTEND;TZID=America/New_York:20280503T123000
DTSTAMP:20260423T062833
CREATED:20251110T120809Z
LAST-MODIFIED:20260311T011529Z
UID:10005264-1840964400-1840969800@av8maps.com
SUMMARY:Every Wednesday Dawg Flight Grill (2J9)
DESCRIPTION:We grill burgers and dogs on Wednesday’s \nNeed additional info please contact Manager Lee Woodruff 1-850-363-2083
URL:https://av8maps.com/event/every-wednesday-dawg-flight-grill-2j9/2028-05-03/
LOCATION:Quincy Municipal Airport\, 1300 Airport Drive\, Quincy\, FL\, 32352
ATTACH;FMTTYPE=image/png:https://av8maps.com/wp-content/uploads/2025/11/Quincy-Municipal-Airport-2J9-e1769478755190.png
GEO:30.5984033;-84.5536485
X-APPLE-STRUCTURED-LOCATION;VALUE=URI;X-ADDRESS=Quincy Municipal Airport 1300 Airport Drive Quincy FL 32352;X-APPLE-RADIUS=500;X-TITLE=1300 Airport Drive:geo:-84.5536485,30.5984033
END:VEVENT
BEGIN:VEVENT
DTSTART;TZID=America/New_York:20280510T110000
DTEND;TZID=America/New_York:20280510T123000
DTSTAMP:20260423T062833
CREATED:20251110T120809Z
LAST-MODIFIED:20260311T011529Z
UID:10005265-1841569200-1841574600@av8maps.com
SUMMARY:Every Wednesday Dawg Flight Grill (2J9)
DESCRIPTION:We grill burgers and dogs on Wednesday’s \nNeed additional info please contact Manager Lee Woodruff 1-850-363-2083
URL:https://av8maps.com/event/every-wednesday-dawg-flight-grill-2j9/2028-05-10/
LOCATION:Quincy Municipal Airport\, 1300 Airport Drive\, Quincy\, FL\, 32352
ATTACH;FMTTYPE=image/png:https://av8maps.com/wp-content/uploads/2025/11/Quincy-Municipal-Airport-2J9-e1769478755190.png
GEO:30.5984033;-84.5536485
X-APPLE-STRUCTURED-LOCATION;VALUE=URI;X-ADDRESS=Quincy Municipal Airport 1300 Airport Drive Quincy FL 32352;X-APPLE-RADIUS=500;X-TITLE=1300 Airport Drive:geo:-84.5536485,30.5984033
END:VEVENT
BEGIN:VEVENT
DTSTART;TZID=America/New_York:20280517T110000
DTEND;TZID=America/New_York:20280517T123000
DTSTAMP:20260423T062833
CREATED:20251110T120809Z
LAST-MODIFIED:20260311T011529Z
UID:10005266-1842174000-1842179400@av8maps.com
SUMMARY:Every Wednesday Dawg Flight Grill (2J9)
DESCRIPTION:We grill burgers and dogs on Wednesday’s \nNeed additional info please contact Manager Lee Woodruff 1-850-363-2083
URL:https://av8maps.com/event/every-wednesday-dawg-flight-grill-2j9/2028-05-17/
LOCATION:Quincy Municipal Airport\, 1300 Airport Drive\, Quincy\, FL\, 32352
ATTACH;FMTTYPE=image/png:https://av8maps.com/wp-content/uploads/2025/11/Quincy-Municipal-Airport-2J9-e1769478755190.png
GEO:30.5984033;-84.5536485
X-APPLE-STRUCTURED-LOCATION;VALUE=URI;X-ADDRESS=Quincy Municipal Airport 1300 Airport Drive Quincy FL 32352;X-APPLE-RADIUS=500;X-TITLE=1300 Airport Drive:geo:-84.5536485,30.5984033
END:VEVENT
BEGIN:VEVENT
DTSTART;TZID=America/New_York:20280524T110000
DTEND;TZID=America/New_York:20280524T123000
DTSTAMP:20260423T062833
CREATED:20251110T120809Z
LAST-MODIFIED:20260311T011529Z
UID:10005267-1842778800-1842784200@av8maps.com
SUMMARY:Every Wednesday Dawg Flight Grill (2J9)
DESCRIPTION:We grill burgers and dogs on Wednesday’s \nNeed additional info please contact Manager Lee Woodruff 1-850-363-2083
URL:https://av8maps.com/event/every-wednesday-dawg-flight-grill-2j9/2028-05-24/
LOCATION:Quincy Municipal Airport\, 1300 Airport Drive\, Quincy\, FL\, 32352
ATTACH;FMTTYPE=image/png:https://av8maps.com/wp-content/uploads/2025/11/Quincy-Municipal-Airport-2J9-e1769478755190.png
GEO:30.5984033;-84.5536485
X-APPLE-STRUCTURED-LOCATION;VALUE=URI;X-ADDRESS=Quincy Municipal Airport 1300 Airport Drive Quincy FL 32352;X-APPLE-RADIUS=500;X-TITLE=1300 Airport Drive:geo:-84.5536485,30.5984033
END:VEVENT
BEGIN:VEVENT
DTSTART;TZID=America/New_York:20280531T110000
DTEND;TZID=America/New_York:20280531T123000
DTSTAMP:20260423T062833
CREATED:20251110T120809Z
LAST-MODIFIED:20260311T011529Z
UID:10005268-1843383600-1843389000@av8maps.com
SUMMARY:Every Wednesday Dawg Flight Grill (2J9)
DESCRIPTION:We grill burgers and dogs on Wednesday’s \nNeed additional info please contact Manager Lee Woodruff 1-850-363-2083
URL:https://av8maps.com/event/every-wednesday-dawg-flight-grill-2j9/2028-05-31/
LOCATION:Quincy Municipal Airport\, 1300 Airport Drive\, Quincy\, FL\, 32352
ATTACH;FMTTYPE=image/png:https://av8maps.com/wp-content/uploads/2025/11/Quincy-Municipal-Airport-2J9-e1769478755190.png
GEO:30.5984033;-84.5536485
X-APPLE-STRUCTURED-LOCATION;VALUE=URI;X-ADDRESS=Quincy Municipal Airport 1300 Airport Drive Quincy FL 32352;X-APPLE-RADIUS=500;X-TITLE=1300 Airport Drive:geo:-84.5536485,30.5984033
END:VEVENT
BEGIN:VEVENT
DTSTART;TZID=America/New_York:20280607T110000
DTEND;TZID=America/New_York:20280607T123000
DTSTAMP:20260423T062833
CREATED:20251110T120809Z
LAST-MODIFIED:20260311T011529Z
UID:10005269-1843988400-1843993800@av8maps.com
SUMMARY:Every Wednesday Dawg Flight Grill (2J9)
DESCRIPTION:We grill burgers and dogs on Wednesday’s \nNeed additional info please contact Manager Lee Woodruff 1-850-363-2083
URL:https://av8maps.com/event/every-wednesday-dawg-flight-grill-2j9/2028-06-07/
LOCATION:Quincy Municipal Airport\, 1300 Airport Drive\, Quincy\, FL\, 32352
ATTACH;FMTTYPE=image/png:https://av8maps.com/wp-content/uploads/2025/11/Quincy-Municipal-Airport-2J9-e1769478755190.png
GEO:30.5984033;-84.5536485
X-APPLE-STRUCTURED-LOCATION;VALUE=URI;X-ADDRESS=Quincy Municipal Airport 1300 Airport Drive Quincy FL 32352;X-APPLE-RADIUS=500;X-TITLE=1300 Airport Drive:geo:-84.5536485,30.5984033
END:VEVENT
BEGIN:VEVENT
DTSTART;TZID=America/New_York:20280614T110000
DTEND;TZID=America/New_York:20280614T123000
DTSTAMP:20260423T062833
CREATED:20251110T120809Z
LAST-MODIFIED:20260311T011529Z
UID:10005270-1844593200-1844598600@av8maps.com
SUMMARY:Every Wednesday Dawg Flight Grill (2J9)
DESCRIPTION:We grill burgers and dogs on Wednesday’s \nNeed additional info please contact Manager Lee Woodruff 1-850-363-2083
URL:https://av8maps.com/event/every-wednesday-dawg-flight-grill-2j9/2028-06-14/
LOCATION:Quincy Municipal Airport\, 1300 Airport Drive\, Quincy\, FL\, 32352
ATTACH;FMTTYPE=image/png:https://av8maps.com/wp-content/uploads/2025/11/Quincy-Municipal-Airport-2J9-e1769478755190.png
GEO:30.5984033;-84.5536485
X-APPLE-STRUCTURED-LOCATION;VALUE=URI;X-ADDRESS=Quincy Municipal Airport 1300 Airport Drive Quincy FL 32352;X-APPLE-RADIUS=500;X-TITLE=1300 Airport Drive:geo:-84.5536485,30.5984033
END:VEVENT
BEGIN:VEVENT
DTSTART;TZID=America/New_York:20280621T110000
DTEND;TZID=America/New_York:20280621T123000
DTSTAMP:20260423T062833
CREATED:20251110T120809Z
LAST-MODIFIED:20260311T011529Z
UID:10005271-1845198000-1845203400@av8maps.com
SUMMARY:Every Wednesday Dawg Flight Grill (2J9)
DESCRIPTION:We grill burgers and dogs on Wednesday’s \nNeed additional info please contact Manager Lee Woodruff 1-850-363-2083
URL:https://av8maps.com/event/every-wednesday-dawg-flight-grill-2j9/2028-06-21/
LOCATION:Quincy Municipal Airport\, 1300 Airport Drive\, Quincy\, FL\, 32352
ATTACH;FMTTYPE=image/png:https://av8maps.com/wp-content/uploads/2025/11/Quincy-Municipal-Airport-2J9-e1769478755190.png
GEO:30.5984033;-84.5536485
X-APPLE-STRUCTURED-LOCATION;VALUE=URI;X-ADDRESS=Quincy Municipal Airport 1300 Airport Drive Quincy FL 32352;X-APPLE-RADIUS=500;X-TITLE=1300 Airport Drive:geo:-84.5536485,30.5984033
END:VEVENT
BEGIN:VEVENT
DTSTART;TZID=America/New_York:20280628T110000
DTEND;TZID=America/New_York:20280628T123000
DTSTAMP:20260423T062833
CREATED:20251110T120809Z
LAST-MODIFIED:20260311T011529Z
UID:10005272-1845802800-1845808200@av8maps.com
SUMMARY:Every Wednesday Dawg Flight Grill (2J9)
DESCRIPTION:We grill burgers and dogs on Wednesday’s \nNeed additional info please contact Manager Lee Woodruff 1-850-363-2083
URL:https://av8maps.com/event/every-wednesday-dawg-flight-grill-2j9/2028-06-28/
LOCATION:Quincy Municipal Airport\, 1300 Airport Drive\, Quincy\, FL\, 32352
ATTACH;FMTTYPE=image/png:https://av8maps.com/wp-content/uploads/2025/11/Quincy-Municipal-Airport-2J9-e1769478755190.png
GEO:30.5984033;-84.5536485
X-APPLE-STRUCTURED-LOCATION;VALUE=URI;X-ADDRESS=Quincy Municipal Airport 1300 Airport Drive Quincy FL 32352;X-APPLE-RADIUS=500;X-TITLE=1300 Airport Drive:geo:-84.5536485,30.5984033
END:VEVENT
BEGIN:VEVENT
DTSTART;TZID=America/New_York:20280705T110000
DTEND;TZID=America/New_York:20280705T123000
DTSTAMP:20260423T062833
CREATED:20251110T120809Z
LAST-MODIFIED:20260311T011529Z
UID:10005273-1846407600-1846413000@av8maps.com
SUMMARY:Every Wednesday Dawg Flight Grill (2J9)
DESCRIPTION:We grill burgers and dogs on Wednesday’s \nNeed additional info please contact Manager Lee Woodruff 1-850-363-2083
URL:https://av8maps.com/event/every-wednesday-dawg-flight-grill-2j9/2028-07-05/
LOCATION:Quincy Municipal Airport\, 1300 Airport Drive\, Quincy\, FL\, 32352
ATTACH;FMTTYPE=image/png:https://av8maps.com/wp-content/uploads/2025/11/Quincy-Municipal-Airport-2J9-e1769478755190.png
GEO:30.5984033;-84.5536485
X-APPLE-STRUCTURED-LOCATION;VALUE=URI;X-ADDRESS=Quincy Municipal Airport 1300 Airport Drive Quincy FL 32352;X-APPLE-RADIUS=500;X-TITLE=1300 Airport Drive:geo:-84.5536485,30.5984033
END:VEVENT
BEGIN:VEVENT
DTSTART;TZID=America/New_York:20280712T110000
DTEND;TZID=America/New_York:20280712T123000
DTSTAMP:20260423T062833
CREATED:20251110T120809Z
LAST-MODIFIED:20260311T011529Z
UID:10005274-1847012400-1847017800@av8maps.com
SUMMARY:Every Wednesday Dawg Flight Grill (2J9)
DESCRIPTION:We grill burgers and dogs on Wednesday’s \nNeed additional info please contact Manager Lee Woodruff 1-850-363-2083
URL:https://av8maps.com/event/every-wednesday-dawg-flight-grill-2j9/2028-07-12/
LOCATION:Quincy Municipal Airport\, 1300 Airport Drive\, Quincy\, FL\, 32352
ATTACH;FMTTYPE=image/png:https://av8maps.com/wp-content/uploads/2025/11/Quincy-Municipal-Airport-2J9-e1769478755190.png
GEO:30.5984033;-84.5536485
X-APPLE-STRUCTURED-LOCATION;VALUE=URI;X-ADDRESS=Quincy Municipal Airport 1300 Airport Drive Quincy FL 32352;X-APPLE-RADIUS=500;X-TITLE=1300 Airport Drive:geo:-84.5536485,30.5984033
END:VEVENT
BEGIN:VEVENT
DTSTART;TZID=America/New_York:20280719T110000
DTEND;TZID=America/New_York:20280719T123000
DTSTAMP:20260423T062833
CREATED:20251110T120809Z
LAST-MODIFIED:20260311T011529Z
UID:10005275-1847617200-1847622600@av8maps.com
SUMMARY:Every Wednesday Dawg Flight Grill (2J9)
DESCRIPTION:We grill burgers and dogs on Wednesday’s \nNeed additional info please contact Manager Lee Woodruff 1-850-363-2083
URL:https://av8maps.com/event/every-wednesday-dawg-flight-grill-2j9/2028-07-19/
LOCATION:Quincy Municipal Airport\, 1300 Airport Drive\, Quincy\, FL\, 32352
ATTACH;FMTTYPE=image/png:https://av8maps.com/wp-content/uploads/2025/11/Quincy-Municipal-Airport-2J9-e1769478755190.png
GEO:30.5984033;-84.5536485
X-APPLE-STRUCTURED-LOCATION;VALUE=URI;X-ADDRESS=Quincy Municipal Airport 1300 Airport Drive Quincy FL 32352;X-APPLE-RADIUS=500;X-TITLE=1300 Airport Drive:geo:-84.5536485,30.5984033
END:VEVENT
BEGIN:VEVENT
DTSTART;TZID=America/New_York:20280726T110000
DTEND;TZID=America/New_York:20280726T123000
DTSTAMP:20260423T062833
CREATED:20251110T120809Z
LAST-MODIFIED:20260311T011529Z
UID:10005276-1848222000-1848227400@av8maps.com
SUMMARY:Every Wednesday Dawg Flight Grill (2J9)
DESCRIPTION:We grill burgers and dogs on Wednesday’s \nNeed additional info please contact Manager Lee Woodruff 1-850-363-2083
URL:https://av8maps.com/event/every-wednesday-dawg-flight-grill-2j9/2028-07-26/
LOCATION:Quincy Municipal Airport\, 1300 Airport Drive\, Quincy\, FL\, 32352
ATTACH;FMTTYPE=image/png:https://av8maps.com/wp-content/uploads/2025/11/Quincy-Municipal-Airport-2J9-e1769478755190.png
GEO:30.5984033;-84.5536485
X-APPLE-STRUCTURED-LOCATION;VALUE=URI;X-ADDRESS=Quincy Municipal Airport 1300 Airport Drive Quincy FL 32352;X-APPLE-RADIUS=500;X-TITLE=1300 Airport Drive:geo:-84.5536485,30.5984033
END:VEVENT
BEGIN:VEVENT
DTSTART;TZID=America/New_York:20280802T110000
DTEND;TZID=America/New_York:20280802T123000
DTSTAMP:20260423T062833
CREATED:20251110T120809Z
LAST-MODIFIED:20260311T011529Z
UID:10005277-1848826800-1848832200@av8maps.com
SUMMARY:Every Wednesday Dawg Flight Grill (2J9)
DESCRIPTION:We grill burgers and dogs on Wednesday’s \nNeed additional info please contact Manager Lee Woodruff 1-850-363-2083
URL:https://av8maps.com/event/every-wednesday-dawg-flight-grill-2j9/2028-08-02/
LOCATION:Quincy Municipal Airport\, 1300 Airport Drive\, Quincy\, FL\, 32352
ATTACH;FMTTYPE=image/png:https://av8maps.com/wp-content/uploads/2025/11/Quincy-Municipal-Airport-2J9-e1769478755190.png
GEO:30.5984033;-84.5536485
X-APPLE-STRUCTURED-LOCATION;VALUE=URI;X-ADDRESS=Quincy Municipal Airport 1300 Airport Drive Quincy FL 32352;X-APPLE-RADIUS=500;X-TITLE=1300 Airport Drive:geo:-84.5536485,30.5984033
END:VEVENT
BEGIN:VEVENT
DTSTART;TZID=America/New_York:20280809T110000
DTEND;TZID=America/New_York:20280809T123000
DTSTAMP:20260423T062833
CREATED:20251110T120809Z
LAST-MODIFIED:20260311T011529Z
UID:10005278-1849431600-1849437000@av8maps.com
SUMMARY:Every Wednesday Dawg Flight Grill (2J9)
DESCRIPTION:We grill burgers and dogs on Wednesday’s \nNeed additional info please contact Manager Lee Woodruff 1-850-363-2083
URL:https://av8maps.com/event/every-wednesday-dawg-flight-grill-2j9/2028-08-09/
LOCATION:Quincy Municipal Airport\, 1300 Airport Drive\, Quincy\, FL\, 32352
ATTACH;FMTTYPE=image/png:https://av8maps.com/wp-content/uploads/2025/11/Quincy-Municipal-Airport-2J9-e1769478755190.png
GEO:30.5984033;-84.5536485
X-APPLE-STRUCTURED-LOCATION;VALUE=URI;X-ADDRESS=Quincy Municipal Airport 1300 Airport Drive Quincy FL 32352;X-APPLE-RADIUS=500;X-TITLE=1300 Airport Drive:geo:-84.5536485,30.5984033
END:VEVENT
BEGIN:VEVENT
DTSTART;TZID=America/New_York:20280816T110000
DTEND;TZID=America/New_York:20280816T123000
DTSTAMP:20260423T062833
CREATED:20251110T120809Z
LAST-MODIFIED:20260311T011529Z
UID:10005279-1850036400-1850041800@av8maps.com
SUMMARY:Every Wednesday Dawg Flight Grill (2J9)
DESCRIPTION:We grill burgers and dogs on Wednesday’s \nNeed additional info please contact Manager Lee Woodruff 1-850-363-2083
URL:https://av8maps.com/event/every-wednesday-dawg-flight-grill-2j9/2028-08-16/
LOCATION:Quincy Municipal Airport\, 1300 Airport Drive\, Quincy\, FL\, 32352
ATTACH;FMTTYPE=image/png:https://av8maps.com/wp-content/uploads/2025/11/Quincy-Municipal-Airport-2J9-e1769478755190.png
GEO:30.5984033;-84.5536485
X-APPLE-STRUCTURED-LOCATION;VALUE=URI;X-ADDRESS=Quincy Municipal Airport 1300 Airport Drive Quincy FL 32352;X-APPLE-RADIUS=500;X-TITLE=1300 Airport Drive:geo:-84.5536485,30.5984033
END:VEVENT
BEGIN:VEVENT
DTSTART;TZID=America/New_York:20280823T110000
DTEND;TZID=America/New_York:20280823T123000
DTSTAMP:20260423T062833
CREATED:20251110T120809Z
LAST-MODIFIED:20260311T011529Z
UID:10005280-1850641200-1850646600@av8maps.com
SUMMARY:Every Wednesday Dawg Flight Grill (2J9)
DESCRIPTION:We grill burgers and dogs on Wednesday’s \nNeed additional info please contact Manager Lee Woodruff 1-850-363-2083
URL:https://av8maps.com/event/every-wednesday-dawg-flight-grill-2j9/2028-08-23/
LOCATION:Quincy Municipal Airport\, 1300 Airport Drive\, Quincy\, FL\, 32352
ATTACH;FMTTYPE=image/png:https://av8maps.com/wp-content/uploads/2025/11/Quincy-Municipal-Airport-2J9-e1769478755190.png
GEO:30.5984033;-84.5536485
X-APPLE-STRUCTURED-LOCATION;VALUE=URI;X-ADDRESS=Quincy Municipal Airport 1300 Airport Drive Quincy FL 32352;X-APPLE-RADIUS=500;X-TITLE=1300 Airport Drive:geo:-84.5536485,30.5984033
END:VEVENT
BEGIN:VEVENT
DTSTART;TZID=America/New_York:20280830T110000
DTEND;TZID=America/New_York:20280830T123000
DTSTAMP:20260423T062833
CREATED:20251110T120809Z
LAST-MODIFIED:20260311T011529Z
UID:10005281-1851246000-1851251400@av8maps.com
SUMMARY:Every Wednesday Dawg Flight Grill (2J9)
DESCRIPTION:We grill burgers and dogs on Wednesday’s \nNeed additional info please contact Manager Lee Woodruff 1-850-363-2083
URL:https://av8maps.com/event/every-wednesday-dawg-flight-grill-2j9/2028-08-30/
LOCATION:Quincy Municipal Airport\, 1300 Airport Drive\, Quincy\, FL\, 32352
ATTACH;FMTTYPE=image/png:https://av8maps.com/wp-content/uploads/2025/11/Quincy-Municipal-Airport-2J9-e1769478755190.png
GEO:30.5984033;-84.5536485
X-APPLE-STRUCTURED-LOCATION;VALUE=URI;X-ADDRESS=Quincy Municipal Airport 1300 Airport Drive Quincy FL 32352;X-APPLE-RADIUS=500;X-TITLE=1300 Airport Drive:geo:-84.5536485,30.5984033
END:VEVENT
BEGIN:VEVENT
DTSTART;TZID=America/New_York:20280906T110000
DTEND;TZID=America/New_York:20280906T123000
DTSTAMP:20260423T062833
CREATED:20251110T120809Z
LAST-MODIFIED:20260311T011529Z
UID:10005282-1851850800-1851856200@av8maps.com
SUMMARY:Every Wednesday Dawg Flight Grill (2J9)
DESCRIPTION:We grill burgers and dogs on Wednesday’s \nNeed additional info please contact Manager Lee Woodruff 1-850-363-2083
URL:https://av8maps.com/event/every-wednesday-dawg-flight-grill-2j9/2028-09-06/
LOCATION:Quincy Municipal Airport\, 1300 Airport Drive\, Quincy\, FL\, 32352
ATTACH;FMTTYPE=image/png:https://av8maps.com/wp-content/uploads/2025/11/Quincy-Municipal-Airport-2J9-e1769478755190.png
GEO:30.5984033;-84.5536485
X-APPLE-STRUCTURED-LOCATION;VALUE=URI;X-ADDRESS=Quincy Municipal Airport 1300 Airport Drive Quincy FL 32352;X-APPLE-RADIUS=500;X-TITLE=1300 Airport Drive:geo:-84.5536485,30.5984033
END:VEVENT
BEGIN:VEVENT
DTSTART;TZID=America/New_York:20280913T110000
DTEND;TZID=America/New_York:20280913T123000
DTSTAMP:20260423T062833
CREATED:20251110T120809Z
LAST-MODIFIED:20260311T011529Z
UID:10005283-1852455600-1852461000@av8maps.com
SUMMARY:Every Wednesday Dawg Flight Grill (2J9)
DESCRIPTION:We grill burgers and dogs on Wednesday’s \nNeed additional info please contact Manager Lee Woodruff 1-850-363-2083
URL:https://av8maps.com/event/every-wednesday-dawg-flight-grill-2j9/2028-09-13/
LOCATION:Quincy Municipal Airport\, 1300 Airport Drive\, Quincy\, FL\, 32352
ATTACH;FMTTYPE=image/png:https://av8maps.com/wp-content/uploads/2025/11/Quincy-Municipal-Airport-2J9-e1769478755190.png
GEO:30.5984033;-84.5536485
X-APPLE-STRUCTURED-LOCATION;VALUE=URI;X-ADDRESS=Quincy Municipal Airport 1300 Airport Drive Quincy FL 32352;X-APPLE-RADIUS=500;X-TITLE=1300 Airport Drive:geo:-84.5536485,30.5984033
END:VEVENT
BEGIN:VEVENT
DTSTART;TZID=America/New_York:20280920T110000
DTEND;TZID=America/New_York:20280920T123000
DTSTAMP:20260423T062833
CREATED:20251110T120809Z
LAST-MODIFIED:20260311T011529Z
UID:10005284-1853060400-1853065800@av8maps.com
SUMMARY:Every Wednesday Dawg Flight Grill (2J9)
DESCRIPTION:We grill burgers and dogs on Wednesday’s \nNeed additional info please contact Manager Lee Woodruff 1-850-363-2083
URL:https://av8maps.com/event/every-wednesday-dawg-flight-grill-2j9/2028-09-20/
LOCATION:Quincy Municipal Airport\, 1300 Airport Drive\, Quincy\, FL\, 32352
ATTACH;FMTTYPE=image/png:https://av8maps.com/wp-content/uploads/2025/11/Quincy-Municipal-Airport-2J9-e1769478755190.png
GEO:30.5984033;-84.5536485
X-APPLE-STRUCTURED-LOCATION;VALUE=URI;X-ADDRESS=Quincy Municipal Airport 1300 Airport Drive Quincy FL 32352;X-APPLE-RADIUS=500;X-TITLE=1300 Airport Drive:geo:-84.5536485,30.5984033
END:VEVENT
BEGIN:VEVENT
DTSTART;TZID=America/New_York:20280927T110000
DTEND;TZID=America/New_York:20280927T123000
DTSTAMP:20260423T062833
CREATED:20251110T120809Z
LAST-MODIFIED:20260311T011529Z
UID:10005285-1853665200-1853670600@av8maps.com
SUMMARY:Every Wednesday Dawg Flight Grill (2J9)
DESCRIPTION:We grill burgers and dogs on Wednesday’s \nNeed additional info please contact Manager Lee Woodruff 1-850-363-2083
URL:https://av8maps.com/event/every-wednesday-dawg-flight-grill-2j9/2028-09-27/
LOCATION:Quincy Municipal Airport\, 1300 Airport Drive\, Quincy\, FL\, 32352
ATTACH;FMTTYPE=image/png:https://av8maps.com/wp-content/uploads/2025/11/Quincy-Municipal-Airport-2J9-e1769478755190.png
GEO:30.5984033;-84.5536485
X-APPLE-STRUCTURED-LOCATION;VALUE=URI;X-ADDRESS=Quincy Municipal Airport 1300 Airport Drive Quincy FL 32352;X-APPLE-RADIUS=500;X-TITLE=1300 Airport Drive:geo:-84.5536485,30.5984033
END:VEVENT
BEGIN:VEVENT
DTSTART;TZID=America/New_York:20281004T110000
DTEND;TZID=America/New_York:20281004T123000
DTSTAMP:20260423T062833
CREATED:20251110T120809Z
LAST-MODIFIED:20260311T011529Z
UID:10005286-1854270000-1854275400@av8maps.com
SUMMARY:Every Wednesday Dawg Flight Grill (2J9)
DESCRIPTION:We grill burgers and dogs on Wednesday’s \nNeed additional info please contact Manager Lee Woodruff 1-850-363-2083
URL:https://av8maps.com/event/every-wednesday-dawg-flight-grill-2j9/2028-10-04/
LOCATION:Quincy Municipal Airport\, 1300 Airport Drive\, Quincy\, FL\, 32352
ATTACH;FMTTYPE=image/png:https://av8maps.com/wp-content/uploads/2025/11/Quincy-Municipal-Airport-2J9-e1769478755190.png
GEO:30.5984033;-84.5536485
X-APPLE-STRUCTURED-LOCATION;VALUE=URI;X-ADDRESS=Quincy Municipal Airport 1300 Airport Drive Quincy FL 32352;X-APPLE-RADIUS=500;X-TITLE=1300 Airport Drive:geo:-84.5536485,30.5984033
END:VEVENT
END:VCALENDAR